PDS_VERSION_ID = PDS3
/* FILE DATA ELEMENTS */
RECORD_TYPE = STREAM
/* POINTERS TO DATA OBJECTS */
^COMPRESSED_FILE = "H2719_0001_GR3.JP2"
/* IDENTIFICATION DATA ELEMENTS */
DATA_SET_ID = "MEX-M-HRSC-5-REFDR-MAPPROJECTED-V3.0"
DATA_SET_NAME = "MARS EXPRESS HRSC MAP PROJECTED REFDR V3.0"
DETECTOR_ID = MEX_HRSC_GREEN
EVENT_TYPE = "MARS-TERMINATOR-VARIABLE-Eo-At"
INSTRUMENT_HOST_ID = MEX
INSTRUMENT_HOST_NAME = "MARS EXPRESS"
INSTRUMENT_ID = HRSC
INSTRUMENT_NAME = "HIGH RESOLUTION STEREO CAMERA"
MISSION_NAME = "MARS EXPRESS"
MISSION_PHASE_NAME = ME_Phase_2
PROCESSING_LEVEL_ID = 3
PRODUCT_CREATION_TIME = 2016-04-08T11:40:40.000Z
PRODUCT_ID = "H2719_0001_GR3.JP2"
RELEASE_ID = 0034
REVISION_ID = 0000
/* QUALITY DATA ELEMENTS */
DATA_QUALITY_ID = 1
DATA_QUALITY_DESC = "Data calculated based on original SPICE kernels"
/* TIME DATA ELEMENTS */
SPACECRAFT_CLOCK_START_COUNT = "1/0088738588.08251"
SPACECRAFT_CLOCK_STOP_COUNT = "1/0088739791.21086"
START_TIME = 2006-02-23T01:36:33.865Z
STOP_TIME = 2006-02-23T01:46:49.588Z
/* ORBITAL DATA ELEMENTS */
ASCENDING_NODE_LONGITUDE = 171.24
MAXIMUM_RESOLUTION = 304.2
FOOTPRINT_POINT_LATITUDE = (-6.83907,-6.76364,-6.68742,-6.61046, -6.5327,-6.45408,-6.3746,-6.29413, -6.21272,-6.13036,-6.04714,-5.96316, -5.87832,-5.79242,-5.70557,-5.61772, -5.52886,-5.43892,-5.34795,-5.25597, -5.16282,-5.06829,-4.97248,-4.87564, -4.72809,-4.21581,-3.73846,-3.26476, -2.79501,-2.32888,-1.98128,-1.41028, -0.954682,-0.50409,-0.0571227,0.385921, 0.825332,1.37057,1.80264,2.23097, 2.65649,3.39348,3.81003,4.2232,4.63416, 5.04176,5.44651,5.84804,6.18705,6.10817 ,5.95821,5.73274,5.58324,5.43497, 5.28752,5.14087,4.99455,4.84891,4.66744 ,4.52275,4.37958,4.27085,4.1275,3.98363 ,3.84033,3.73284,3.58997,3.44745, 3.30495,3.16256,3.02031,2.87792,2.73522 ,2.66391,2.59257,2.42513,2.09156, 1.75477,1.41471,1.07137,0.724504, 0.286795,-0.0673514,-0.425553,-0.788259 ,-1.15248,-1.61534,-1.989,-2.36656, -2.74811,-3.1343,-3.62218,-4.01647, -4.41518,-4.81847,-5.22593,-5.63799, -6.05532,-6.58214,-6.83907)
FOOTPRINT_POINT_LONGITUDE = (66.4979,67.0195,67.5388,68.0559, 68.5715,69.0859,69.5992,70.1113,70.6229 ,71.1341,71.6444,72.1535,72.6618, 73.1701,73.6783,74.1865,74.695,75.2039, 75.7132,76.223,76.7341,77.2467,77.7606, 78.2755,79.0504,79.1851,79.152,79.1193, 79.0864,79.0536,79.0297,78.9849,78.9528 ,78.9188,78.8846,78.8498,78.8146, 78.7716,78.7366,78.701,78.6658,78.604, 78.5683,78.5321,78.4968,78.461,78.4252, 78.3891,78.0396,77.7182,77.086,76.1405, 75.5131,74.8889,74.2673,73.6475,73.0289 ,72.4115,71.6411,71.0255,70.4101, 69.9491,69.3337,68.7175,68.0999,67.6366 ,67.0183,66.3988,65.7781,65.1559, 64.5317,63.9049,63.2755,62.9592,62.6422 ,62.3056,62.4584,62.6109,62.7632,62.915 ,63.067,63.2538,63.4031,63.554,63.7079, 63.8534,64.0434,64.1916,64.3396,64.4875 ,64.6372,64.8217,64.9667,65.1119, 65.2577,65.4025,65.5473,65.6942,65.873, 66.4979)
ORBIT_NUMBER = 2719
ORBITAL_ECCENTRICITY = 0.571
ORBITAL_INCLINATION = 86.62
ORBITAL_SEMIMAJOR_AXIS = 8552.12
PERIAPSIS_ALTITUDE = 284.61
PERIAPSIS_ARGUMENT_ANGLE = 240.77
PERIAPSIS_TIME = 2006-02-23T00:49:36.000Z
SPACECRAFT_ORIENTATION = (0.0,-1.0,0.0)
^MEX_ORIENTATION_DESC = "MEX_ORIENTATION_DESC.TXT"
SPACECRAFT_POINTING_MODE = NADIR
^MEX_POINTING_DESC = "MEX_POINTING_DESC.TXT"
RIGHT_ASCENSION = -1e+32
DECLINATION = -1e+32
OFFSET_ANGLE = -1e+32
SPACECRAFT_SOLAR_DISTANCE = 2.38632e+08
TARGET_NAME = MARS
/* CAMERA DATA ELEMENTS */
DETECTOR_TEMPERATURE = 21.429
FOCAL_PLANE_TEMPERATURE = 9.195
INST_CMPRS_NAME = "DISCRETE COSINE TRANSFORMATION (DCT)"
INST_CMPRS_RATIO = 10.0038
INST_CMPRS_QUALITY = 0
INST_CMPRS_QUANTZ_TBL_ID = 0
INSTRUMENT_TEMPERATURE = 15.9237
LENS_TEMPERATURE = 10.0106
MACROPIXEL_SIZE = 2
MISSING_FRAMES = 0
PIXEL_SUBSAMPLING_FLAG = N
SIGNAL_CHAIN_ID = 2
/* RADIOMETRIC DATA ELEMENTS */
BANDWIDTH = 88.0
CENTER_FILTER_WAVELENGTH = 538.0
RADIANCE_OFFSET = 0.609981
RADIANCE_SCALING_FACTOR = 0.00506017
REFLECTANCE_SCALING_FACTOR = 0.000248102
MEX:REFLECTANCE_OFFSET = 0.0299075
/* IMAGE OBJECT DEFINITIONS */
OBJECT = IMAGE
  INTERCHANGE_FORMAT = BINARY
  LINES = 2054
  LINE_SAMPLES = 2710
  SAMPLE_TYPE = UNSIGNED_INTEGER
  SAMPLE_BITS = 8
  BANDS = 1
  BAND_STORAGE_TYPE = BAND_SEQUENTIAL
  MAXIMUM = 255
  MEAN = 98.3222
  MINIMUM = 1
  STANDARD_DEVIATION = 40.8491
END_OBJECT = IMAGE
/* MAP OBJECT DEFINITIONS */
OBJECT = IMAGE_MAP_PROJECTION
  ^DATA_SET_MAP_PROJECTION_CATALOG= "DSMAP.CAT"
  A_AXIS_RADIUS = 3396.0
  B_AXIS_RADIUS = 3396.0
  C_AXIS_RADIUS = 3396.0
  CENTER_LATITUDE = 0.0
  CENTER_LONGITUDE = 71.0
  COORDINATE_SYSTEM_NAME = PLANETOGRAPHIC
  COORDINATE_SYSTEM_TYPE = "BODY-FIXED ROTATING"
  EASTERNMOST_LONGITUDE = 79.18510000000001
  FIRST_STANDARD_PARALLEL = "N/A"
  LINE_FIRST_PIXEL = 1
  LINE_LAST_PIXEL = 2054
  LINE_PROJECTION_OFFSET = 980.25
  MAP_PROJECTION_ROTATION = 0.0
  MAP_PROJECTION_TYPE = SINUSOIDAL
  MAP_RESOLUTION = 148.178450966667
  MAP_SCALE = 0.4
  MAXIMUM_LATITUDE = 6.18705
  MINIMUM_LATITUDE = -6.83907
  POSITIVE_LONGITUDE_DIRECTION = EAST
  REFERENCE_LATITUDE = "N/A"
  REFERENCE_LONGITUDE = "N/A"
  SAMPLE_FIRST_PIXEL = 1
  SAMPLE_LAST_PIXEL = 2710
  SAMPLE_PROJECTION_OFFSET = 1406.75
  SECOND_STANDARD_PARALLEL = "N/A"
  WESTERNMOST_LONGITUDE = 62.3056
END_OBJECT = IMAGE_MAP_PROJECTION
/* The JPEG2000 image data file associated with this label. */
OBJECT = COMPRESSED_FILE
  FILE_NAME = "H2719_0001_GR3.JP2"
  RECORD_TYPE = UNDEFINED
  FILE_RECORDS = UNK
  ENCODING_TYPE = "JP2"
  INTERCHANGE_FORMAT = BINARY
  UNCOMPRESSED_FILE_NAME = "H2719_0001_GR3.IMG"
  REQUIRED_STORAGE_BYTES = "5588020"
  ^DESCRIPTION = "JP2INFO.TXT"
END_OBJECT = COMPRESSED_FILE
END
