PDS_VERSION_ID = PDS3
/* FILE DATA ELEMENTS */
RECORD_TYPE = STREAM
/* POINTERS TO DATA OBJECTS */
^COMPRESSED_FILE = "H2723_0000_IR3.JP2"
/* IDENTIFICATION DATA ELEMENTS */
DATA_SET_ID = "MEX-M-HRSC-5-REFDR-MAPPROJECTED-V3.0"
DATA_SET_NAME = "MARS EXPRESS HRSC MAP PROJECTED REFDR V3.0"
DETECTOR_ID = MEX_HRSC_IR
EVENT_TYPE = "MARS-TERMINATOR-VARIABLE-At"
INSTRUMENT_HOST_ID = MEX
INSTRUMENT_HOST_NAME = "MARS EXPRESS"
INSTRUMENT_ID = HRSC
INSTRUMENT_NAME = "HIGH RESOLUTION STEREO CAMERA"
MISSION_NAME = "MARS EXPRESS"
MISSION_PHASE_NAME = ME_Phase_2
PROCESSING_LEVEL_ID = 3
PRODUCT_CREATION_TIME = 2016-04-08T11:40:40.000Z
PRODUCT_ID = "H2723_0000_IR3.JP2"
RELEASE_ID = 0034
REVISION_ID = 0000
/* QUALITY DATA ELEMENTS */
DATA_QUALITY_ID = 1
DATA_QUALITY_DESC = "Data calculated based on original SPICE kernels"
/* TIME DATA ELEMENTS */
SPACECRAFT_CLOCK_START_COUNT = "1/0088833302.09041"
SPACECRAFT_CLOCK_STOP_COUNT = "1/0088834400.06848"
START_TIME = 2006-02-24T03:55:21.140Z
STOP_TIME = 2006-02-24T04:02:52.786Z
/* ORBITAL DATA ELEMENTS */
ASCENDING_NODE_LONGITUDE = 171.15
MAXIMUM_RESOLUTION = 128.6
FOOTPRINT_POINT_LATITUDE = (-69.0734,-69.1628,-69.228,-69.3148, -68.6789,-67.9156,-67.1383,-66.3484, -65.5449,-65.1358,-64.7235,-64.3064, -63.8857,-63.4611,-63.0313,-62.5997, -62.1619,-61.7201,-61.2738,-60.8246, -60.3666,-59.911,-59.4464,-58.9781, -58.5039,-58.0248,-57.5419,-57.0535, -56.559,-56.0596,-55.5556,-55.0463, -54.5316,-54.0101,-53.4836,-52.9516, -52.414,-51.8706,-51.3301,-50.791, -50.256,-49.4548,-48.6631,-47.8748, -47.354,-46.8358,-46.3205,-45.8034, -45.6207,-45.6216,-45.6202,-45.5907, -45.5699,-45.5432,-45.5035,-45.4706, -45.9767,-46.4849,-46.9956,-47.5093, -48.0253,-48.8062,-49.3276,-49.8534, -50.3813,-50.9124,-51.4456,-51.9816, -52.7814,-53.3069,-53.8238,-54.3389, -54.8475,-55.3516,-55.8498,-56.3434, -56.8315,-57.3148,-57.793,-58.2667, -58.7328,-59.4285,-59.8848,-60.3375, -60.7851,-61.2294,-61.6688,-62.0984, -62.7478,-63.172,-63.5938,-64.0088, -64.4194,-64.8253,-65.6235,-66.4079, -67.1823,-67.941,-68.6897,-69.0734)
FOOTPRINT_POINT_LONGITUDE = (38.0849,39.5816,40.8829,43.1639, 43.7392,43.9581,44.164,44.3559,44.5355, 44.6228,44.707,44.7897,44.8694,44.9468, 45.0225,45.094,45.1654,45.2346,45.3012, 45.3645,45.4301,45.4876,45.547,45.6037, 45.6593,45.7131,45.7645,45.8146,45.8639 ,45.9108,45.9559,45.9996,46.0417, 46.0827,46.1219,46.1595,46.1956,46.2307 ,46.2631,46.2944,46.3231,46.3649, 46.4011,46.4352,46.4554,46.4742,46.4915 ,46.5098,45.6117,44.3921,43.4303, 42.2151,41.5761,41.0007,40.2337,39.6366 ,39.6386,39.6383,39.6359,39.6314, 39.6246,39.6106,39.5972,39.5819,39.5636 ,39.5427,39.5187,39.4915,39.446,39.4118 ,39.3736,39.334,39.2914,39.2463,39.198, 39.147,39.0929,39.0362,38.9763,38.9135, 38.8463,38.7424,38.6686,38.5917,38.5113 ,38.4282,38.3411,38.2483,38.1083, 38.0085,37.906,37.7983,37.6865,37.5704, 37.3245,37.062,36.7826,36.4829,36.1638, 38.0849)
ORBIT_NUMBER = 2723
ORBITAL_ECCENTRICITY = 0.571
ORBITAL_INCLINATION = 86.61
ORBITAL_SEMIMAJOR_AXIS = 8554.43
PERIAPSIS_ALTITUDE = 285.14
PERIAPSIS_ARGUMENT_ANGLE = 240.06
PERIAPSIS_TIME = 2006-02-24T03:42:38.000Z
SPACECRAFT_ORIENTATION = (0.0,-1.0,0.0)
^MEX_ORIENTATION_DESC = "MEX_ORIENTATION_DESC.TXT"
SPACECRAFT_POINTING_MODE = NADIR
^MEX_POINTING_DESC = "MEX_POINTING_DESC.TXT"
RIGHT_ASCENSION = -1e+32
DECLINATION = -1e+32
OFFSET_ANGLE = -1e+32
SPACECRAFT_SOLAR_DISTANCE = 2.38812e+08
TARGET_NAME = MARS
/* CAMERA DATA ELEMENTS */
DETECTOR_TEMPERATURE = 17.5549
FOCAL_PLANE_TEMPERATURE = 7.9716
INST_CMPRS_NAME = "DISCRETE COSINE TRANSFORMATION (DCT)"
INST_CMPRS_RATIO = 37.1353
INST_CMPRS_QUALITY = 0
INST_CMPRS_QUANTZ_TBL_ID = 0
INSTRUMENT_TEMPERATURE = 11.234
LENS_TEMPERATURE = 8.3794
MACROPIXEL_SIZE = 4
MISSING_FRAMES = 0
PIXEL_SUBSAMPLING_FLAG = N
SIGNAL_CHAIN_ID = 2
/* RADIOMETRIC DATA ELEMENTS */
BANDWIDTH = 81.0
CENTER_FILTER_WAVELENGTH = 955.5
RADIANCE_OFFSET = 0.0
RADIANCE_SCALING_FACTOR = 0.00211486
REFLECTANCE_SCALING_FACTOR = 0.00026021
MEX:REFLECTANCE_OFFSET = 0.0
/* IMAGE OBJECT DEFINITIONS */
OBJECT = IMAGE
  INTERCHANGE_FORMAT = BINARY
  LINES = 14056
  LINE_SAMPLES = 3435
  SAMPLE_TYPE = UNSIGNED_INTEGER
  SAMPLE_BITS = 8
  BANDS = 1
  BAND_STORAGE_TYPE = BAND_SEQUENTIAL
  MAXIMUM = 255
  MEAN = 88.6532
  MINIMUM = 1
  STANDARD_DEVIATION = 53.8043
END_OBJECT = IMAGE
/* MAP OBJECT DEFINITIONS */
OBJECT = IMAGE_MAP_PROJECTION
  ^DATA_SET_MAP_PROJECTION_CATALOG= "DSMAP.CAT"
  A_AXIS_RADIUS = 3396.0
  B_AXIS_RADIUS = 3396.0
  C_AXIS_RADIUS = 3396.0
  CENTER_LATITUDE = 0.0
  CENTER_LONGITUDE = 42.0
  COORDINATE_SYSTEM_NAME = PLANETOGRAPHIC
  COORDINATE_SYSTEM_TYPE = "BODY-FIXED ROTATING"
  EASTERNMOST_LONGITUDE = 46.5098
  FIRST_STANDARD_PARALLEL = "N/A"
  LINE_FIRST_PIXEL = 1
  LINE_LAST_PIXEL = 14056
  LINE_PROJECTION_OFFSET = -26978.375
  MAP_PROJECTION_ROTATION = 0.0
  MAP_PROJECTION_TYPE = SINUSOIDAL
  MAP_RESOLUTION = 592.713803866667
  MAP_SCALE = 0.1
  MAXIMUM_LATITUDE = -45.4706
  MINIMUM_LATITUDE = -69.31480000000001
  POSITIVE_LONGITUDE_DIRECTION = EAST
  REFERENCE_LATITUDE = "N/A"
  REFERENCE_LONGITUDE = "N/A"
  SAMPLE_FIRST_PIXEL = 1
  SAMPLE_LAST_PIXEL = 3435
  SAMPLE_PROJECTION_OFFSET = 1353.125
  SECOND_STANDARD_PARALLEL = "N/A"
  WESTERNMOST_LONGITUDE = 36.1638
END_OBJECT = IMAGE_MAP_PROJECTION
/* The JPEG2000 image data file associated with this label. */
OBJECT = COMPRESSED_FILE
  FILE_NAME = "H2723_0000_IR3.JP2"
  RECORD_TYPE = UNDEFINED
  FILE_RECORDS = UNK
  ENCODING_TYPE = "JP2"
  INTERCHANGE_FORMAT = BINARY
  UNCOMPRESSED_FILE_NAME = "H2723_0000_IR3.IMG"
  REQUIRED_STORAGE_BYTES = "48306405"
  ^DESCRIPTION = "JP2INFO.TXT"
END_OBJECT = COMPRESSED_FILE
END
