PDS_VERSION_ID = PDS3
/* FILE DATA ELEMENTS */
RECORD_TYPE = STREAM
/* POINTERS TO DATA OBJECTS */
^COMPRESSED_FILE = "H2726_0000_BL3.JP2"
/* IDENTIFICATION DATA ELEMENTS */
DATA_SET_ID = "MEX-M-HRSC-5-REFDR-MAPPROJECTED-V3.0"
DATA_SET_NAME = "MARS EXPRESS HRSC MAP PROJECTED REFDR V3.0"
DETECTOR_ID = MEX_HRSC_BLUE
EVENT_TYPE = "MARS-TERMINATOR-VARIABLE-At"
INSTRUMENT_HOST_ID = MEX
INSTRUMENT_HOST_NAME = "MARS EXPRESS"
INSTRUMENT_ID = HRSC
INSTRUMENT_NAME = "HIGH RESOLUTION STEREO CAMERA"
MISSION_NAME = "MARS EXPRESS"
MISSION_PHASE_NAME = ME_Phase_2
PROCESSING_LEVEL_ID = 3
PRODUCT_CREATION_TIME = 2016-04-08T11:40:40.000Z
PRODUCT_ID = "H2726_0000_BL3.JP2"
RELEASE_ID = 0034
REVISION_ID = 0000
/* QUALITY DATA ELEMENTS */
DATA_QUALITY_ID = 1
DATA_QUALITY_DESC = "Data calculated based on original SPICE kernels"
/* TIME DATA ELEMENTS */
SPACECRAFT_CLOCK_START_COUNT = "1/0088905999.08362"
SPACECRAFT_CLOCK_STOP_COUNT = "1/0088907394.15943"
START_TIME = 2006-02-25T00:08:54.365Z
STOP_TIME = 2006-02-25T00:19:38.792Z
/* ORBITAL DATA ELEMENTS */
ASCENDING_NODE_LONGITUDE = 171.09
MAXIMUM_RESOLUTION = 165.3
FOOTPRINT_POINT_LATITUDE = (-63.5949,-63.6795,-63.7521,-63.8127, -63.8565,-63.8909,-63.7172,-62.8232, -62.3692,-61.9118,-61.4503,-60.984, -60.5132,-60.0374,-59.557,-59.0726, -58.5838,-58.0892,-57.5897,-57.0859, -56.5764,-56.0621,-55.5414,-54.7519, -54.2263,-53.7063,-53.19,-52.6771, -52.1686,-51.6643,-51.1617,-50.6653, -50.1751,-49.6876,-49.204,-48.7242, -48.2499,-47.7789,-47.311,-46.8464, -46.3854,-45.9304,-45.4779,-44.5837, -43.7038,-42.8381,-41.9878,-41.356, -40.5271,-40.1881,-40.2305,-40.2823, -40.3185,-40.3346,-40.3509,-40.3638, -40.365,-40.3609,-40.5528,-41.3497, -42.1604,-42.986,-43.8248,-44.6794, -45.5491,-46.4341,-46.8822,-47.3348, -47.7912,-48.2519,-48.7158,-49.1838, -49.6568,-50.1344,-50.6155,-51.101, -51.5916,-52.0865,-52.5847,-53.0874, -53.5956,-54.1078,-54.6244,-55.1431, -55.6546,-56.1619,-56.6666,-57.1649, -57.6581,-58.1463,-58.6301,-59.109, -59.5809,-60.0512,-60.5169,-60.9784, -61.4352,-61.8877,-62.7799,-63.5949)
FOOTPRINT_POINT_LONGITUDE = (102.407,103.735,105.068,106.407,107.6, 108.798,110.5,110.659,110.732,110.807, 110.881,110.951,111.02,111.085,111.148, 111.211,111.273,111.332,111.388,111.445 ,111.499,111.552,111.599,111.672, 111.719,111.767,111.812,111.851,111.889 ,111.926,111.954,111.986,112.021, 112.052,112.081,112.108,112.138,112.165 ,112.189,112.211,112.231,112.255, 112.276,112.314,112.348,112.38,112.413, 112.429,112.452,111.962,111.123,109.863 ,108.689,108.018,107.094,105.832, 104.735,104.059,103.452,103.509,103.563 ,103.61,103.656,103.694,103.727,103.754 ,103.765,103.774,103.781,103.785,103.79 ,103.793,103.792,103.787,103.781, 103.773,103.759,103.743,103.727,103.708 ,103.682,103.654,103.623,103.584, 103.548,103.507,103.454,103.404,103.35, 103.295,103.234,103.17,103.113,103.042, 102.966,102.886,102.803,102.716,102.53, 102.407)
ORBIT_NUMBER = 2726
ORBITAL_ECCENTRICITY = 0.571
ORBITAL_INCLINATION = 86.62
ORBITAL_SEMIMAJOR_AXIS = 8553.01
PERIAPSIS_ALTITUDE = 284.94
PERIAPSIS_ARGUMENT_ANGLE = 239.54
PERIAPSIS_TIME = 2006-02-24T23:52:35.000Z
SPACECRAFT_ORIENTATION = (0.0,-1.0,0.0)
^MEX_ORIENTATION_DESC = "MEX_ORIENTATION_DESC.TXT"
SPACECRAFT_POINTING_MODE = NADIR
^MEX_POINTING_DESC = "MEX_POINTING_DESC.TXT"
RIGHT_ASCENSION = -1e+32
DECLINATION = -1e+32
OFFSET_ANGLE = -1e+32
SPACECRAFT_SOLAR_DISTANCE = 2.38946e+08
TARGET_NAME = MARS
/* CAMERA DATA ELEMENTS */
DETECTOR_TEMPERATURE = 18.1666
FOCAL_PLANE_TEMPERATURE = 7.7677
INST_CMPRS_NAME = "DISCRETE COSINE TRANSFORMATION (DCT)"
INST_CMPRS_RATIO = 24.4701
INST_CMPRS_QUALITY = 0
INST_CMPRS_QUANTZ_TBL_ID = 0
INSTRUMENT_TEMPERATURE = 11.0301
LENS_TEMPERATURE = 8.3794
MACROPIXEL_SIZE = 4
MISSING_FRAMES = 0
PIXEL_SUBSAMPLING_FLAG = N
SIGNAL_CHAIN_ID = 2
/* RADIOMETRIC DATA ELEMENTS */
BANDWIDTH = 76.0
CENTER_FILTER_WAVELENGTH = 444.0
RADIANCE_OFFSET = 0.0156578
RADIANCE_SCALING_FACTOR = 0.00201095
REFLECTANCE_SCALING_FACTOR = 0.000117967
MEX:REFLECTANCE_OFFSET = 0.000918524
/* IMAGE OBJECT DEFINITIONS */
OBJECT = IMAGE
  INTERCHANGE_FORMAT = BINARY
  LINES = 7038
  LINE_SAMPLES = 1962
  SAMPLE_TYPE = UNSIGNED_INTEGER
  SAMPLE_BITS = 8
  BANDS = 1
  BAND_STORAGE_TYPE = BAND_SEQUENTIAL
  MAXIMUM = 255
  MEAN = 117.457
  MINIMUM = 1
  STANDARD_DEVIATION = 48.5357
END_OBJECT = IMAGE
/* MAP OBJECT DEFINITIONS */
OBJECT = IMAGE_MAP_PROJECTION
  ^DATA_SET_MAP_PROJECTION_CATALOG= "DSMAP.CAT"
  A_AXIS_RADIUS = 3396.0
  B_AXIS_RADIUS = 3396.0
  C_AXIS_RADIUS = 3396.0
  CENTER_LATITUDE = 0.0
  CENTER_LONGITUDE = 108.0
  COORDINATE_SYSTEM_NAME = PLANETOGRAPHIC
  COORDINATE_SYSTEM_TYPE = "BODY-FIXED ROTATING"
  EASTERNMOST_LONGITUDE = 112.452
  FIRST_STANDARD_PARALLEL = "N/A"
  LINE_FIRST_PIXEL = 1
  LINE_LAST_PIXEL = 7038
  LINE_PROJECTION_OFFSET = -11916.125
  MAP_PROJECTION_ROTATION = 0.0
  MAP_PROJECTION_TYPE = SINUSOIDAL
  MAP_RESOLUTION = 296.356901933333
  MAP_SCALE = 0.2
  MAXIMUM_LATITUDE = -40.1881
  MINIMUM_LATITUDE = -63.8909
  POSITIVE_LONGITUDE_DIRECTION = EAST
  REFERENCE_LATITUDE = "N/A"
  REFERENCE_LONGITUDE = "N/A"
  SAMPLE_FIRST_PIXEL = 1
  SAMPLE_LAST_PIXEL = 1962
  SAMPLE_PROJECTION_OFFSET = 986.375
  SECOND_STANDARD_PARALLEL = "N/A"
  WESTERNMOST_LONGITUDE = 102.407
END_OBJECT = IMAGE_MAP_PROJECTION
/* The JPEG2000 image data file associated with this label. */
OBJECT = COMPRESSED_FILE
  FILE_NAME = "H2726_0000_BL3.JP2"
  RECORD_TYPE = UNDEFINED
  FILE_RECORDS = UNK
  ENCODING_TYPE = "JP2"
  INTERCHANGE_FORMAT = BINARY
  UNCOMPRESSED_FILE_NAME = "H2726_0000_BL3.IMG"
  REQUIRED_STORAGE_BYTES = "13828176"
  ^DESCRIPTION = "JP2INFO.TXT"
END_OBJECT = COMPRESSED_FILE
END
