PDS_VERSION_ID = PDS3
/* FILE DATA ELEMENTS */
RECORD_TYPE = STREAM
/* POINTERS TO DATA OBJECTS */
^COMPRESSED_FILE = "H2726_0001_ND3.JP2"
/* IDENTIFICATION DATA ELEMENTS */
DATA_SET_ID = "MEX-M-HRSC-5-REFDR-MAPPROJECTED-V3.0"
DATA_SET_NAME = "MARS EXPRESS HRSC MAP PROJECTED REFDR V3.0"
DETECTOR_ID = MEX_HRSC_NADIR
EVENT_TYPE = "MARS-TERMINATOR-VARIABLE-At"
INSTRUMENT_HOST_ID = MEX
INSTRUMENT_HOST_NAME = "MARS EXPRESS"
INSTRUMENT_ID = HRSC
INSTRUMENT_NAME = "HIGH RESOLUTION STEREO CAMERA"
MISSION_NAME = "MARS EXPRESS"
MISSION_PHASE_NAME = ME_Phase_2
PROCESSING_LEVEL_ID = 3
PRODUCT_CREATION_TIME = 2016-04-08T11:40:40.000Z
PRODUCT_ID = "H2726_0001_ND3.JP2"
RELEASE_ID = 0034
REVISION_ID = 0000
/* QUALITY DATA ELEMENTS */
DATA_QUALITY_ID = 1
DATA_QUALITY_DESC = "Data calculated based on original SPICE kernels"
/* TIME DATA ELEMENTS */
SPACECRAFT_CLOCK_START_COUNT = "1/0088908684.08267"
SPACECRAFT_CLOCK_STOP_COUNT = "1/0088909293.02728"
START_TIME = 2006-02-25T00:51:29.799Z
STOP_TIME = 2006-02-25T01:01:36.794Z
/* ORBITAL DATA ELEMENTS */
ASCENDING_NODE_LONGITUDE = 171.09
MAXIMUM_RESOLUTION = 192.1
FOOTPRINT_POINT_LATITUDE = (-1.88685,-1.80602,-1.72536,-1.56448, -1.40413,-1.24433,-1.08512,-0.926369, -0.767914,-0.609652,-0.451519,-0.293686 ,-0.136289,0.0209093,0.217423,0.374504, 0.531465,0.688577,0.845911,1.00325, 1.16065,1.31848,1.47684,1.63546,1.7943, 1.87385,1.95351,2.36173,2.70828,3.05229 ,3.39398,4.07048,4.73745,5.39539, 6.04405,6.68454,7.31678,7.9407,8.32718, 8.93849,9.54256,10.0684,9.96469,9.85986 ,9.75489,9.64976,9.54438,9.43884, 9.33283,9.22676,9.12047,9.01407,8.90778 ,8.80124,8.69438,8.5873,8.42595,8.31816 ,8.20988,8.10152,7.99301,7.88413, 7.77491,7.66532,7.55537,7.38983,7.22368 ,7.0568,6.88878,6.77595,6.60679,6.49335 ,6.32231,6.20793,6.09286,5.97726, 5.86157,5.74475,5.62747,5.45177,5.33373 ,5.21187,5.09274,4.97281,4.79418, 4.67243,4.55032,4.28265,3.75811,3.105, 2.68375,2.13024,1.62778,1.11689, 0.598279,0.0678156,-0.469973,-1.01822, -1.78975,-1.88685)
FOOTPRINT_POINT_LONGITUDE = (95.1994,95.5301,95.86,96.5173,97.1715, 97.823,98.4722,99.1199,99.7665,100.412, 101.056,101.7,102.343,102.985,103.788, 104.43,105.073,105.717,106.363,107.01, 107.658,108.31,108.964,109.621,110.28, 110.611,110.943,111.165,111.141,111.116 ,111.092,111.045,110.997,110.948, 110.896,110.847,110.798,110.749,110.72, 110.671,110.624,110.579,110.191,109.8, 109.411,109.023,108.637,108.252,107.866 ,107.483,107.101,106.719,106.341, 105.963,105.585,105.209,104.645,104.271 ,103.895,103.521,103.149,102.776, 102.405,102.033,101.661,101.104,100.547 ,99.9904,99.4338,99.0624,98.5064, 98.1353,97.5778,97.2062,96.8337,96.4608 ,96.0884,95.7142,95.3395,94.7795, 94.4048,94.0212,93.6449,93.2671,92.7046 ,92.3234,91.9419,91.532,91.8225,92.1807 ,92.4147,92.7082,92.965,93.2224,93.4835 ,93.7369,93.9969,94.2552,94.6068, 95.1994)
ORBIT_NUMBER = 2726
ORBITAL_ECCENTRICITY = 0.571
ORBITAL_INCLINATION = 86.62
ORBITAL_SEMIMAJOR_AXIS = 8553.01
PERIAPSIS_ALTITUDE = 284.94
PERIAPSIS_ARGUMENT_ANGLE = 239.54
PERIAPSIS_TIME = 2006-02-24T23:52:35.000Z
SPACECRAFT_ORIENTATION = (0.0,-1.0,0.0)
^MEX_ORIENTATION_DESC = "MEX_ORIENTATION_DESC.TXT"
SPACECRAFT_POINTING_MODE = NADIR
^MEX_POINTING_DESC = "MEX_POINTING_DESC.TXT"
RIGHT_ASCENSION = -1e+32
DECLINATION = -1e+32
OFFSET_ANGLE = -1e+32
SPACECRAFT_SOLAR_DISTANCE = 2.38946e+08
TARGET_NAME = MARS
/* CAMERA DATA ELEMENTS */
DETECTOR_TEMPERATURE = 22.2446
FOCAL_PLANE_TEMPERATURE = 9.6028
INST_CMPRS_NAME = "DISCRETE COSINE TRANSFORMATION (DCT)"
INST_CMPRS_RATIO = 6.38408
INST_CMPRS_QUALITY = 0
INST_CMPRS_QUANTZ_TBL_ID = 0
INSTRUMENT_TEMPERATURE = 16.7393
LENS_TEMPERATURE = 10.2145
MACROPIXEL_SIZE = 1
MISSING_FRAMES = 0
PIXEL_SUBSAMPLING_FLAG = N
SIGNAL_CHAIN_ID = 0
/* RADIOMETRIC DATA ELEMENTS */
BANDWIDTH = 177.0
CENTER_FILTER_WAVELENGTH = 677.5
RADIANCE_OFFSET = 1.57676
RADIANCE_SCALING_FACTOR = 0.0234085
REFLECTANCE_SCALING_FACTOR = 0.000710038
MEX:REFLECTANCE_OFFSET = 0.0478271
/* IMAGE OBJECT DEFINITIONS */
OBJECT = IMAGE
  INTERCHANGE_FORMAT = BINARY
  LINES = 3585
  LINE_SAMPLES = 5847
  SAMPLE_TYPE = UNSIGNED_INTEGER
  SAMPLE_BITS = 8
  BANDS = 1
  BAND_STORAGE_TYPE = BAND_SEQUENTIAL
  MAXIMUM = 255
  MEAN = 111.554
  MINIMUM = 1
  STANDARD_DEVIATION = 43.396
END_OBJECT = IMAGE
/* MAP OBJECT DEFINITIONS */
OBJECT = IMAGE_MAP_PROJECTION
  ^DATA_SET_MAP_PROJECTION_CATALOG= "DSMAP.CAT"
  A_AXIS_RADIUS = 3396.0
  B_AXIS_RADIUS = 3396.0
  C_AXIS_RADIUS = 3396.0
  CENTER_LATITUDE = 0.0
  CENTER_LONGITUDE = 102.0
  COORDINATE_SYSTEM_NAME = PLANETOGRAPHIC
  COORDINATE_SYSTEM_TYPE = "BODY-FIXED ROTATING"
  EASTERNMOST_LONGITUDE = 111.165
  FIRST_STANDARD_PARALLEL = "N/A"
  LINE_FIRST_PIXEL = 1
  LINE_LAST_PIXEL = 3585
  LINE_PROJECTION_OFFSET = 2983.0
  MAP_PROJECTION_ROTATION = 0.0
  MAP_PROJECTION_TYPE = SINUSOIDAL
  MAP_RESOLUTION = 296.356901933333
  MAP_SCALE = 0.2
  MAXIMUM_LATITUDE = 10.0684
  MINIMUM_LATITUDE = -1.88685
  POSITIVE_LONGITUDE_DIRECTION = EAST
  REFERENCE_LATITUDE = "N/A"
  REFERENCE_LONGITUDE = "N/A"
  SAMPLE_FIRST_PIXEL = 1
  SAMPLE_LAST_PIXEL = 5847
  SAMPLE_PROJECTION_OFFSET = 3108.0
  SECOND_STANDARD_PARALLEL = "N/A"
  WESTERNMOST_LONGITUDE = 91.532
END_OBJECT = IMAGE_MAP_PROJECTION
/* The JPEG2000 image data file associated with this label. */
OBJECT = COMPRESSED_FILE
  FILE_NAME = "H2726_0001_ND3.JP2"
  RECORD_TYPE = UNDEFINED
  FILE_RECORDS = UNK
  ENCODING_TYPE = "JP2"
  INTERCHANGE_FORMAT = BINARY
  UNCOMPRESSED_FILE_NAME = "H2726_0001_ND3.IMG"
  REQUIRED_STORAGE_BYTES = "20990730"
  ^DESCRIPTION = "JP2INFO.TXT"
END_OBJECT = COMPRESSED_FILE
END
