PDS_VERSION_ID = PDS3
/* FILE DATA ELEMENTS */
RECORD_TYPE = STREAM
/* POINTERS TO DATA OBJECTS */
^COMPRESSED_FILE = "H2728_0001_GR3.JP2"
/* IDENTIFICATION DATA ELEMENTS */
DATA_SET_ID = "MEX-M-HRSC-5-REFDR-MAPPROJECTED-V3.0"
DATA_SET_NAME = "MARS EXPRESS HRSC MAP PROJECTED REFDR V3.0"
DETECTOR_ID = MEX_HRSC_GREEN
EVENT_TYPE = "MARS-TERMINATOR-VARIABLE-At"
INSTRUMENT_HOST_ID = MEX
INSTRUMENT_HOST_NAME = "MARS EXPRESS"
INSTRUMENT_ID = HRSC
INSTRUMENT_NAME = "HIGH RESOLUTION STEREO CAMERA"
MISSION_NAME = "MARS EXPRESS"
MISSION_PHASE_NAME = ME_Phase_2
PROCESSING_LEVEL_ID = 3
PRODUCT_CREATION_TIME = 2016-04-08T11:40:40.000Z
PRODUCT_ID = "H2728_0001_GR3.JP2"
RELEASE_ID = 0034
REVISION_ID = 0000
/* QUALITY DATA ELEMENTS */
DATA_QUALITY_ID = 1
DATA_QUALITY_DESC = "Data calculated based on original SPICE kernels"
/* TIME DATA ELEMENTS */
SPACECRAFT_CLOCK_START_COUNT = "1/0088956230.09059"
SPACECRAFT_CLOCK_STOP_COUNT = "1/0088957444.03796"
START_TIME = 2006-02-25T14:03:55.856Z
STOP_TIME = 2006-02-25T14:14:47.694Z
/* ORBITAL DATA ELEMENTS */
ASCENDING_NODE_LONGITUDE = 171.06
MAXIMUM_RESOLUTION = 288.4
FOOTPRINT_POINT_LATITUDE = (-10.7575,-10.6965,-10.6344,-10.5714, -10.5073,-10.4421,-10.3758,-10.3083, -10.2397,-10.1875,-10.117,-10.0454, -9.97282,-9.89899,-9.82401,-9.74785, -9.6705,-9.59189,-9.51207,-9.43108, -9.34874,-9.26488,-9.1796,-9.0931, -9.00525,-8.80755,-8.27434,-7.87823, -7.34267,-6.82205,-6.06569,-5.55823, -5.18049,-4.54112,-4.06175,-3.45022, -2.96563,-2.48523,-2.00872,-1.53641, -1.06846,-0.603878,-0.143755,0.312759, 0.765606,1.21485,1.66018,2.10206, 2.54467,2.97966,3.04767,2.90286,2.75927 ,2.61649,2.47472,2.33421,2.19504, 2.05668,1.91908,1.78228,1.64631,1.51117 ,1.37673,1.24313,1.11022,0.977706, 0.845499,0.713837,0.582846,0.452441, 0.322527,0.192971,0.0638232,-0.0650807, -0.194103,-0.457319,-0.823314,-1.19673, -1.57067,-1.94858,-2.33057,-2.71675, -3.10716,-3.50197,-3.90044,-4.30377, -4.91419,-5.53876,-5.95814,-6.49457, -6.92044,-7.46897,-8.02945,-8.47909, -9.0485,-9.62444,-9.97354,-10.4498, -10.8081,-10.7575)
FOOTPRINT_POINT_LONGITUDE = (262.611,263.111,263.609,264.106, 264.601,265.095,265.588,266.08,266.572, 266.94,267.431,267.92,268.408,268.897, 269.385,269.873,270.362,270.85,271.339, 271.828,272.319,272.81,273.303,273.796, 274.291,274.679,274.646,274.62,274.601, 274.568,274.497,274.462,274.435,274.411 ,274.355,274.31,274.273,274.237,274.2, 274.163,274.125,274.087,274.049,274.011 ,273.972,273.934,273.894,273.855, 273.815,273.776,273.461,272.847,272.236 ,271.626,271.019,270.414,269.812, 269.211,268.611,268.013,267.415,266.817 ,266.221,265.624,265.027,264.428, 263.829,263.229,262.628,262.026,261.423 ,260.819,260.212,259.603,258.992, 258.207,258.365,258.525,258.683,258.841 ,258.999,259.157,259.314,259.471, 259.626,259.782,260.005,260.24,260.387, 260.588,260.72,260.913,261.118,261.266, 261.452,261.63,261.735,261.892,262.001, 262.611)
ORBIT_NUMBER = 2728
ORBITAL_ECCENTRICITY = 0.572
ORBITAL_INCLINATION = 86.61
ORBITAL_SEMIMAJOR_AXIS = 8558.32
PERIAPSIS_ALTITUDE = 285.37
PERIAPSIS_ARGUMENT_ANGLE = 239.18
PERIAPSIS_TIME = 2006-02-25T13:19:09.000Z
SPACECRAFT_ORIENTATION = (0.0,-1.0,0.0)
^MEX_ORIENTATION_DESC = "MEX_ORIENTATION_DESC.TXT"
SPACECRAFT_POINTING_MODE = NADIR
^MEX_POINTING_DESC = "MEX_POINTING_DESC.TXT"
RIGHT_ASCENSION = -1e+32
DECLINATION = -1e+32
OFFSET_ANGLE = -1e+32
SPACECRAFT_SOLAR_DISTANCE = 2.39035e+08
TARGET_NAME = MARS
/* CAMERA DATA ELEMENTS */
DETECTOR_TEMPERATURE = 21.8368
FOCAL_PLANE_TEMPERATURE = 9.195
INST_CMPRS_NAME = "DISCRETE COSINE TRANSFORMATION (DCT)"
INST_CMPRS_RATIO = 9.48182
INST_CMPRS_QUALITY = 0
INST_CMPRS_QUANTZ_TBL_ID = 0
INSTRUMENT_TEMPERATURE = 15.5159
LENS_TEMPERATURE = 10.0106
MACROPIXEL_SIZE = 2
MISSING_FRAMES = 1
PIXEL_SUBSAMPLING_FLAG = N
SIGNAL_CHAIN_ID = 2
/* RADIOMETRIC DATA ELEMENTS */
BANDWIDTH = 88.0
CENTER_FILTER_WAVELENGTH = 538.0
RADIANCE_OFFSET = 0.650645
RADIANCE_SCALING_FACTOR = 0.00663403
REFLECTANCE_SCALING_FACTOR = 0.000326367
MEX:REFLECTANCE_OFFSET = 0.0320091
/* IMAGE OBJECT DEFINITIONS */
OBJECT = IMAGE
  INTERCHANGE_FORMAT = BINARY
  LINES = 5250
  LINE_SAMPLES = 5294
  SAMPLE_TYPE = UNSIGNED_INTEGER
  SAMPLE_BITS = 8
  BANDS = 1
  BAND_STORAGE_TYPE = BAND_SEQUENTIAL
  MAXIMUM = 255
  MEAN = 102.005
  MINIMUM = 1
  STANDARD_DEVIATION = 37.9417
END_OBJECT = IMAGE
/* MAP OBJECT DEFINITIONS */
OBJECT = IMAGE_MAP_PROJECTION
  ^DATA_SET_MAP_PROJECTION_CATALOG= "DSMAP.CAT"
  A_AXIS_RADIUS = 3396.0
  B_AXIS_RADIUS = 3396.0
  C_AXIS_RADIUS = 3396.0
  CENTER_LATITUDE = 0.0
  CENTER_LONGITUDE = 267.0
  COORDINATE_SYSTEM_NAME = PLANETOGRAPHIC
  COORDINATE_SYSTEM_TYPE = "BODY-FIXED ROTATING"
  EASTERNMOST_LONGITUDE = 274.679
  FIRST_STANDARD_PARALLEL = "N/A"
  LINE_FIRST_PIXEL = 1
  LINE_LAST_PIXEL = 5250
  LINE_PROJECTION_OFFSET = 1034.25
  MAP_PROJECTION_ROTATION = 0.0
  MAP_PROJECTION_TYPE = SINUSOIDAL
  MAP_RESOLUTION = 296.356901933333
  MAP_SCALE = 0.2
  MAXIMUM_LATITUDE = 3.04767
  MINIMUM_LATITUDE = -10.8081
  POSITIVE_LONGITUDE_DIRECTION = EAST
  REFERENCE_LATITUDE = "N/A"
  REFERENCE_LONGITUDE = "N/A"
  SAMPLE_FIRST_PIXEL = 1
  SAMPLE_LAST_PIXEL = 5294
  SAMPLE_PROJECTION_OFFSET = 2853.25
  SECOND_STANDARD_PARALLEL = "N/A"
  WESTERNMOST_LONGITUDE = 258.207
END_OBJECT = IMAGE_MAP_PROJECTION
/* The JPEG2000 image data file associated with this label. */
OBJECT = COMPRESSED_FILE
  FILE_NAME = "H2728_0001_GR3.JP2"
  RECORD_TYPE = UNDEFINED
  FILE_RECORDS = UNK
  ENCODING_TYPE = "JP2"
  INTERCHANGE_FORMAT = BINARY
  UNCOMPRESSED_FILE_NAME = "H2728_0001_GR3.IMG"
  REQUIRED_STORAGE_BYTES = "27819970"
  ^DESCRIPTION = "JP2INFO.TXT"
END_OBJECT = COMPRESSED_FILE
END
