PDS_VERSION_ID = PDS3
/* FILE DATA ELEMENTS */
RECORD_TYPE = STREAM
/* POINTERS TO DATA OBJECTS */
^COMPRESSED_FILE = "H2767_0002_SR3.JP2"
/* IDENTIFICATION DATA ELEMENTS */
DATA_SET_ID = "MEX-M-HRSC-5-REFDR-MAPPROJECTED-V3.0"
DATA_SET_NAME = "MARS EXPRESS HRSC MAP PROJECTED REFDR V3.0"
DETECTOR_ID = MEX_HRSC_SRC
EVENT_TYPE = "MARS-TERMINATOR-VARIABLE-Gl-At"
INSTRUMENT_HOST_ID = MEX
INSTRUMENT_HOST_NAME = "MARS EXPRESS"
INSTRUMENT_ID = HRSC
INSTRUMENT_NAME = "HIGH RESOLUTION STEREO CAMERA"
MISSION_NAME = "MARS EXPRESS"
MISSION_PHASE_NAME = ME_Phase_2
PROCESSING_LEVEL_ID = 3
PRODUCT_CREATION_TIME = 2016-04-08T11:40:40.000Z
PRODUCT_ID = "H2767_0002_SR3.JP2"
RELEASE_ID = 0034
REVISION_ID = 0000
/* QUALITY DATA ELEMENTS */
DATA_QUALITY_ID = 1
DATA_QUALITY_DESC = "Data calculated based on original SPICE kernels"
/* TIME DATA ELEMENTS */
SPACECRAFT_CLOCK_START_COUNT = "1/0089890174.09035"
SPACECRAFT_CLOCK_STOP_COUNT = "1/0089891196.12567"
IMAGE_TIME = 2006-03-08T09:30:36.150Z
START_TIME = 2006-03-08T09:30:36.147Z
STOP_TIME = 2006-03-08T09:30:36.152Z
/* ORBITAL DATA ELEMENTS */
ASCENDING_NODE_LONGITUDE = 170.23
MAXIMUM_RESOLUTION = 76.138
FOOTPRINT_POINT_LATITUDE = (82.0262,82.0036,81.9809,81.9407, 81.9023,81.8767,81.8531,81.8235,81.7996 ,81.7756,81.7515,81.7303,81.7059, 81.6813,81.6575,81.621,81.596,81.5709, 81.533,81.4941,81.4548,81.4153,81.3746, 81.3444,81.3181,81.2917,81.286,81.3255, 81.3846,81.4238,81.4629,81.5019,81.5407 ,81.5891,81.6276,81.6851,81.7137, 81.7517,81.7896,81.8179,81.8556,81.893, 81.9395,81.9859,82.032,82.0779,82.1144, 82.1689,82.1959,82.2516,82.2814,82.311, 82.3405,82.3727,82.402,82.4321,82.4612, 82.4901,82.519,82.5459,82.5797,82.6287, 82.6684,82.7079,82.7463,82.7844,82.8215 ,82.8583,82.8949,82.9301,82.9653, 82.9995,83.0334,83.0671,83.0933,83.0891 ,83.0383,82.9872,82.9565,82.9055, 82.8643,82.8228,82.7813,82.7501,82.6874 ,82.6454,82.6034,82.54,82.5082,82.4658, 82.4232,82.3805,82.3377,82.3055,82.2626 ,82.2087,82.1763,82.133,82.0896, 82.0262)
FOOTPRINT_POINT_LONGITUDE = (118.61,118.358,118.108,117.673,117.266 ,116.999,116.756,116.455,116.216, 115.978,115.742,115.536,115.302,115.07, 114.846,114.51,114.282,114.056,113.718, 113.378,113.04,112.706,112.368,112.12, 111.907,111.695,111.37,111.149,110.814, 110.589,110.361,110.131,109.899,109.607 ,109.37,109.011,108.83,108.586,108.34, 108.154,107.904,107.652,107.333,107.011 ,106.685,106.355,106.089,105.685, 105.481,105.401,105.616,105.833,106.051 ,106.292,106.514,106.744,106.97,107.197 ,107.426,107.642,107.918,108.322, 108.657,108.996,109.331,109.669,110.003 ,110.341,110.682,111.017,111.357, 111.692,112.031,112.373,112.642,112.961 ,113.292,113.619,113.813,114.136, 114.388,114.638,114.885,115.068,115.429 ,115.667,115.902,116.248,116.42,116.646 ,116.87,117.092,117.311,117.474,117.689 ,117.954,118.112,118.32,118.526,118.61)
ORBIT_NUMBER = 2767
ORBITAL_ECCENTRICITY = 0.572
ORBITAL_INCLINATION = 86.6
ORBITAL_SEMIMAJOR_AXIS = 8566.44
PERIAPSIS_ALTITUDE = 284.93
PERIAPSIS_ARGUMENT_ANGLE = 232.37
PERIAPSIS_TIME = 2006-03-08T11:26:35.000Z
SPACECRAFT_ORIENTATION = (0.0,-1.0,0.0)
^MEX_ORIENTATION_DESC = "MEX_ORIENTATION_DESC.TXT"
SPACECRAFT_POINTING_MODE = INERT
^MEX_POINTING_DESC = "MEX_POINTING_DESC.TXT"
RIGHT_ASCENSION = 262.971
DECLINATION = 41.691
OFFSET_ANGLE = -1e+32
SPACECRAFT_SOLAR_DISTANCE = 2.40708e+08
TARGET_NAME = MARS
/* CAMERA DATA ELEMENTS */
BUFFER_MODE_ID = BUFFER_8
EXPOSURE_DURATION = 5.04
INST_CMPRS_NAME = NONE
INST_CMPRS_RATIO = 1.0
INST_CMPRS_QUALITY = -2147483648
INST_CMPRS_QUANTZ_TBL_ID = -2147483648
INSTRUMENT_TEMPERATURE = 8.18182
MISSING_FRAMES = 0
START_BIT = 0
/* RADIOMETRIC DATA ELEMENTS */
BANDWIDTH = 250.0
CENTER_FILTER_WAVELENGTH = 600.0
RADIANCE_OFFSET = -9.99e+31
RADIANCE_SCALING_FACTOR = -9.99e+31
REFLECTANCE_SCALING_FACTOR = -9.99e+31
MEX:REFLECTANCE_OFFSET = -9.99e+31
/* IMAGE OBJECT DEFINITIONS */
OBJECT = IMAGE
  INTERCHANGE_FORMAT = BINARY
  LINES = 1411
  LINE_SAMPLES = 1415
  SAMPLE_TYPE = UNSIGNED_INTEGER
  SAMPLE_BITS = 8
  BANDS = 1
  BAND_STORAGE_TYPE = BAND_SEQUENTIAL
  MAXIMUM = 252
  MEAN = 124.609
  MINIMUM = 8
  STANDARD_DEVIATION = 35.0229
END_OBJECT = IMAGE
/* MAP OBJECT DEFINITIONS */
OBJECT = IMAGE_MAP_PROJECTION
  ^DATA_SET_MAP_PROJECTION_CATALOG= "DSMAP.CAT"
  A_AXIS_RADIUS = 3396.19
  B_AXIS_RADIUS = 3396.19
  C_AXIS_RADIUS = 3396.19
  CENTER_LATITUDE = 0.0
  CENTER_LONGITUDE = 112.0
  COORDINATE_SYSTEM_NAME = PLANETOGRAPHIC
  COORDINATE_SYSTEM_TYPE = "BODY-FIXED ROTATING"
  EASTERNMOST_LONGITUDE = 118.61
  FIRST_STANDARD_PARALLEL = "N/A"
  LINE_FIRST_PIXEL = 1
  LINE_LAST_PIXEL = 1411
  LINE_PROJECTION_OFFSET = 61450.0
  MAP_PROJECTION_ROTATION = 0.0
  MAP_PROJECTION_TYPE = SINUSOIDAL
  MAP_RESOLUTION = 740.9337064023611
  MAP_SCALE = 0.08
  MAXIMUM_LATITUDE = 83.0933
  MINIMUM_LATITUDE = 81.286
  POSITIVE_LONGITUDE_DIRECTION = EAST
  REFERENCE_LATITUDE = "N/A"
  REFERENCE_LONGITUDE = "N/A"
  SAMPLE_FIRST_PIXEL = 1
  SAMPLE_LAST_PIXEL = 1415
  SAMPLE_PROJECTION_OFFSET = 680.0
  SECOND_STANDARD_PARALLEL = "N/A"
  WESTERNMOST_LONGITUDE = 105.401
END_OBJECT = IMAGE_MAP_PROJECTION
/* The JPEG2000 image data file associated with this label. */
OBJECT = COMPRESSED_FILE
  FILE_NAME = "H2767_0002_SR3.JP2"
  RECORD_TYPE = UNDEFINED
  FILE_RECORDS = UNK
  ENCODING_TYPE = "JP2"
  INTERCHANGE_FORMAT = BINARY
  UNCOMPRESSED_FILE_NAME = "H2767_0002_SR3.IMG"
  REQUIRED_STORAGE_BYTES = "2016375"
  ^DESCRIPTION = "JP2INFO.TXT"
END_OBJECT = COMPRESSED_FILE
END
