PDS_VERSION_ID = PDS3
/* FILE DATA ELEMENTS */
RECORD_TYPE = STREAM
/* POINTERS TO DATA OBJECTS */
^COMPRESSED_FILE = "H2772_0000_SR3.JP2"
/* IDENTIFICATION DATA ELEMENTS */
DATA_SET_ID = "MEX-M-HRSC-5-REFDR-MAPPROJECTED-V3.0"
DATA_SET_NAME = "MARS EXPRESS HRSC MAP PROJECTED REFDR V3.0"
DETECTOR_ID = MEX_HRSC_SRC
EVENT_TYPE = "MARS-TERMINATOR-PHOTOMETRY-Ot-At"
INSTRUMENT_HOST_ID = MEX
INSTRUMENT_HOST_NAME = "MARS EXPRESS"
INSTRUMENT_ID = HRSC
INSTRUMENT_NAME = "HIGH RESOLUTION STEREO CAMERA"
MISSION_NAME = "MARS EXPRESS"
MISSION_PHASE_NAME = ME_Phase_2
PROCESSING_LEVEL_ID = 3
PRODUCT_CREATION_TIME = 2016-04-08T11:40:40.000Z
PRODUCT_ID = "H2772_0000_SR3.JP2"
RELEASE_ID = 0034
REVISION_ID = 0000
/* QUALITY DATA ELEMENTS */
DATA_QUALITY_ID = 1
DATA_QUALITY_DESC = "Data calculated based on original SPICE kernels"
/* TIME DATA ELEMENTS */
SPACECRAFT_CLOCK_START_COUNT = "1/0090019376.08240"
SPACECRAFT_CLOCK_STOP_COUNT = "1/0090021838.14590"
IMAGE_TIME = 2006-03-09T21:23:02.119Z
START_TIME = 2006-03-09T21:23:01.861Z
STOP_TIME = 2006-03-09T21:23:02.377Z
/* ORBITAL DATA ELEMENTS */
ASCENDING_NODE_LONGITUDE = 170.13
MAXIMUM_RESOLUTION = 25.197
FOOTPRINT_POINT_LATITUDE = (-23.6528,-23.7247,-23.7802,-23.8425, -23.9042,-23.9651,-24.0253,-24.1134, -24.172,-24.2299,-24.2873,-24.344, -24.4002,-24.5002,-24.5549,-24.609, -24.6625,-24.7156,-24.7677,-24.8198, -24.8715,-24.9227,-24.9735,-25.0239, -25.0973,-25.1466,-25.1955,-25.2441, -25.2922,-25.3874,-25.4887,-25.5809, -25.6719,-25.7448,-25.7935,-25.8814, -25.9682,-26.0539,-26.1517,-26.235, -26.3112,-26.4179,-26.507,-26.5861, -26.6274,-26.6264,-26.6249,-26.6229, -26.6229,-26.62,-26.6167,-26.5386, -26.4595,-26.3419,-26.2606,-26.1782, -26.0949,-26.0332,-25.9479,-25.8616, -25.7741,-25.716,-25.6265,-25.5357, -25.4011,-25.307,-25.2308,-25.1826, -25.1341,-25.0851,-25.0152,-24.9653, -24.9149,-24.8641,-24.8129,-24.7381, -24.6857,-24.6329,-24.5795,-24.5257, -24.4714,-24.4165,-24.3416,-24.2854, -24.2286,-24.1713,-24.1133,-24.0571, -23.9904,-23.9305,-23.8698,-23.8084, -23.7463,-23.6769,-23.6766,-23.655, -23.6533,-23.6508,-23.6474,-23.6528)
FOOTPRINT_POINT_LONGITUDE = (275.413,275.402,275.393,275.384, 275.374,275.365,275.355,275.342,275.333 ,275.324,275.315,275.306,275.297, 275.281,275.273,275.264,275.256,275.248 ,275.239,275.231,275.223,275.215, 275.207,275.199,275.188,275.18,275.172, 275.164,275.157,275.142,275.126,275.111 ,275.097,275.085,275.077,275.063,275.05 ,275.036,275.02,275.007,274.995,274.978 ,274.963,274.951,274.9,274.823,274.747, 274.67,274.608,274.531,274.457,274.469, 274.481,274.499,274.512,274.525,274.537 ,274.547,274.56,274.573,274.586,274.595 ,274.609,274.623,274.643,274.658, 274.669,274.677,274.684,274.691,274.702 ,274.709,274.717,274.725,274.732, 274.744,274.752,274.76,274.768,274.776, 274.784,274.792,274.803,274.812,274.82, 274.829,274.837,274.846,274.856,274.865 ,274.874,274.883,274.892,274.908, 275.002,275.051,275.131,275.211,275.291 ,275.413)
ORBIT_NUMBER = 2772
ORBITAL_ECCENTRICITY = 0.572
ORBITAL_INCLINATION = 86.61
ORBITAL_SEMIMAJOR_AXIS = 8570.1
PERIAPSIS_ALTITUDE = 285.05
PERIAPSIS_ARGUMENT_ANGLE = 231.49
PERIAPSIS_TIME = 2006-03-09T21:02:56.000Z
SPACECRAFT_ORIENTATION = (0.0,-1.0,0.0)
^MEX_ORIENTATION_DESC = "MEX_ORIENTATION_DESC.TXT"
SPACECRAFT_POINTING_MODE = INERT
^MEX_POINTING_DESC = "MEX_POINTING_DESC.TXT"
RIGHT_ASCENSION = 261.895
DECLINATION = 41.283
OFFSET_ANGLE = -1e+32
SPACECRAFT_SOLAR_DISTANCE = 2.40914e+08
TARGET_NAME = MARS
/* CAMERA DATA ELEMENTS */
BUFFER_MODE_ID = DIRECT
EXPOSURE_DURATION = 516.096
INST_CMPRS_NAME = NONE
INST_CMPRS_RATIO = 1.0
INST_CMPRS_QUALITY = -2147483648
INST_CMPRS_QUANTZ_TBL_ID = -2147483648
INSTRUMENT_TEMPERATURE = 17.8373
MISSING_FRAMES = 0
START_BIT = 0
/* RADIOMETRIC DATA ELEMENTS */
BANDWIDTH = 250.0
CENTER_FILTER_WAVELENGTH = 600.0
RADIANCE_OFFSET = -9.99e+31
RADIANCE_SCALING_FACTOR = -9.99e+31
REFLECTANCE_SCALING_FACTOR = -9.99e+31
MEX:REFLECTANCE_OFFSET = -9.99e+31
/* IMAGE OBJECT DEFINITIONS */
OBJECT = IMAGE
  INTERCHANGE_FORMAT = BINARY
  LINES = 9546
  LINE_SAMPLES = 2713
  SAMPLE_TYPE = UNSIGNED_INTEGER
  SAMPLE_BITS = 8
  BANDS = 1
  BAND_STORAGE_TYPE = BAND_SEQUENTIAL
  MAXIMUM = 255
  MEAN = 255.0
  MINIMUM = 69
  STANDARD_DEVIATION = 0.162815
END_OBJECT = IMAGE
/* MAP OBJECT DEFINITIONS */
OBJECT = IMAGE_MAP_PROJECTION
  ^DATA_SET_MAP_PROJECTION_CATALOG= "DSMAP.CAT"
  A_AXIS_RADIUS = 3396.19
  B_AXIS_RADIUS = 3396.19
  C_AXIS_RADIUS = 3396.19
  CENTER_LATITUDE = 0.0
  CENTER_LONGITUDE = 275.0
  COORDINATE_SYSTEM_NAME = PLANETOGRAPHIC
  COORDINATE_SYSTEM_TYPE = "BODY-FIXED ROTATING"
  EASTERNMOST_LONGITUDE = 275.413
  FIRST_STANDARD_PARALLEL = "N/A"
  LINE_FIRST_PIXEL = 1
  LINE_LAST_PIXEL = 9546
  LINE_PROJECTION_OFFSET = -68287.0
  MAP_PROJECTION_ROTATION = 0.0
  MAP_PROJECTION_TYPE = SINUSOIDAL
  MAP_RESOLUTION = 2963.73482560944
  MAP_SCALE = 0.02
  MAXIMUM_LATITUDE = -23.6474
  MINIMUM_LATITUDE = -26.6274
  POSITIVE_LONGITUDE_DIRECTION = EAST
  REFERENCE_LATITUDE = "N/A"
  REFERENCE_LONGITUDE = "N/A"
  SAMPLE_FIRST_PIXEL = 1
  SAMPLE_LAST_PIXEL = 2713
  SAMPLE_PROJECTION_OFFSET = 1310.0
  SECOND_STANDARD_PARALLEL = "N/A"
  WESTERNMOST_LONGITUDE = 274.457
END_OBJECT = IMAGE_MAP_PROJECTION
/* The JPEG2000 image data file associated with this label. */
OBJECT = COMPRESSED_FILE
  FILE_NAME = "H2772_0000_SR3.JP2"
  RECORD_TYPE = UNDEFINED
  FILE_RECORDS = UNK
  ENCODING_TYPE = "JP2"
  INTERCHANGE_FORMAT = BINARY
  UNCOMPRESSED_FILE_NAME = "H2772_0000_SR3.IMG"
  REQUIRED_STORAGE_BYTES = "25920002"
  ^DESCRIPTION = "JP2INFO.TXT"
END_OBJECT = COMPRESSED_FILE
END
