PDS_VERSION_ID = PDS3
/* FILE DATA ELEMENTS */
RECORD_TYPE = STREAM
/* POINTERS TO DATA OBJECTS */
^COMPRESSED_FILE = "H2846_0000_GR3.JP2"
/* IDENTIFICATION DATA ELEMENTS */
DATA_SET_ID = "MEX-M-HRSC-5-REFDR-MAPPROJECTED-V3.0"
DATA_SET_NAME = "MARS EXPRESS HRSC MAP PROJECTED REFDR V3.0"
DETECTOR_ID = MEX_HRSC_GREEN
EVENT_TYPE = "MARS-TERMINATOR-VARIABLE-At"
INSTRUMENT_HOST_ID = MEX
INSTRUMENT_HOST_NAME = "MARS EXPRESS"
INSTRUMENT_ID = HRSC
INSTRUMENT_NAME = "HIGH RESOLUTION STEREO CAMERA"
MISSION_NAME = "MARS EXPRESS"
MISSION_PHASE_NAME = ME_Phase_2
PROCESSING_LEVEL_ID = 3
PRODUCT_CREATION_TIME = 2016-04-08T13:05:01.000Z
PRODUCT_ID = "H2846_0000_GR3.JP2"
RELEASE_ID = 0035
REVISION_ID = 0000
/* QUALITY DATA ELEMENTS */
DATA_QUALITY_ID = 1
DATA_QUALITY_DESC = "Data calculated based on original SPICE kernels"
/* TIME DATA ELEMENTS */
SPACECRAFT_CLOCK_START_COUNT = "1/0091806706.09052"
SPACECRAFT_CLOCK_STOP_COUNT = "1/0091807286.34607"
START_TIME = 2006-03-30T13:52:40.637Z
STOP_TIME = 2006-03-30T13:57:30.813Z
/* ORBITAL DATA ELEMENTS */
ASCENDING_NODE_LONGITUDE = 168.57
MAXIMUM_RESOLUTION = 524
FOOTPRINT_POINT_LATITUDE = (43.7963,43.8148,43.832,43.8478,43.8622 ,43.8754,43.8873,43.8978,43.907,43.9149 ,43.9242,43.9288,43.9322,43.9341, 43.9348,43.9342,43.9322,43.929,43.9244, 43.9185,43.9113,43.9027,43.8927,43.8814 ,43.8688,43.7513,43.4306,43.1075, 42.7819,42.4541,42.1239,41.7913,41.4561 ,41.1185,40.7786,40.4362,40.0934, 39.6559,39.305,38.9516,38.5957,38.1487, 37.7867,37.4218,37.0539,36.6838,36.3112 ,35.9355,35.5574,35.1766,34.8095, 34.8132,34.818,34.8201,34.8218,34.8223, 34.822,34.8203,34.8179,34.8131,34.8087, 34.8006,34.7953,34.786,34.779,34.7659, 34.7551,34.7428,34.7325,34.7147,34.7043 ,34.8963,35.0877,35.2788,35.4693, 35.6588,36.0357,36.5016,36.8728,37.2427 ,37.6084,37.9716,38.3325,38.691,39.0467 ,39.3999,39.7505,40.0134,40.3602, 40.6166,40.9591,41.2148,41.5499,42.0524 ,42.3843,42.7143,43.0421,43.3682, 43.6906,43.7963)
FOOTPRINT_POINT_LONGITUDE = (31.6447,31.2705,30.8968,30.5236, 30.1508,29.7779,29.4051,29.0324,28.6597 ,28.2867,27.7273,27.355,26.9829,26.6107 ,26.2384,25.866,25.4934,25.1207,24.7479 ,24.3749,24.0015,23.6274,23.2528, 22.8779,22.5028,22.0508,22.1136,22.1756 ,22.2364,22.2966,22.3561,22.4148, 22.4722,22.5289,22.5853,22.6408,22.7004 ,22.7613,22.8137,22.8654,22.9168, 22.9833,23.0324,23.0803,23.1267,23.1736 ,23.2204,23.2655,23.311,23.3558,23.3981 ,23.6477,24.1023,24.3621,24.622,24.8806 ,25.2682,25.7204,26.0433,26.495,26.8175 ,27.2689,27.5273,27.9151,28.1735,28.625 ,28.9478,29.2715,29.5305,29.9813, 30.2843,30.316,30.348,30.3791,30.4103, 30.4421,30.5064,30.5908,30.6554,30.718, 30.7842,30.8509,30.9175,30.9845,31.0523 ,31.1208,31.1901,31.2389,31.3081,31.365 ,31.4354,31.4874,31.5661,31.6757, 31.7497,31.8235,31.8977,31.9711,32.0485 ,31.6447)
ORBIT_NUMBER = 2846
ORBITAL_ECCENTRICITY = 0.572
ORBITAL_INCLINATION = 86.6
ORBITAL_SEMIMAJOR_AXIS = 8590.25
PERIAPSIS_ALTITUDE = 285.02
PERIAPSIS_ARGUMENT_ANGLE = 218.5
PERIAPSIS_TIME = 2006-03-30T14:20:54.000Z
SPACECRAFT_ORIENTATION = (0.0,-1.0,0.0)
^MEX_ORIENTATION_DESC = "MEX_ORIENTATION_DESC.TXT"
SPACECRAFT_POINTING_MODE = NADIR
^MEX_POINTING_DESC = "MEX_POINTING_DESC.TXT"
RIGHT_ASCENSION = -1e+32
DECLINATION = -1e+32
OFFSET_ANGLE = -1e+32
SPACECRAFT_SOLAR_DISTANCE = 2.43703e+08
TARGET_NAME = MARS
/* CAMERA DATA ELEMENTS */
DETECTOR_TEMPERATURE = 17.9627
FOCAL_PLANE_TEMPERATURE = 7.7677
INST_CMPRS_NAME = "DISCRETE COSINE TRANSFORMATION (DCT)"
INST_CMPRS_RATIO = 26.7499
INST_CMPRS_QUALITY = 0
INST_CMPRS_QUANTZ_TBL_ID = 0
INSTRUMENT_TEMPERATURE = 10.8262
LENS_TEMPERATURE = 8.1755
MACROPIXEL_SIZE = 8
MISSING_FRAMES = 0
PIXEL_SUBSAMPLING_FLAG = N
SIGNAL_CHAIN_ID = 2
/* RADIOMETRIC DATA ELEMENTS */
BANDWIDTH = 88.0
CENTER_FILTER_WAVELENGTH = 538.0
RADIANCE_OFFSET = 0.22658
RADIANCE_SCALING_FACTOR = 0.00271007
REFLECTANCE_SCALING_FACTOR = 0.000138575
MEX:REFLECTANCE_OFFSET = 0.0115858
/* IMAGE OBJECT DEFINITIONS */
OBJECT = IMAGE
  INTERCHANGE_FORMAT = BINARY
  LINES = 1366
  LINE_SAMPLES = 1031
  SAMPLE_TYPE = UNSIGNED_INTEGER
  SAMPLE_BITS = 8
  BANDS = 1
  BAND_STORAGE_TYPE = BAND_SEQUENTIAL
  MAXIMUM = 254
  MEAN = 99.3835
  MINIMUM = 3
  STANDARD_DEVIATION = 43.7586
END_OBJECT = IMAGE
/* MAP OBJECT DEFINITIONS */
OBJECT = IMAGE_MAP_PROJECTION
  ^DATA_SET_MAP_PROJECTION_CATALOG= "DSMAP.CAT"
  A_AXIS_RADIUS = 3396.0
  B_AXIS_RADIUS = 3396.0
  C_AXIS_RADIUS = 3396.0
  CENTER_LATITUDE = 0.0
  CENTER_LONGITUDE = 27.0
  COORDINATE_SYSTEM_NAME = PLANETOGRAPHIC
  COORDINATE_SYSTEM_TYPE = "BODY-FIXED ROTATING"
  EASTERNMOST_LONGITUDE = 32.0485
  FIRST_STANDARD_PARALLEL = "N/A"
  LINE_FIRST_PIXEL = 1
  LINE_LAST_PIXEL = 1366
  LINE_PROJECTION_OFFSET = 6508.3125
  MAP_PROJECTION_ROTATION = 0.0
  MAP_PROJECTION_TYPE = SINUSOIDAL
  MAP_RESOLUTION = 148.178450966667
  MAP_SCALE = 0.4
  MAXIMUM_LATITUDE = 43.9348
  MINIMUM_LATITUDE = 34.7043
  POSITIVE_LONGITUDE_DIRECTION = EAST
  REFERENCE_LATITUDE = "N/A"
  REFERENCE_LONGITUDE = "N/A"
  SAMPLE_FIRST_PIXEL = 1
  SAMPLE_LAST_PIXEL = 1031
  SAMPLE_PROJECTION_OFFSET = 515.5625
  SECOND_STANDARD_PARALLEL = "N/A"
  WESTERNMOST_LONGITUDE = 22.0508
END_OBJECT = IMAGE_MAP_PROJECTION
/* The JPEG2000 image data file associated with this label. */
OBJECT = COMPRESSED_FILE
  FILE_NAME = "H2846_0000_GR3.JP2"
  RECORD_TYPE = UNDEFINED
  FILE_RECORDS = UNK
  ENCODING_TYPE = "JP2"
  INTERCHANGE_FORMAT = BINARY
  UNCOMPRESSED_FILE_NAME = "H2846_0000_GR3.IMG"
  REQUIRED_STORAGE_BYTES = "1425873"
  ^DESCRIPTION = "JP2INFO.TXT"
END_OBJECT = COMPRESSED_FILE
END
