PDS_VERSION_ID = PDS3
/* FILE DATA ELEMENTS */
RECORD_TYPE = STREAM
/* POINTERS TO DATA OBJECTS */
^COMPRESSED_FILE = "H2853_0000_S23.JP2"
/* IDENTIFICATION DATA ELEMENTS */
DATA_SET_ID = "MEX-M-HRSC-5-REFDR-MAPPROJECTED-V3.0"
DATA_SET_NAME = "MARS EXPRESS HRSC MAP PROJECTED REFDR V3.0"
DETECTOR_ID = MEX_HRSC_S2
EVENT_TYPE = "MARS-TERMINATOR-VARIABLE-At"
INSTRUMENT_HOST_ID = MEX
INSTRUMENT_HOST_NAME = "MARS EXPRESS"
INSTRUMENT_ID = HRSC
INSTRUMENT_NAME = "HIGH RESOLUTION STEREO CAMERA"
MISSION_NAME = "MARS EXPRESS"
MISSION_PHASE_NAME = ME_Phase_2
PROCESSING_LEVEL_ID = 3
PRODUCT_CREATION_TIME = 2016-04-08T13:05:01.000Z
PRODUCT_ID = "H2853_0000_S23.JP2"
RELEASE_ID = 0035
REVISION_ID = 0000
/* QUALITY DATA ELEMENTS */
DATA_QUALITY_ID = 1
DATA_QUALITY_DESC = "Data calculated based on original SPICE kernels"
/* TIME DATA ELEMENTS */
SPACECRAFT_CLOCK_START_COUNT = "1/0091976114.09031"
SPACECRAFT_CLOCK_STOP_COUNT = "1/0091976662.10434"
START_TIME = 2006-04-01T13:00:54.926Z
STOP_TIME = 2006-04-01T13:04:25.861Z
/* ORBITAL DATA ELEMENTS */
ASCENDING_NODE_LONGITUDE = 168.42
MAXIMUM_RESOLUTION = 106.3
FOOTPRINT_POINT_LATITUDE = (44.1883,44.1964,44.2041,44.2115, 44.2185,44.2252,44.2315,44.2375,44.2432 ,44.2485,44.2536,44.2582,44.2626, 44.2666,44.2703,44.2737,44.2768,44.2796 ,44.2819,44.284,44.2856,44.287,44.288, 44.2887,44.289,43.799,43.4065,43.1092, 42.81,42.3105,41.9156,41.5065,41.0919, 40.7056,40.1906,39.7867,39.3761,39.0551 ,38.7469,38.3339,38.0226,37.7103, 37.5024,37.2927,37.0824,36.6818,36.4718 ,36.2607,36.0429,35.716,35.4017,35.1929 ,34.9738,34.6525,34.2253,34.0649, 34.0576,34.0529,34.0505,34.0442,34.0354 ,34.0375,34.0331,34.0244,34.0225, 34.0153,34.0063,33.9954,34.087,34.3024, 34.617,34.8314,35.1563,35.3696,35.6837, 35.8932,36.2071,36.419,36.6336,36.8446, 37.2604,37.4699,37.6789,37.8859,38.2971 ,38.5038,38.9159,39.3247,39.8375, 40.3461,40.8505,41.1527,41.5642,41.8687 ,42.3649,42.7545,43.1502,43.743,44.1365 ,44.1883)
FOOTPRINT_POINT_LONGITUDE = (62.5018,62.2043,61.9071,61.61,61.3132, 61.0165,60.72,60.4236,60.1272,59.8308, 59.5345,59.2383,58.9422,58.6461,58.3501 ,58.054,57.7577,57.4612,57.1644,56.8674 ,56.57,56.2721,55.9738,55.6753,55.3763, 55.2335,55.2817,55.3181,55.3543,55.413, 55.4561,55.5036,55.5518,55.5867,55.6415 ,55.6803,55.7205,55.7547,55.7831, 55.8205,55.8483,55.8756,55.8933,55.9114 ,55.9293,55.9566,55.9735,55.9904, 56.0095,56.0376,56.0604,56.0748,56.0928 ,56.1164,56.1464,56.3616,56.8256, 57.2366,57.5952,58.0564,58.5685,58.8247 ,59.1839,59.44,59.7485,60.2112,60.5706, 61.0334,61.4739,61.4998,61.5356,61.5619 ,61.6032,61.6297,61.6676,61.6933, 61.7323,61.7598,61.7888,61.8165,61.8703 ,61.8984,61.9266,61.9542,62.0091, 62.0376,62.0949,62.152,62.2261,62.3005, 62.375,62.4206,62.4866,62.5351,62.6124, 62.6722,62.7364,62.8351,62.9019, 62.5018)
ORBIT_NUMBER = 2853
ORBITAL_ECCENTRICITY = 0.572
ORBITAL_INCLINATION = 86.62
ORBITAL_SEMIMAJOR_AXIS = 8591.88
PERIAPSIS_ALTITUDE = 284.68
PERIAPSIS_ARGUMENT_ANGLE = 217.27
PERIAPSIS_TIME = 2006-04-01T13:23:10.000Z
SPACECRAFT_ORIENTATION = (0.0,-1.0,0.0)
^MEX_ORIENTATION_DESC = "MEX_ORIENTATION_DESC.TXT"
SPACECRAFT_POINTING_MODE = NADIR
^MEX_POINTING_DESC = "MEX_POINTING_DESC.TXT"
RIGHT_ASCENSION = -1e+32
DECLINATION = -1e+32
OFFSET_ANGLE = -1e+32
SPACECRAFT_SOLAR_DISTANCE = 2.43941e+08
TARGET_NAME = MARS
/* CAMERA DATA ELEMENTS */
DETECTOR_TEMPERATURE = 17.7588
FOCAL_PLANE_TEMPERATURE = 7.7677
INST_CMPRS_NAME = "DISCRETE COSINE TRANSFORMATION (DCT)"
INST_CMPRS_RATIO = 14.7322
INST_CMPRS_QUALITY = 0
INST_CMPRS_QUANTZ_TBL_ID = 0
INSTRUMENT_TEMPERATURE = 11.0301
LENS_TEMPERATURE = 8.1755
MACROPIXEL_SIZE = 2
MISSING_FRAMES = 0
PIXEL_SUBSAMPLING_FLAG = N
SIGNAL_CHAIN_ID = 1
/* RADIOMETRIC DATA ELEMENTS */
BANDWIDTH = 178.0
CENTER_FILTER_WAVELENGTH = 679.0
RADIANCE_OFFSET = 0.625489
RADIANCE_SCALING_FACTOR = 0.00913023
REFLECTANCE_SCALING_FACTOR = 0.000287722
MEX:REFLECTANCE_OFFSET = 0.0197111
/* IMAGE OBJECT DEFINITIONS */
OBJECT = IMAGE
  INTERCHANGE_FORMAT = BINARY
  LINES = 6163
  LINE_SAMPLES = 4049
  SAMPLE_TYPE = UNSIGNED_INTEGER
  SAMPLE_BITS = 8
  BANDS = 1
  BAND_STORAGE_TYPE = BAND_SEQUENTIAL
  MAXIMUM = 255
  MEAN = 77.9774
  MINIMUM = 1
  STANDARD_DEVIATION = 37.8037
END_OBJECT = IMAGE
/* MAP OBJECT DEFINITIONS */
OBJECT = IMAGE_MAP_PROJECTION
  ^DATA_SET_MAP_PROJECTION_CATALOG= "DSMAP.CAT"
  A_AXIS_RADIUS = 3396.0
  B_AXIS_RADIUS = 3396.0
  C_AXIS_RADIUS = 3396.0
  CENTER_LATITUDE = 0.0
  CENTER_LONGITUDE = 59.0
  COORDINATE_SYSTEM_NAME = PLANETOGRAPHIC
  COORDINATE_SYSTEM_TYPE = "BODY-FIXED ROTATING"
  EASTERNMOST_LONGITUDE = 62.9019
  FIRST_STANDARD_PARALLEL = "N/A"
  LINE_FIRST_PIXEL = 1
  LINE_LAST_PIXEL = 6163
  LINE_PROJECTION_OFFSET = 26269.75
  MAP_PROJECTION_ROTATION = 0.0
  MAP_PROJECTION_TYPE = SINUSOIDAL
  MAP_RESOLUTION = 592.713803866667
  MAP_SCALE = 0.1
  MAXIMUM_LATITUDE = 44.289
  MINIMUM_LATITUDE = 33.9954
  POSITIVE_LONGITUDE_DIRECTION = EAST
  REFERENCE_LATITUDE = "N/A"
  REFERENCE_LONGITUDE = "N/A"
  SAMPLE_FIRST_PIXEL = 1
  SAMPLE_LAST_PIXEL = 4049
  SAMPLE_PROJECTION_OFFSET = 2027.25
  SECOND_STANDARD_PARALLEL = "N/A"
  WESTERNMOST_LONGITUDE = 55.2335
END_OBJECT = IMAGE_MAP_PROJECTION
/* The JPEG2000 image data file associated with this label. */
OBJECT = COMPRESSED_FILE
  FILE_NAME = "H2853_0000_S23.JP2"
  RECORD_TYPE = UNDEFINED
  FILE_RECORDS = UNK
  ENCODING_TYPE = "JP2"
  INTERCHANGE_FORMAT = BINARY
  UNCOMPRESSED_FILE_NAME = "H2853_0000_S23.IMG"
  REQUIRED_STORAGE_BYTES = "24978281"
  ^DESCRIPTION = "JP2INFO.TXT"
END_OBJECT = COMPRESSED_FILE
END
