PDS_VERSION_ID = PDS3
/* FILE DATA ELEMENTS */
RECORD_TYPE = STREAM
/* POINTERS TO DATA OBJECTS */
^COMPRESSED_FILE = "H2866_0000_S13.JP2"
/* IDENTIFICATION DATA ELEMENTS */
DATA_SET_ID = "MEX-M-HRSC-5-REFDR-MAPPROJECTED-V3.0"
DATA_SET_NAME = "MARS EXPRESS HRSC MAP PROJECTED REFDR V3.0"
DETECTOR_ID = MEX_HRSC_S1
EVENT_TYPE = "MARS-REGIONAL-MAPPING-Te-Mw"
INSTRUMENT_HOST_ID = MEX
INSTRUMENT_HOST_NAME = "MARS EXPRESS"
INSTRUMENT_ID = HRSC
INSTRUMENT_NAME = "HIGH RESOLUTION STEREO CAMERA"
MISSION_NAME = "MARS EXPRESS"
MISSION_PHASE_NAME = ME_Phase_2
PROCESSING_LEVEL_ID = 3
PRODUCT_CREATION_TIME = 2016-04-08T13:05:01.000Z
PRODUCT_ID = "H2866_0000_S13.JP2"
RELEASE_ID = 0035
REVISION_ID = 0000
/* QUALITY DATA ELEMENTS */
DATA_QUALITY_ID = 1
DATA_QUALITY_DESC = "Data calculated based on original SPICE kernels"
/* TIME DATA ELEMENTS */
SPACECRAFT_CLOCK_START_COUNT = "1/0092290242.09061"
SPACECRAFT_CLOCK_STOP_COUNT = "1/0092291214.31648"
START_TIME = 2006-04-05T04:10:47.717Z
STOP_TIME = 2006-04-05T04:19:39.342Z
/* ORBITAL DATA ELEMENTS */
ASCENDING_NODE_LONGITUDE = 168.14
MAXIMUM_RESOLUTION = 153.6
FOOTPRINT_POINT_LATITUDE = (42.47,42.5085,42.5431,42.574,42.6011, 42.6246,42.6444,42.6604,42.6726,42.6812 ,42.6861,42.6873,42.6846,42.6784, 42.6685,42.655,42.6377,42.6168,42.5922, 42.5638,42.5316,42.4957,42.4561,42.4128 ,42.3656,42.3145,42.1407,41.8402,41.533 ,41.217,40.8948,40.5654,40.2287,39.8841 ,39.5318,39.172,38.8042,38.4283,38.0443 ,37.6524,37.2516,36.8426,36.4245, 35.9972,35.561,35.1157,34.55,34.2065, 33.7287,33.3687,32.8821,32.6325,32.3811 ,32.2035,32.2181,32.2295,32.2432, 32.2551,32.2731,32.2799,32.2824,32.2813 ,32.2768,32.2699,32.2605,32.2506,32.239 ,32.2224,32.2118,32.1944,32.1749, 32.1574,32.4126,32.6661,32.918,33.1653, 33.411,33.7762,34.2536,34.8431,35.3019, 35.751,36.1926,36.6262,37.0511,37.4714, 37.7845,38.1763,38.4634,38.8546,39.2275 ,39.5972,39.9609,40.3175,40.667,41.0098 ,41.3458,41.6748,41.9971,42.47)
FOOTPRINT_POINT_LONGITUDE = (227.923,227.424,226.926,226.428, 225.931,225.434,224.937,224.441,223.944 ,223.448,222.953,222.457,221.962, 221.467,220.972,220.478,219.984,219.49, 218.995,218.501,218.006,217.511,217.016 ,216.521,216.025,215.53,215.205,215.297 ,215.389,215.48,215.572,215.663,215.755 ,215.846,215.936,216.026,216.116, 216.205,216.294,216.383,216.47,216.557, 216.644,216.729,216.814,216.898,217.003 ,217.066,217.146,217.207,217.287, 217.327,217.366,217.61,217.903,218.195, 218.487,218.779,219.506,220.086,220.521 ,221.1,221.68,222.043,222.478,222.841, 223.204,223.567,223.857,224.221,224.585 ,224.903,224.958,225.012,225.067, 225.123,225.179,225.264,225.378,225.52, 225.637,225.755,225.875,225.995,226.117 ,226.24,226.331,226.461,226.559,226.687 ,226.82,226.953,227.087,227.222,227.359 ,227.497,227.637,227.779,227.922, 227.923)
ORBIT_NUMBER = 2866
ORBITAL_ECCENTRICITY = 0.572
ORBITAL_INCLINATION = 86.6
ORBITAL_SEMIMAJOR_AXIS = 8594.64
PERIAPSIS_ALTITUDE = 285.34
PERIAPSIS_ARGUMENT_ANGLE = 214.95
PERIAPSIS_TIME = 2006-04-05T04:44:26.000Z
SPACECRAFT_ORIENTATION = (0.0,-1.0,0.0)
^MEX_ORIENTATION_DESC = "MEX_ORIENTATION_DESC.TXT"
SPACECRAFT_POINTING_MODE = NADIR
^MEX_POINTING_DESC = "MEX_POINTING_DESC.TXT"
RIGHT_ASCENSION = -1e+32
DECLINATION = -1e+32
OFFSET_ANGLE = -1e+32
SPACECRAFT_SOLAR_DISTANCE = 2.4437e+08
TARGET_NAME = MARS
/* CAMERA DATA ELEMENTS */
DETECTOR_TEMPERATURE = 17.351
FOCAL_PLANE_TEMPERATURE = 7.5638
INST_CMPRS_NAME = "DISCRETE COSINE TRANSFORMATION (DCT)"
INST_CMPRS_RATIO = 10.0076
INST_CMPRS_QUALITY = 0
INST_CMPRS_QUANTZ_TBL_ID = 0
INSTRUMENT_TEMPERATURE = 11.0301
LENS_TEMPERATURE = 8.1755
MACROPIXEL_SIZE = 2
MISSING_FRAMES = 0
PIXEL_SUBSAMPLING_FLAG = N
SIGNAL_CHAIN_ID = 1
/* RADIOMETRIC DATA ELEMENTS */
BANDWIDTH = 180.0
CENTER_FILTER_WAVELENGTH = 677.0
RADIANCE_OFFSET = 1.22321
RADIANCE_SCALING_FACTOR = 0.0126179
REFLECTANCE_SCALING_FACTOR = 0.000393111
MEX:REFLECTANCE_OFFSET = 0.0381091
/* IMAGE OBJECT DEFINITIONS */
OBJECT = IMAGE
  INTERCHANGE_FORMAT = BINARY
  LINES = 6146
  LINE_SAMPLES = 3683
  SAMPLE_TYPE = UNSIGNED_INTEGER
  SAMPLE_BITS = 8
  BANDS = 1
  BAND_STORAGE_TYPE = BAND_SEQUENTIAL
  MAXIMUM = 255
  MEAN = 91.9956
  MINIMUM = 1
  STANDARD_DEVIATION = 37.2619
END_OBJECT = IMAGE
/* MAP OBJECT DEFINITIONS */
OBJECT = IMAGE_MAP_PROJECTION
  ^DATA_SET_MAP_PROJECTION_CATALOG= "DSMAP.CAT"
  A_AXIS_RADIUS = 3396.0
  B_AXIS_RADIUS = 3396.0
  C_AXIS_RADIUS = 3396.0
  CENTER_LATITUDE = 0.0
  CENTER_LONGITUDE = 221.0
  COORDINATE_SYSTEM_NAME = PLANETOGRAPHIC
  COORDINATE_SYSTEM_TYPE = "BODY-FIXED ROTATING"
  EASTERNMOST_LONGITUDE = 227.923
  FIRST_STANDARD_PARALLEL = "N/A"
  LINE_FIRST_PIXEL = 1
  LINE_LAST_PIXEL = 6146
  LINE_PROJECTION_OFFSET = 25274.75
  MAP_PROJECTION_ROTATION = 0.0
  MAP_PROJECTION_TYPE = SINUSOIDAL
  MAP_RESOLUTION = 592.713803866667
  MAP_SCALE = 0.1
  MAXIMUM_LATITUDE = 42.6873
  MINIMUM_LATITUDE = 32.1574
  POSITIVE_LONGITUDE_DIRECTION = EAST
  REFERENCE_LATITUDE = "N/A"
  REFERENCE_LONGITUDE = "N/A"
  SAMPLE_FIRST_PIXEL = 1
  SAMPLE_LAST_PIXEL = 3683
  SAMPLE_PROJECTION_OFFSET = 1733.75
  SECOND_STANDARD_PARALLEL = "N/A"
  WESTERNMOST_LONGITUDE = 215.205
END_OBJECT = IMAGE_MAP_PROJECTION
/* The JPEG2000 image data file associated with this label. */
OBJECT = COMPRESSED_FILE
  FILE_NAME = "H2866_0000_S13.JP2"
  RECORD_TYPE = UNDEFINED
  FILE_RECORDS = UNK
  ENCODING_TYPE = "JP2"
  INTERCHANGE_FORMAT = BINARY
  UNCOMPRESSED_FILE_NAME = "H2866_0000_S13.IMG"
  REQUIRED_STORAGE_BYTES = "22657816"
  ^DESCRIPTION = "JP2INFO.TXT"
END_OBJECT = COMPRESSED_FILE
END
