PDS_VERSION_ID = PDS3
/* FILE DATA ELEMENTS */
RECORD_TYPE = STREAM
/* POINTERS TO DATA OBJECTS */
^COMPRESSED_FILE = "H2872_0000_GR3.JP2"
/* IDENTIFICATION DATA ELEMENTS */
DATA_SET_ID = "MEX-M-HRSC-5-REFDR-MAPPROJECTED-V3.0"
DATA_SET_NAME = "MARS EXPRESS HRSC MAP PROJECTED REFDR V3.0"
DETECTOR_ID = MEX_HRSC_GREEN
EVENT_TYPE = "MARS-REGIONAL-MAPPING-Te-Mw-Ot"
INSTRUMENT_HOST_ID = MEX
INSTRUMENT_HOST_NAME = "MARS EXPRESS"
INSTRUMENT_ID = HRSC
INSTRUMENT_NAME = "HIGH RESOLUTION STEREO CAMERA"
MISSION_NAME = "MARS EXPRESS"
MISSION_PHASE_NAME = ME_Phase_2
PROCESSING_LEVEL_ID = 3
PRODUCT_CREATION_TIME = 2016-04-08T13:05:01.000Z
PRODUCT_ID = "H2872_0000_GR3.JP2"
RELEASE_ID = 0035
REVISION_ID = 0000
/* QUALITY DATA ELEMENTS */
DATA_QUALITY_ID = 2
DATA_QUALITY_DESC = "Data calculated based on photogrammetrically improved orbit and attitude data"
/* TIME DATA ELEMENTS */
SPACECRAFT_CLOCK_START_COUNT = "1/0092435268.08257"
SPACECRAFT_CLOCK_STOP_COUNT = "1/0092436419.00940"
START_TIME = 2006-04-06T20:37:04.031Z
STOP_TIME = 2006-04-06T20:44:13.129Z
/* ORBITAL DATA ELEMENTS */
ASCENDING_NODE_LONGITUDE = 168.02
MAXIMUM_RESOLUTION = 204.3
FOOTPRINT_POINT_LATITUDE = (45.2567,45.2735,45.2845,45.2927, 45.2962,45.2961,45.2923,45.2837,45.2705 ,45.2526,45.2301,45.2026,45.1702, 45.1177,44.6019,44.0802,43.5525,43.0188 ,42.4789,41.9327,41.3802,40.8214, 40.2561,39.6847,39.1064,38.5215,37.9296 ,37.6313,37.3313,37.0296,36.7263, 36.4212,36.1142,35.8055,35.4945,35.1819 ,34.8684,34.5527,34.2351,33.9158, 33.5945,33.2715,32.9467,32.6195,32.2904 ,31.9602,31.628,31.2938,30.9575,30.6192 ,30.2794,30.208,30.2135,30.2172,30.2184 ,30.2179,30.2157,30.2105,30.2055, 30.1935,30.1816,30.5205,30.86,31.1973, 31.5331,31.8671,32.199,32.529,32.8575, 33.184,33.5087,33.8321,34.153,34.4722, 34.79,35.106,35.42,35.7321,36.0429, 36.3521,36.6595,36.9653,37.2695,37.572, 37.8722,38.1723,38.4698,39.0602,39.6442 ,40.2219,40.7932,41.3586,41.918,42.4715 ,43.0191,43.5608,44.0969,44.6271, 45.1518,45.2567)
FOOTPRINT_POINT_LONGITUDE = (354.473,353.773,353.161,352.46,351.758 ,351.319,350.618,349.916,349.213, 348.508,347.803,347.095,346.385,345.766 ,345.88,345.992,346.102,346.209,346.314 ,346.416,346.515,346.612,346.707,346.8, 346.891,346.979,347.064,347.106,347.148 ,347.19,347.231,347.271,347.311,347.35, 347.387,347.424,347.463,347.501,347.537 ,347.574,347.609,347.645,347.68,347.713 ,347.745,347.779,347.812,347.845, 347.876,347.907,347.939,348.523,348.915 ,349.446,349.832,350.456,350.839, 351.365,351.747,352.415,352.939,353.135 ,353.172,353.209,353.247,353.285, 353.323,353.362,353.4,353.44,353.479, 353.518,353.559,353.599,353.639,353.68, 353.722,353.764,353.805,353.847,353.889 ,353.932,353.974,354.017,354.062, 354.104,354.148,354.236,354.326,354.417 ,354.509,354.603,354.697,354.793,354.89 ,354.988,355.088,355.189,355.292, 354.473)
ORBIT_NUMBER = 2872
ORBITAL_ECCENTRICITY = 0.572
ORBITAL_INCLINATION = 86.61
ORBITAL_SEMIMAJOR_AXIS = 8594.29
PERIAPSIS_ALTITUDE = 286.29
PERIAPSIS_ARGUMENT_ANGLE = 213.88
PERIAPSIS_TIME = 2006-04-06T21:03:30.000Z
SPACECRAFT_ORIENTATION = (0.0,-1.0,0.0)
^MEX_ORIENTATION_DESC = "MEX_ORIENTATION_DESC.TXT"
SPACECRAFT_POINTING_MODE = ACROSSTRACK
^MEX_POINTING_DESC = "MEX_POINTING_DESC.TXT"
RIGHT_ASCENSION = -1e+32
DECLINATION = -1e+32
OFFSET_ANGLE = -0.7
SPACECRAFT_SOLAR_DISTANCE = 2.44562e+08
TARGET_NAME = MARS
/* CAMERA DATA ELEMENTS */
DETECTOR_TEMPERATURE = 18.3705
FOCAL_PLANE_TEMPERATURE = 7.7677
INST_CMPRS_NAME = "DISCRETE COSINE TRANSFORMATION (DCT)"
INST_CMPRS_RATIO = 16.8068
INST_CMPRS_QUALITY = 0
INST_CMPRS_QUANTZ_TBL_ID = 0
INSTRUMENT_TEMPERATURE = 11.234
LENS_TEMPERATURE = 8.3794
MACROPIXEL_SIZE = 4
MISSING_FRAMES = 0
PIXEL_SUBSAMPLING_FLAG = N
SIGNAL_CHAIN_ID = 2
/* RADIOMETRIC DATA ELEMENTS */
BANDWIDTH = 88.0
CENTER_FILTER_WAVELENGTH = 538.0
RADIANCE_OFFSET = 0.436034
RADIANCE_SCALING_FACTOR = 0.00258801
REFLECTANCE_SCALING_FACTOR = 0.000133268
MEX:REFLECTANCE_OFFSET = 0.0224533
/* IMAGE OBJECT DEFINITIONS */
OBJECT = IMAGE
  INTERCHANGE_FORMAT = BINARY
  LINES = 4474
  LINE_SAMPLES = 1913
  SAMPLE_TYPE = UNSIGNED_INTEGER
  SAMPLE_BITS = 8
  BANDS = 1
  BAND_STORAGE_TYPE = BAND_SEQUENTIAL
  MAXIMUM = 255
  MEAN = 99.6291
  MINIMUM = 4
  STANDARD_DEVIATION = 37.1626
END_OBJECT = IMAGE
/* MAP OBJECT DEFINITIONS */
OBJECT = IMAGE_MAP_PROJECTION
  ^DATA_SET_MAP_PROJECTION_CATALOG= "DSMAP.CAT"
  A_AXIS_RADIUS = 3396.0
  B_AXIS_RADIUS = 3396.0
  C_AXIS_RADIUS = 3396.0
  CENTER_LATITUDE = 0.0
  CENTER_LONGITUDE = 351.0
  COORDINATE_SYSTEM_NAME = PLANETOGRAPHIC
  COORDINATE_SYSTEM_TYPE = "BODY-FIXED ROTATING"
  EASTERNMOST_LONGITUDE = 355.292
  FIRST_STANDARD_PARALLEL = "N/A"
  LINE_FIRST_PIXEL = 1
  LINE_LAST_PIXEL = 4474
  LINE_PROJECTION_OFFSET = 13419.625
  MAP_PROJECTION_ROTATION = 0.0
  MAP_PROJECTION_TYPE = SINUSOIDAL
  MAP_RESOLUTION = 296.356901933333
  MAP_SCALE = 0.2
  MAXIMUM_LATITUDE = 45.2962
  MINIMUM_LATITUDE = 30.1816
  POSITIVE_LONGITUDE_DIRECTION = EAST
  REFERENCE_LATITUDE = "N/A"
  REFERENCE_LONGITUDE = "N/A"
  SAMPLE_FIRST_PIXEL = 1
  SAMPLE_LAST_PIXEL = 1913
  SAMPLE_PROJECTION_OFFSET = 1061.625
  SECOND_STANDARD_PARALLEL = "N/A"
  WESTERNMOST_LONGITUDE = 345.766
END_OBJECT = IMAGE_MAP_PROJECTION
/* The JPEG2000 image data file associated with this label. */
OBJECT = COMPRESSED_FILE
  FILE_NAME = "H2872_0000_GR3.JP2"
  RECORD_TYPE = UNDEFINED
  FILE_RECORDS = UNK
  ENCODING_TYPE = "JP2"
  INTERCHANGE_FORMAT = BINARY
  UNCOMPRESSED_FILE_NAME = "H2872_0000_GR3.IMG"
  REQUIRED_STORAGE_BYTES = "8577892"
  ^DESCRIPTION = "JP2INFO.TXT"
END_OBJECT = COMPRESSED_FILE
END
