PDS_VERSION_ID = PDS3
/* FILE DATA ELEMENTS */
RECORD_TYPE = STREAM
/* POINTERS TO DATA OBJECTS */
^COMPRESSED_FILE = "H2872_0000_ND3.JP2"
/* IDENTIFICATION DATA ELEMENTS */
DATA_SET_ID = "MEX-M-HRSC-5-REFDR-MAPPROJECTED-V3.0"
DATA_SET_NAME = "MARS EXPRESS HRSC MAP PROJECTED REFDR V3.0"
DETECTOR_ID = MEX_HRSC_NADIR
EVENT_TYPE = "MARS-REGIONAL-MAPPING-Te-Mw-Ot"
INSTRUMENT_HOST_ID = MEX
INSTRUMENT_HOST_NAME = "MARS EXPRESS"
INSTRUMENT_ID = HRSC
INSTRUMENT_NAME = "HIGH RESOLUTION STEREO CAMERA"
MISSION_NAME = "MARS EXPRESS"
MISSION_PHASE_NAME = ME_Phase_2
PROCESSING_LEVEL_ID = 3
PRODUCT_CREATION_TIME = 2016-04-08T13:05:01.000Z
PRODUCT_ID = "H2872_0000_ND3.JP2"
RELEASE_ID = 0035
REVISION_ID = 0000
/* QUALITY DATA ELEMENTS */
DATA_QUALITY_ID = 2
DATA_QUALITY_DESC = "Data calculated based on photogrammetrically improved orbit and attitude data"
/* TIME DATA ELEMENTS */
SPACECRAFT_CLOCK_START_COUNT = "1/0092435268.08257"
SPACECRAFT_CLOCK_STOP_COUNT = "1/0092436419.00940"
START_TIME = 2006-04-06T20:38:01.963Z
STOP_TIME = 2006-04-06T20:44:42.937Z
/* ORBITAL DATA ELEMENTS */
ASCENDING_NODE_LONGITUDE = 168.02
MAXIMUM_RESOLUTION = 49.3
FOOTPRINT_POINT_LATITUDE = (45.2459,45.2611,45.2709,45.2782, 45.2809,45.2794,45.2725,45.2616,45.2463 ,45.2267,45.2024,45.1587,44.6325, 44.1009,43.5638,43.0212,42.4731,41.9194 ,41.36,40.7948,40.2239,39.6472,39.0645, 38.476,38.1794,37.8814,37.5818,37.2807, 36.9781,36.6739,36.3683,36.061,35.7522, 35.4419,35.1299,34.8164,34.5013,34.1845 ,33.8662,33.5463,33.2248,32.9017,32.577 ,32.2506,31.9225,31.5928,31.2615, 30.9285,30.5938,30.2575,30.2264,30.2296 ,30.2302,30.2296,30.2275,30.2244, 30.2183,30.2124,30.1985,30.1868,30.524, 30.8595,31.1934,31.5257,31.8563,32.1853 ,32.5128,32.8387,33.1629,33.4857, 33.8068,34.1263,34.4444,34.7609,35.0758 ,35.3892,35.7012,36.0116,36.3204, 36.6278,36.9337,37.2381,37.5411,37.8425 ,38.1425,38.4411,38.7382,39.0339,39.621 ,40.2025,40.7784,41.3489,41.9138, 42.4734,43.0277,43.5767,44.1205,44.6592 ,45.1929,45.2459)
FOOTPRINT_POINT_LONGITUDE = (354.149,353.44,352.82,352.111,351.401, 350.69,349.89,349.179,348.465,347.75, 347.031,345.933,346.043,346.151,346.257 ,346.359,346.459,346.557,346.652, 346.745,346.835,346.924,347.01,347.093, 347.134,347.174,347.214,347.254,347.293 ,347.332,347.37,347.407,347.445,347.48, 347.517,347.552,347.587,347.623,347.657 ,347.691,347.724,347.756,347.787, 347.818,347.85,347.882,347.912,347.941, 347.97,348.0,348.55,349.151,349.648, 349.994,350.438,350.831,351.372,351.765 ,352.499,353.012,353.047,353.081, 353.117,353.152,353.188,353.224,353.26, 353.296,353.333,353.37,353.407,353.444, 353.482,353.521,353.559,353.597,353.637 ,353.676,353.715,353.755,353.795, 353.835,353.875,353.916,353.956,353.997 ,354.039,354.081,354.165,354.25,354.337 ,354.425,354.513,354.603,354.694, 354.787,354.88,354.975,355.072,354.149)
ORBIT_NUMBER = 2872
ORBITAL_ECCENTRICITY = 0.572
ORBITAL_INCLINATION = 86.61
ORBITAL_SEMIMAJOR_AXIS = 8594.29
PERIAPSIS_ALTITUDE = 286.29
PERIAPSIS_ARGUMENT_ANGLE = 213.88
PERIAPSIS_TIME = 2006-04-06T21:03:30.000Z
SPACECRAFT_ORIENTATION = (0.0,-1.0,0.0)
^MEX_ORIENTATION_DESC = "MEX_ORIENTATION_DESC.TXT"
SPACECRAFT_POINTING_MODE = ACROSSTRACK
^MEX_POINTING_DESC = "MEX_POINTING_DESC.TXT"
RIGHT_ASCENSION = -1e+32
DECLINATION = -1e+32
OFFSET_ANGLE = -0.7
SPACECRAFT_SOLAR_DISTANCE = 2.44562e+08
TARGET_NAME = MARS
/* CAMERA DATA ELEMENTS */
DETECTOR_TEMPERATURE = 18.3705
FOCAL_PLANE_TEMPERATURE = 7.7677
INST_CMPRS_NAME = "DISCRETE COSINE TRANSFORMATION (DCT)"
INST_CMPRS_RATIO = 8.59403
INST_CMPRS_QUALITY = 0
INST_CMPRS_QUANTZ_TBL_ID = 0
INSTRUMENT_TEMPERATURE = 11.234
LENS_TEMPERATURE = 8.3794
MACROPIXEL_SIZE = 1
MISSING_FRAMES = 0
PIXEL_SUBSAMPLING_FLAG = N
SIGNAL_CHAIN_ID = 0
/* RADIOMETRIC DATA ELEMENTS */
BANDWIDTH = 177.0
CENTER_FILTER_WAVELENGTH = 677.5
RADIANCE_OFFSET = 0.826098
RADIANCE_SCALING_FACTOR = 0.00842296
REFLECTANCE_SCALING_FACTOR = 0.000267621
MEX:REFLECTANCE_OFFSET = 0.0262474
/* IMAGE OBJECT DEFINITIONS */
OBJECT = IMAGE
  INTERCHANGE_FORMAT = BINARY
  LINES = 17896
  LINE_SAMPLES = 7649
  SAMPLE_TYPE = UNSIGNED_INTEGER
  SAMPLE_BITS = 8
  BANDS = 1
  BAND_STORAGE_TYPE = BAND_SEQUENTIAL
  MAXIMUM = 255
  MEAN = 83.4576
  MINIMUM = 1
  STANDARD_DEVIATION = 29.3465
END_OBJECT = IMAGE
/* MAP OBJECT DEFINITIONS */
OBJECT = IMAGE_MAP_PROJECTION
  ^DATA_SET_MAP_PROJECTION_CATALOG= "DSMAP.CAT"
  A_AXIS_RADIUS = 3396.0
  B_AXIS_RADIUS = 3396.0
  C_AXIS_RADIUS = 3396.0
  CENTER_LATITUDE = 0.0
  CENTER_LONGITUDE = 351.0
  COORDINATE_SYSTEM_NAME = PLANETOGRAPHIC
  COORDINATE_SYSTEM_TYPE = "BODY-FIXED ROTATING"
  EASTERNMOST_LONGITUDE = 355.072
  FIRST_STANDARD_PARALLEL = "N/A"
  LINE_FIRST_PIXEL = 1
  LINE_LAST_PIXEL = 17896
  LINE_PROJECTION_OFFSET = 53680.0
  MAP_PROJECTION_ROTATION = 0.0
  MAP_PROJECTION_TYPE = SINUSOIDAL
  MAP_RESOLUTION = 1185.42760773333
  MAP_SCALE = 0.05
  MAXIMUM_LATITUDE = 45.2809
  MINIMUM_LATITUDE = 30.1868
  POSITIVE_LONGITUDE_DIRECTION = EAST
  REFERENCE_LATITUDE = "N/A"
  REFERENCE_LONGITUDE = "N/A"
  SAMPLE_FIRST_PIXEL = 1
  SAMPLE_LAST_PIXEL = 7649
  SAMPLE_PROJECTION_OFFSET = 4248.0
  SECOND_STANDARD_PARALLEL = "N/A"
  WESTERNMOST_LONGITUDE = 345.933
END_OBJECT = IMAGE_MAP_PROJECTION
/* The JPEG2000 image data file associated with this label. */
OBJECT = COMPRESSED_FILE
  FILE_NAME = "H2872_0000_ND3.JP2"
  RECORD_TYPE = UNDEFINED
  FILE_RECORDS = UNK
  ENCODING_TYPE = "JP2"
  INTERCHANGE_FORMAT = BINARY
  UNCOMPRESSED_FILE_NAME = "H2872_0000_ND3.IMG"
  REQUIRED_STORAGE_BYTES = "136917100"
  ^DESCRIPTION = "JP2INFO.TXT"
END_OBJECT = COMPRESSED_FILE
END
