PDS_VERSION_ID = PDS3
/* FILE DATA ELEMENTS */
RECORD_TYPE = STREAM
/* POINTERS TO DATA OBJECTS */
^COMPRESSED_FILE = "H2872_0000_P23.JP2"
/* IDENTIFICATION DATA ELEMENTS */
DATA_SET_ID = "MEX-M-HRSC-5-REFDR-MAPPROJECTED-V3.0"
DATA_SET_NAME = "MARS EXPRESS HRSC MAP PROJECTED REFDR V3.0"
DETECTOR_ID = MEX_HRSC_P2
EVENT_TYPE = "MARS-REGIONAL-MAPPING-Te-Mw-Ot"
INSTRUMENT_HOST_ID = MEX
INSTRUMENT_HOST_NAME = "MARS EXPRESS"
INSTRUMENT_ID = HRSC
INSTRUMENT_NAME = "HIGH RESOLUTION STEREO CAMERA"
MISSION_NAME = "MARS EXPRESS"
MISSION_PHASE_NAME = ME_Phase_2
PROCESSING_LEVEL_ID = 3
PRODUCT_CREATION_TIME = 2016-04-08T13:05:01.000Z
PRODUCT_ID = "H2872_0000_P23.JP2"
RELEASE_ID = 0035
REVISION_ID = 0000
/* QUALITY DATA ELEMENTS */
DATA_QUALITY_ID = 2
DATA_QUALITY_DESC = "Data calculated based on photogrammetrically improved orbit and attitude data"
/* TIME DATA ELEMENTS */
SPACECRAFT_CLOCK_START_COUNT = "1/0092435268.08257"
SPACECRAFT_CLOCK_STOP_COUNT = "1/0092436419.00940"
START_TIME = 2006-04-06T20:40:55.699Z
STOP_TIME = 2006-04-06T20:46:20.256Z
/* ORBITAL DATA ELEMENTS */
ASCENDING_NODE_LONGITUDE = 168.02
MAXIMUM_RESOLUTION = 91.2
FOOTPRINT_POINT_LATITUDE = (45.1712,45.1912,45.2033,45.2133, 45.2213,45.2272,45.2311,45.233,45.2328, 45.2305,45.226,45.2193,45.291,44.7389, 44.1825,43.6227,43.0589,42.4915,41.9208 ,41.3455,40.767,40.1841,39.8905,39.4491 ,39.0057,38.7094,38.4113,38.1135, 37.6626,37.3612,37.0591,36.754,36.4499, 35.9913,35.5305,35.2231,34.9137,34.6029 ,34.2909,33.9777,33.6643,33.3499, 32.8773,32.5624,32.2436,31.9246,31.6041 ,31.2828,30.8013,30.4769,30.2809, 30.2713,30.2607,30.2528,30.2439,30.2316 ,30.2217,30.2134,30.2043,30.195,30.3514 ,30.6749,30.9976,31.4801,31.8007, 32.1197,32.4382,32.7555,33.0719,33.3876 ,33.7019,34.0139,34.4816,34.794,35.1045 ,35.5681,35.8773,36.1834,36.4889, 36.7938,37.0971,37.3995,37.7009,38.0004 ,38.4493,38.7487,39.0458,39.3418, 39.6373,39.9321,40.5179,41.1002,41.5352 ,42.1106,42.6828,43.2516,43.8164, 44.3773,44.9359,45.1712)
FOOTPRINT_POINT_LONGITUDE = (354.145,353.316,352.714,352.111, 351.508,350.903,350.297,349.691,349.084 ,348.475,347.863,347.25,346.537,346.631 ,346.723,346.812,346.898,346.982, 347.064,347.143,347.22,347.295,347.332, 347.386,347.439,347.473,347.508,347.541 ,347.591,347.623,347.655,347.688, 347.719,347.765,347.81,347.838,347.867, 347.896,347.925,347.953,347.98,348.007, 348.045,348.07,348.096,348.121,348.146, 348.17,348.205,348.228,348.504,348.862, 349.48,349.874,350.312,350.922,351.399, 351.746,352.092,352.481,352.771,352.8, 352.829,352.873,352.903,352.933,352.963 ,352.993,353.024,353.054,353.085, 353.116,353.163,353.195,353.228,353.276 ,353.31,353.342,353.375,353.409,353.442 ,353.476,353.51,353.543,353.595,353.63, 353.665,353.701,353.736,353.772,353.845 ,353.918,353.975,354.05,354.127,354.204 ,354.283,354.363,354.445,354.145)
ORBIT_NUMBER = 2872
ORBITAL_ECCENTRICITY = 0.572
ORBITAL_INCLINATION = 86.61
ORBITAL_SEMIMAJOR_AXIS = 8594.29
PERIAPSIS_ALTITUDE = 286.29
PERIAPSIS_ARGUMENT_ANGLE = 213.88
PERIAPSIS_TIME = 2006-04-06T21:03:30.000Z
SPACECRAFT_ORIENTATION = (0.0,-1.0,0.0)
^MEX_ORIENTATION_DESC = "MEX_ORIENTATION_DESC.TXT"
SPACECRAFT_POINTING_MODE = ACROSSTRACK
^MEX_POINTING_DESC = "MEX_POINTING_DESC.TXT"
RIGHT_ASCENSION = -1e+32
DECLINATION = -1e+32
OFFSET_ANGLE = -0.7
SPACECRAFT_SOLAR_DISTANCE = 2.44562e+08
TARGET_NAME = MARS
/* CAMERA DATA ELEMENTS */
DETECTOR_TEMPERATURE = 18.7783
FOCAL_PLANE_TEMPERATURE = 7.7677
INST_CMPRS_NAME = "DISCRETE COSINE TRANSFORMATION (DCT)"
INST_CMPRS_RATIO = 8.20039
INST_CMPRS_QUALITY = 0
INST_CMPRS_QUANTZ_TBL_ID = 0
INSTRUMENT_TEMPERATURE = 11.234
LENS_TEMPERATURE = 8.3794
MACROPIXEL_SIZE = 2
MISSING_FRAMES = 0
PIXEL_SUBSAMPLING_FLAG = N
SIGNAL_CHAIN_ID = 3
/* RADIOMETRIC DATA ELEMENTS */
BANDWIDTH = 177.0
CENTER_FILTER_WAVELENGTH = 676.5
RADIANCE_OFFSET = 0.903566
RADIANCE_SCALING_FACTOR = 0.00809919
REFLECTANCE_SCALING_FACTOR = 0.000256843
MEX:REFLECTANCE_OFFSET = 0.0286541
/* IMAGE OBJECT DEFINITIONS */
OBJECT = IMAGE
  INTERCHANGE_FORMAT = BINARY
  LINES = 8948
  LINE_SAMPLES = 3825
  SAMPLE_TYPE = UNSIGNED_INTEGER
  SAMPLE_BITS = 8
  BANDS = 1
  BAND_STORAGE_TYPE = BAND_SEQUENTIAL
  MAXIMUM = 255
  MEAN = 93.9406
  MINIMUM = 1
  STANDARD_DEVIATION = 28.4806
END_OBJECT = IMAGE
/* MAP OBJECT DEFINITIONS */
OBJECT = IMAGE_MAP_PROJECTION
  ^DATA_SET_MAP_PROJECTION_CATALOG= "DSMAP.CAT"
  A_AXIS_RADIUS = 3396.0
  B_AXIS_RADIUS = 3396.0
  C_AXIS_RADIUS = 3396.0
  CENTER_LATITUDE = 0.0
  CENTER_LONGITUDE = 351.0
  COORDINATE_SYSTEM_NAME = PLANETOGRAPHIC
  COORDINATE_SYSTEM_TYPE = "BODY-FIXED ROTATING"
  EASTERNMOST_LONGITUDE = 354.445
  FIRST_STANDARD_PARALLEL = "N/A"
  LINE_FIRST_PIXEL = 1
  LINE_LAST_PIXEL = 8948
  LINE_PROJECTION_OFFSET = 26839.75
  MAP_PROJECTION_ROTATION = 0.0
  MAP_PROJECTION_TYPE = SINUSOIDAL
  MAP_RESOLUTION = 592.713803866667
  MAP_SCALE = 0.1
  MAXIMUM_LATITUDE = 45.291
  MINIMUM_LATITUDE = 30.195
  POSITIVE_LONGITUDE_DIRECTION = EAST
  REFERENCE_LATITUDE = "N/A"
  REFERENCE_LONGITUDE = "N/A"
  SAMPLE_FIRST_PIXEL = 1
  SAMPLE_LAST_PIXEL = 3825
  SAMPLE_PROJECTION_OFFSET = 2123.75
  SECOND_STANDARD_PARALLEL = "N/A"
  WESTERNMOST_LONGITUDE = 346.537
END_OBJECT = IMAGE_MAP_PROJECTION
/* The JPEG2000 image data file associated with this label. */
OBJECT = COMPRESSED_FILE
  FILE_NAME = "H2872_0000_P23.JP2"
  RECORD_TYPE = UNDEFINED
  FILE_RECORDS = UNK
  ENCODING_TYPE = "JP2"
  INTERCHANGE_FORMAT = BINARY
  UNCOMPRESSED_FILE_NAME = "H2872_0000_P23.IMG"
  REQUIRED_STORAGE_BYTES = "34249050"
  ^DESCRIPTION = "JP2INFO.TXT"
END_OBJECT = COMPRESSED_FILE
END
