PDS_VERSION_ID = PDS3
/* FILE DATA ELEMENTS */
RECORD_TYPE = STREAM
/* POINTERS TO DATA OBJECTS */
^COMPRESSED_FILE = "H2874_0001_P13.JP2"
/* IDENTIFICATION DATA ELEMENTS */
DATA_SET_ID = "MEX-M-HRSC-5-REFDR-MAPPROJECTED-V3.0"
DATA_SET_NAME = "MARS EXPRESS HRSC MAP PROJECTED REFDR V3.0"
DETECTOR_ID = MEX_HRSC_P1
EVENT_TYPE = "MARS-TERMINATOR-VARIABLE-At"
INSTRUMENT_HOST_ID = MEX
INSTRUMENT_HOST_NAME = "MARS EXPRESS"
INSTRUMENT_ID = HRSC
INSTRUMENT_NAME = "HIGH RESOLUTION STEREO CAMERA"
MISSION_NAME = "MARS EXPRESS"
MISSION_PHASE_NAME = ME_Phase_2
PROCESSING_LEVEL_ID = 3
PRODUCT_CREATION_TIME = 2016-04-08T13:05:01.000Z
PRODUCT_ID = "H2874_0001_P13.JP2"
RELEASE_ID = 0035
REVISION_ID = 0000
/* QUALITY DATA ELEMENTS */
DATA_QUALITY_ID = 1
DATA_QUALITY_DESC = "Data calculated based on original SPICE kernels"
/* TIME DATA ELEMENTS */
SPACECRAFT_CLOCK_START_COUNT = "1/0092484893.07286"
SPACECRAFT_CLOCK_STOP_COUNT = "1/0092485189.21487"
START_TIME = 2006-04-07T10:15:40.755Z
STOP_TIME = 2006-04-07T10:18:02.791Z
/* ORBITAL DATA ELEMENTS */
ASCENDING_NODE_LONGITUDE = 167.97
MAXIMUM_RESOLUTION = 115.6
FOOTPRINT_POINT_LATITUDE = (14.538,14.5441,14.5497,14.5536,14.5585 ,14.5613,14.5644,14.5682,14.5715, 14.5755,14.5776,14.5793,14.5806,14.5643 ,14.3107,14.0561,13.8005,13.5437,13.286 ,13.0275,12.7678,12.5067,12.2449, 11.9821,11.7183,11.4534,11.1876,10.9207 ,10.7869,10.6528,10.5185,10.3839, 10.2491,10.114,9.97871,9.84312,9.70728, 9.57119,9.43482,9.29818,9.16129,9.02431 ,8.88683,8.74914,8.6112,8.47315,8.33461 ,8.12698,7.98987,7.83618,7.8351,7.83406 ,7.83228,7.83035,7.82845,7.82585, 7.82373,7.82097,7.81834,7.81543,7.81237 ,7.8064,7.80243,7.94001,8.0767,8.21437, 8.35263,8.49077,8.62877,8.76619,8.9032, 9.10873,9.24553,9.38187,9.51803,9.65392 ,9.78953,9.92494,10.0601,10.195,10.3296 ,10.464,10.5981,10.7319,10.8655,11.132, 11.3973,11.6617,11.9251,12.1873,12.4486 ,12.7089,12.9682,13.2264,13.4836, 13.7397,13.9949,14.249,14.5022,14.538)
FOOTPRINT_POINT_LONGITUDE = (155.921,155.688,155.456,155.282,155.05 ,154.905,154.73,154.499,154.266,153.919 ,153.686,153.454,153.163,152.944, 152.954,152.964,152.974,152.984,152.994 ,153.003,153.013,153.022,153.031, 153.041,153.05,153.059,153.068,153.076, 153.081,153.085,153.09,153.094,153.098, 153.102,153.107,153.111,153.115,153.119 ,153.123,153.128,153.132,153.136,153.14 ,153.144,153.148,153.152,153.156, 153.162,153.166,153.214,153.376,153.515 ,153.723,153.908,154.069,154.277, 154.438,154.622,154.784,154.946,155.107 ,155.407,155.592,155.654,155.662, 155.669,155.677,155.685,155.693,155.701 ,155.709,155.721,155.729,155.737, 155.745,155.753,155.761,155.769,155.778 ,155.786,155.794,155.802,155.811, 155.819,155.827,155.844,155.861,155.878 ,155.895,155.912,155.93,155.947,155.965 ,155.983,156.001,156.019,156.037, 156.055,156.073,155.921)
ORBIT_NUMBER = 2874
ORBITAL_ECCENTRICITY = 0.572
ORBITAL_INCLINATION = 86.62
ORBITAL_SEMIMAJOR_AXIS = 8594.1
PERIAPSIS_ALTITUDE = 285.8
PERIAPSIS_ARGUMENT_ANGLE = 213.56
PERIAPSIS_TIME = 2006-04-07T10:29:53.000Z
SPACECRAFT_ORIENTATION = (0.0,-1.0,0.0)
^MEX_ORIENTATION_DESC = "MEX_ORIENTATION_DESC.TXT"
SPACECRAFT_POINTING_MODE = NADIR
^MEX_POINTING_DESC = "MEX_POINTING_DESC.TXT"
RIGHT_ASCENSION = -1e+32
DECLINATION = -1e+32
OFFSET_ANGLE = -1e+32
SPACECRAFT_SOLAR_DISTANCE = 2.44626e+08
TARGET_NAME = MARS
/* CAMERA DATA ELEMENTS */
DETECTOR_TEMPERATURE = 20.2056
FOCAL_PLANE_TEMPERATURE = 8.5833
INST_CMPRS_NAME = "DISCRETE COSINE TRANSFORMATION (DCT)"
INST_CMPRS_RATIO = 16.3321
INST_CMPRS_QUALITY = 0
INST_CMPRS_QUANTZ_TBL_ID = 0
INSTRUMENT_TEMPERATURE = 14.7003
LENS_TEMPERATURE = 9.195
MACROPIXEL_SIZE = 4
MISSING_FRAMES = 0
PIXEL_SUBSAMPLING_FLAG = N
SIGNAL_CHAIN_ID = 1
/* RADIOMETRIC DATA ELEMENTS */
BANDWIDTH = 174.0
CENTER_FILTER_WAVELENGTH = 675.0
RADIANCE_OFFSET = 0.355352
RADIANCE_SCALING_FACTOR = 0.00310866
REFLECTANCE_SCALING_FACTOR = 0.00010006
MEX:REFLECTANCE_OFFSET = 0.0114379
/* IMAGE OBJECT DEFINITIONS */
OBJECT = IMAGE
  INTERCHANGE_FORMAT = BINARY
  LINES = 4011
  LINE_SAMPLES = 1673
  SAMPLE_TYPE = UNSIGNED_INTEGER
  SAMPLE_BITS = 8
  BANDS = 1
  BAND_STORAGE_TYPE = BAND_SEQUENTIAL
  MAXIMUM = 255
  MEAN = 124.047
  MINIMUM = 1
  STANDARD_DEVIATION = 38.6925
END_OBJECT = IMAGE
/* MAP OBJECT DEFINITIONS */
OBJECT = IMAGE_MAP_PROJECTION
  ^DATA_SET_MAP_PROJECTION_CATALOG= "DSMAP.CAT"
  A_AXIS_RADIUS = 3396.0
  B_AXIS_RADIUS = 3396.0
  C_AXIS_RADIUS = 3396.0
  CENTER_LATITUDE = 0.0
  CENTER_LONGITUDE = 154.0
  COORDINATE_SYSTEM_NAME = PLANETOGRAPHIC
  COORDINATE_SYSTEM_TYPE = "BODY-FIXED ROTATING"
  EASTERNMOST_LONGITUDE = 156.073
  FIRST_STANDARD_PARALLEL = "N/A"
  LINE_FIRST_PIXEL = 1
  LINE_LAST_PIXEL = 4011
  LINE_PROJECTION_OFFSET = 8649.75
  MAP_PROJECTION_ROTATION = 0.0
  MAP_PROJECTION_TYPE = SINUSOIDAL
  MAP_RESOLUTION = 592.713803866667
  MAP_SCALE = 0.1
  MAXIMUM_LATITUDE = 14.5806
  MINIMUM_LATITUDE = 7.80243
  POSITIVE_LONGITUDE_DIRECTION = EAST
  REFERENCE_LATITUDE = "N/A"
  REFERENCE_LONGITUDE = "N/A"
  SAMPLE_FIRST_PIXEL = 1
  SAMPLE_LAST_PIXEL = 1673
  SAMPLE_PROJECTION_OFFSET = 546.25
  SECOND_STANDARD_PARALLEL = "N/A"
  WESTERNMOST_LONGITUDE = 152.944
END_OBJECT = IMAGE_MAP_PROJECTION
/* The JPEG2000 image data file associated with this label. */
OBJECT = COMPRESSED_FILE
  FILE_NAME = "H2874_0001_P13.JP2"
  RECORD_TYPE = UNDEFINED
  FILE_RECORDS = UNK
  ENCODING_TYPE = "JP2"
  INTERCHANGE_FORMAT = BINARY
  UNCOMPRESSED_FILE_NAME = "H2874_0001_P13.IMG"
  REQUIRED_STORAGE_BYTES = "6730479"
  ^DESCRIPTION = "JP2INFO.TXT"
END_OBJECT = COMPRESSED_FILE
END
