PDS_VERSION_ID = PDS3
/* FILE DATA ELEMENTS */
RECORD_TYPE = STREAM
/* POINTERS TO DATA OBJECTS */
^COMPRESSED_FILE = "H2874_0001_S13.JP2"
/* IDENTIFICATION DATA ELEMENTS */
DATA_SET_ID = "MEX-M-HRSC-5-REFDR-MAPPROJECTED-V3.0"
DATA_SET_NAME = "MARS EXPRESS HRSC MAP PROJECTED REFDR V3.0"
DETECTOR_ID = MEX_HRSC_S1
EVENT_TYPE = "MARS-TERMINATOR-VARIABLE-At"
INSTRUMENT_HOST_ID = MEX
INSTRUMENT_HOST_NAME = "MARS EXPRESS"
INSTRUMENT_ID = HRSC
INSTRUMENT_NAME = "HIGH RESOLUTION STEREO CAMERA"
MISSION_NAME = "MARS EXPRESS"
MISSION_PHASE_NAME = ME_Phase_2
PROCESSING_LEVEL_ID = 3
PRODUCT_CREATION_TIME = 2016-04-08T13:05:01.000Z
PRODUCT_ID = "H2874_0001_S13.JP2"
RELEASE_ID = 0035
REVISION_ID = 0000
/* QUALITY DATA ELEMENTS */
DATA_QUALITY_ID = 1
DATA_QUALITY_DESC = "Data calculated based on original SPICE kernels"
/* TIME DATA ELEMENTS */
SPACECRAFT_CLOCK_START_COUNT = "1/0092484893.07286"
SPACECRAFT_CLOCK_STOP_COUNT = "1/0092485189.21487"
START_TIME = 2006-04-07T10:14:58.704Z
STOP_TIME = 2006-04-07T10:17:32.784Z
/* ORBITAL DATA ELEMENTS */
ASCENDING_NODE_LONGITUDE = 167.97
MAXIMUM_RESOLUTION = 125.7
FOOTPRINT_POINT_LATITUDE = (14.5431,14.5507,14.5576,14.564,14.5696 ,14.5751,14.5788,14.5823,14.5851, 14.5873,14.5887,14.5895,14.5896,14.5007 ,14.1847,13.8702,13.6156,13.36,13.1035, 12.8452,12.5855,12.3243,12.0623,11.7989 ,11.5343,11.2685,11.1351,11.0013, 10.8673,10.733,10.5983,10.4633,10.328, 10.1924,10.0565,9.92021,9.78362,9.64675 ,9.50957,9.37203,9.23406,9.09592, 8.95749,8.81858,8.67938,8.54005,8.40014 ,8.25989,8.11927,7.97834,7.83726, 7.82695,7.82566,7.82406,7.82235,7.81997 ,7.8179,7.81298,7.80767,7.80407,7.80025 ,7.79577,7.79155,7.93133,8.07171, 8.21184,8.35173,8.56059,8.70031,8.83851 ,9.0459,9.18434,9.32146,9.52753,9.73266 ,9.86895,10.005,10.1408,10.2763,10.4113 ,10.5461,10.6805,10.8146,11.0153, 11.1486,11.2815,11.4142,11.6785,11.9416 ,12.2035,12.464,12.7233,12.9813,13.238, 13.4933,13.7474,14.0004,14.2521,14.5026 ,14.5431)
FOOTPRINT_POINT_LONGITUDE = (156.018,155.77,155.521,155.273,155.025 ,154.746,154.529,154.281,154.033, 153.785,153.536,153.288,153.039,152.839 ,152.853,152.869,152.88,152.891,152.903 ,152.914,152.925,152.936,152.947, 152.957,152.968,152.979,152.984,152.989 ,152.994,152.999,153.005,153.01,153.015 ,153.02,153.025,153.03,153.035,153.04, 153.045,153.05,153.054,153.059,153.064, 153.069,153.074,153.078,153.083,153.088 ,153.092,153.097,153.102,153.271, 153.514,153.733,153.903,154.122,154.292 ,154.608,154.9,155.07,155.24,155.435, 155.605,155.719,155.728,155.737,155.745 ,155.758,155.767,155.776,155.789, 155.798,155.807,155.82,155.833,155.842, 155.851,155.86,155.869,155.878,155.887, 155.897,155.906,155.92,155.929,155.938, 155.947,155.966,155.985,156.004,156.023 ,156.043,156.062,156.081,156.101, 156.121,156.141,156.161,156.181, 156.018)
ORBIT_NUMBER = 2874
ORBITAL_ECCENTRICITY = 0.572
ORBITAL_INCLINATION = 86.62
ORBITAL_SEMIMAJOR_AXIS = 8594.1
PERIAPSIS_ALTITUDE = 285.8
PERIAPSIS_ARGUMENT_ANGLE = 213.56
PERIAPSIS_TIME = 2006-04-07T10:29:53.000Z
SPACECRAFT_ORIENTATION = (0.0,-1.0,0.0)
^MEX_ORIENTATION_DESC = "MEX_ORIENTATION_DESC.TXT"
SPACECRAFT_POINTING_MODE = NADIR
^MEX_POINTING_DESC = "MEX_POINTING_DESC.TXT"
RIGHT_ASCENSION = -1e+32
DECLINATION = -1e+32
OFFSET_ANGLE = -1e+32
SPACECRAFT_SOLAR_DISTANCE = 2.44626e+08
TARGET_NAME = MARS
/* CAMERA DATA ELEMENTS */
DETECTOR_TEMPERATURE = 20.2056
FOCAL_PLANE_TEMPERATURE = 8.5833
INST_CMPRS_NAME = "DISCRETE COSINE TRANSFORMATION (DCT)"
INST_CMPRS_RATIO = 16.8699
INST_CMPRS_QUALITY = 0
INST_CMPRS_QUANTZ_TBL_ID = 0
INSTRUMENT_TEMPERATURE = 14.7003
LENS_TEMPERATURE = 9.195
MACROPIXEL_SIZE = 4
MISSING_FRAMES = 0
PIXEL_SUBSAMPLING_FLAG = N
SIGNAL_CHAIN_ID = 1
/* RADIOMETRIC DATA ELEMENTS */
BANDWIDTH = 180.0
CENTER_FILTER_WAVELENGTH = 677.0
RADIANCE_OFFSET = 0.414814
RADIANCE_SCALING_FACTOR = 0.00406681
REFLECTANCE_SCALING_FACTOR = 0.000126968
MEX:REFLECTANCE_OFFSET = 0.0129508
/* IMAGE OBJECT DEFINITIONS */
OBJECT = IMAGE
  INTERCHANGE_FORMAT = BINARY
  LINES = 4011
  LINE_SAMPLES = 1673
  SAMPLE_TYPE = UNSIGNED_INTEGER
  SAMPLE_BITS = 8
  BANDS = 1
  BAND_STORAGE_TYPE = BAND_SEQUENTIAL
  MAXIMUM = 203
  MEAN = 94.0998
  MINIMUM = 1
  STANDARD_DEVIATION = 30.1738
END_OBJECT = IMAGE
/* MAP OBJECT DEFINITIONS */
OBJECT = IMAGE_MAP_PROJECTION
  ^DATA_SET_MAP_PROJECTION_CATALOG= "DSMAP.CAT"
  A_AXIS_RADIUS = 3396.0
  B_AXIS_RADIUS = 3396.0
  C_AXIS_RADIUS = 3396.0
  CENTER_LATITUDE = 0.0
  CENTER_LONGITUDE = 154.0
  COORDINATE_SYSTEM_NAME = PLANETOGRAPHIC
  COORDINATE_SYSTEM_TYPE = "BODY-FIXED ROTATING"
  EASTERNMOST_LONGITUDE = 156.181
  FIRST_STANDARD_PARALLEL = "N/A"
  LINE_FIRST_PIXEL = 1
  LINE_LAST_PIXEL = 4011
  LINE_PROJECTION_OFFSET = 8649.75
  MAP_PROJECTION_ROTATION = 0.0
  MAP_PROJECTION_TYPE = SINUSOIDAL
  MAP_RESOLUTION = 592.713803866667
  MAP_SCALE = 0.1
  MAXIMUM_LATITUDE = 14.5896
  MINIMUM_LATITUDE = 7.79155
  POSITIVE_LONGITUDE_DIRECTION = EAST
  REFERENCE_LATITUDE = "N/A"
  REFERENCE_LONGITUDE = "N/A"
  SAMPLE_FIRST_PIXEL = 1
  SAMPLE_LAST_PIXEL = 1673
  SAMPLE_PROJECTION_OFFSET = 546.25
  SECOND_STANDARD_PARALLEL = "N/A"
  WESTERNMOST_LONGITUDE = 152.839
END_OBJECT = IMAGE_MAP_PROJECTION
/* The JPEG2000 image data file associated with this label. */
OBJECT = COMPRESSED_FILE
  FILE_NAME = "H2874_0001_S13.JP2"
  RECORD_TYPE = UNDEFINED
  FILE_RECORDS = UNK
  ENCODING_TYPE = "JP2"
  INTERCHANGE_FORMAT = BINARY
  UNCOMPRESSED_FILE_NAME = "H2874_0001_S13.IMG"
  REQUIRED_STORAGE_BYTES = "6730479"
  ^DESCRIPTION = "JP2INFO.TXT"
END_OBJECT = COMPRESSED_FILE
END
