PDS_VERSION_ID = PDS3
/* FILE DATA ELEMENTS */
RECORD_TYPE = STREAM
/* POINTERS TO DATA OBJECTS */
^COMPRESSED_FILE = "H2880_0000_GR3.JP2"
/* IDENTIFICATION DATA ELEMENTS */
DATA_SET_ID = "MEX-M-HRSC-5-REFDR-MAPPROJECTED-V3.0"
DATA_SET_NAME = "MARS EXPRESS HRSC MAP PROJECTED REFDR V3.0"
DETECTOR_ID = MEX_HRSC_GREEN
EVENT_TYPE = "MARS-REGIONAL-MAPPING-Vo-Te-Pf"
INSTRUMENT_HOST_ID = MEX
INSTRUMENT_HOST_NAME = "MARS EXPRESS"
INSTRUMENT_ID = HRSC
INSTRUMENT_NAME = "HIGH RESOLUTION STEREO CAMERA"
MISSION_NAME = "MARS EXPRESS"
MISSION_PHASE_NAME = ME_Phase_2
PROCESSING_LEVEL_ID = 3
PRODUCT_CREATION_TIME = 2016-04-08T13:05:01.000Z
PRODUCT_ID = "H2880_0000_GR3.JP2"
RELEASE_ID = 0035
REVISION_ID = 0000
/* QUALITY DATA ELEMENTS */
DATA_QUALITY_ID = 2
DATA_QUALITY_DESC = "Data calculated based on photogrammetrically improved orbit and attitude data"
/* TIME DATA ELEMENTS */
SPACECRAFT_CLOCK_START_COUNT = "1/0092628428.08242"
SPACECRAFT_CLOCK_STOP_COUNT = "1/0092629915.03132"
START_TIME = 2006-04-09T02:20:03.279Z
STOP_TIME = 2006-04-09T02:28:59.369Z
/* ORBITAL DATA ELEMENTS */
ASCENDING_NODE_LONGITUDE = 167.84
MAXIMUM_RESOLUTION = 213.3
FOOTPRINT_POINT_LATITUDE = (50.8267,50.8591,50.8893,50.9125, 50.9234,50.9384,50.9388,50.9314,50.917, 50.8955,50.8671,50.8316,50.7889,50.7067 ,50.1166,49.5182,48.9126,48.2978, 47.6745,47.0405,46.3982,45.7467,45.0862 ,44.415,43.7336,43.3889,43.0415,42.6928 ,42.341,41.9869,41.6303,41.2709,40.9094 ,40.545,40.1781,39.8084,39.4362,39.0612 ,38.6835,38.3031,37.9201,37.5345, 37.1459,36.7547,36.3603,35.9634,35.564, 35.1614,34.7556,34.3467,33.9355,33.5215 ,33.1105,33.1171,33.1191,33.1159, 33.1089,33.1019,33.0894,33.0691,33.0537 ,33.6792,34.0924,34.5028,34.9105, 35.3152,35.7177,36.1172,36.514,36.9085, 37.2997,37.6885,38.0744,38.4575,38.8379 ,39.2157,39.5909,39.9637,40.3338, 40.7015,41.0667,41.4295,41.7899,42.1477 ,42.5031,42.8556,43.2059,43.5544, 43.9007,44.2453,44.9267,45.5961,46.2577 ,46.911,47.5563,48.1943,48.8217,49.4405 ,50.0516,50.8267)
FOOTPRINT_POINT_LONGITUDE = (291.105,290.334,289.455,288.578, 288.029,286.714,285.618,284.743,283.869 ,282.994,282.119,281.244,280.366, 279.295,279.469,279.638,279.807,279.969 ,280.127,280.277,280.424,280.567, 280.707,280.84,280.967,281.029,281.088, 281.15,281.209,281.268,281.326,281.383, 281.439,281.495,281.549,281.602,281.654 ,281.706,281.756,281.806,281.855, 281.904,281.951,281.998,282.043,282.088 ,282.133,282.176,282.218,282.259,282.3, 282.341,282.582,283.304,283.972,284.844 ,285.51,285.973,286.589,287.359,287.892 ,287.97,288.023,288.076,288.129,288.184 ,288.237,288.292,288.347,288.402, 288.459,288.515,288.572,288.631,288.69, 288.749,288.81,288.87,288.931,288.993, 289.055,289.117,289.18,289.244,289.309, 289.375,289.441,289.507,289.573,289.638 ,289.771,289.915,290.059,290.203,290.35 ,290.495,290.649,290.808,290.968, 291.105)
ORBIT_NUMBER = 2880
ORBITAL_ECCENTRICITY = 0.573
ORBITAL_INCLINATION = 86.62
ORBITAL_SEMIMAJOR_AXIS = 8599.61
PERIAPSIS_ALTITUDE = 285.54
PERIAPSIS_ARGUMENT_ANGLE = 212.5
PERIAPSIS_TIME = 2006-04-09T02:48:55.000Z
SPACECRAFT_ORIENTATION = (0.0,-1.0,0.0)
^MEX_ORIENTATION_DESC = "MEX_ORIENTATION_DESC.TXT"
SPACECRAFT_POINTING_MODE = NADIR
^MEX_POINTING_DESC = "MEX_POINTING_DESC.TXT"
RIGHT_ASCENSION = -1e+32
DECLINATION = -1e+32
OFFSET_ANGLE = -1e+32
SPACECRAFT_SOLAR_DISTANCE = 2.44814e+08
TARGET_NAME = MARS
/* CAMERA DATA ELEMENTS */
DETECTOR_TEMPERATURE = 18.3705
FOCAL_PLANE_TEMPERATURE = 7.5638
INST_CMPRS_NAME = "DISCRETE COSINE TRANSFORMATION (DCT)"
INST_CMPRS_RATIO = 13.6151
INST_CMPRS_QUALITY = 0
INST_CMPRS_QUANTZ_TBL_ID = 0
INSTRUMENT_TEMPERATURE = 11.234
LENS_TEMPERATURE = 8.3794
MACROPIXEL_SIZE = 4
MISSING_FRAMES = 0
PIXEL_SUBSAMPLING_FLAG = N
SIGNAL_CHAIN_ID = 2
/* RADIOMETRIC DATA ELEMENTS */
BANDWIDTH = 88.0
CENTER_FILTER_WAVELENGTH = 538.0
RADIANCE_OFFSET = 0.42791
RADIANCE_SCALING_FACTOR = 0.00380036
REFLECTANCE_SCALING_FACTOR = 0.000196098
MEX:REFLECTANCE_OFFSET = 0.0220801
/* IMAGE OBJECT DEFINITIONS */
OBJECT = IMAGE
  INTERCHANGE_FORMAT = BINARY
  LINES = 5296
  LINE_SAMPLES = 2121
  SAMPLE_TYPE = UNSIGNED_INTEGER
  SAMPLE_BITS = 8
  BANDS = 1
  BAND_STORAGE_TYPE = BAND_SEQUENTIAL
  MAXIMUM = 255
  MEAN = 92.8455
  MINIMUM = 1
  STANDARD_DEVIATION = 35.914
END_OBJECT = IMAGE
/* MAP OBJECT DEFINITIONS */
OBJECT = IMAGE_MAP_PROJECTION
  ^DATA_SET_MAP_PROJECTION_CATALOG= "DSMAP.CAT"
  A_AXIS_RADIUS = 3396.0
  B_AXIS_RADIUS = 3396.0
  C_AXIS_RADIUS = 3396.0
  CENTER_LATITUDE = 0.0
  CENTER_LONGITUDE = 285.0
  COORDINATE_SYSTEM_NAME = PLANETOGRAPHIC
  COORDINATE_SYSTEM_TYPE = "BODY-FIXED ROTATING"
  EASTERNMOST_LONGITUDE = 291.105
  FIRST_STANDARD_PARALLEL = "N/A"
  LINE_FIRST_PIXEL = 1
  LINE_LAST_PIXEL = 5296
  LINE_PROJECTION_OFFSET = 15092.625
  MAP_PROJECTION_ROTATION = 0.0
  MAP_PROJECTION_TYPE = SINUSOIDAL
  MAP_RESOLUTION = 296.356901933333
  MAP_SCALE = 0.2
  MAXIMUM_LATITUDE = 50.9388
  MINIMUM_LATITUDE = 33.0537
  POSITIVE_LONGITUDE_DIRECTION = EAST
  REFERENCE_LATITUDE = "N/A"
  REFERENCE_LONGITUDE = "N/A"
  SAMPLE_FIRST_PIXEL = 1
  SAMPLE_LAST_PIXEL = 2121
  SAMPLE_PROJECTION_OFFSET = 1026.125
  SECOND_STANDARD_PARALLEL = "N/A"
  WESTERNMOST_LONGITUDE = 279.295
END_OBJECT = IMAGE_MAP_PROJECTION
/* The JPEG2000 image data file associated with this label. */
OBJECT = COMPRESSED_FILE
  FILE_NAME = "H2880_0000_GR3.JP2"
  RECORD_TYPE = UNDEFINED
  FILE_RECORDS = UNK
  ENCODING_TYPE = "JP2"
  INTERCHANGE_FORMAT = BINARY
  UNCOMPRESSED_FILE_NAME = "H2880_0000_GR3.IMG"
  REQUIRED_STORAGE_BYTES = "11254026"
  ^DESCRIPTION = "JP2INFO.TXT"
END_OBJECT = COMPRESSED_FILE
END
