PDS_VERSION_ID = PDS3
/* FILE DATA ELEMENTS */
RECORD_TYPE = STREAM
/* POINTERS TO DATA OBJECTS */
^COMPRESSED_FILE = "H2880_0000_ND3.JP2"
/* IDENTIFICATION DATA ELEMENTS */
DATA_SET_ID = "MEX-M-HRSC-5-REFDR-MAPPROJECTED-V3.0"
DATA_SET_NAME = "MARS EXPRESS HRSC MAP PROJECTED REFDR V3.0"
DETECTOR_ID = MEX_HRSC_NADIR
EVENT_TYPE = "MARS-REGIONAL-MAPPING-Vo-Te-Pf"
INSTRUMENT_HOST_ID = MEX
INSTRUMENT_HOST_NAME = "MARS EXPRESS"
INSTRUMENT_ID = HRSC
INSTRUMENT_NAME = "HIGH RESOLUTION STEREO CAMERA"
MISSION_NAME = "MARS EXPRESS"
MISSION_PHASE_NAME = ME_Phase_2
PROCESSING_LEVEL_ID = 3
PRODUCT_CREATION_TIME = 2016-04-08T13:05:01.000Z
PRODUCT_ID = "H2880_0000_ND3.JP2"
RELEASE_ID = 0035
REVISION_ID = 0000
/* QUALITY DATA ELEMENTS */
DATA_QUALITY_ID = 2
DATA_QUALITY_DESC = "Data calculated based on photogrammetrically improved orbit and attitude data"
/* TIME DATA ELEMENTS */
SPACECRAFT_CLOCK_START_COUNT = "1/0092628428.08242"
SPACECRAFT_CLOCK_STOP_COUNT = "1/0092629915.03132"
START_TIME = 2006-04-09T02:21:13.169Z
STOP_TIME = 2006-04-09T02:29:31.147Z
/* ORBITAL DATA ELEMENTS */
ASCENDING_NODE_LONGITUDE = 167.84
MAXIMUM_RESOLUTION = 51.2
FOOTPRINT_POINT_LATITUDE = (50.873,50.8969,50.9143,50.9251,50.9291 ,50.9267,50.9191,50.9042,50.8827, 50.8547,50.815,50.7571,50.1535,49.5422, 48.9231,48.2961,47.6611,47.018,46.3668, 45.7072,45.0393,44.3629,43.678,43.3323, 42.9844,42.6343,42.282,41.9275,41.5707, 41.2117,40.8503,40.4868,40.1209,39.7527 ,39.3822,39.0094,38.6343,38.2568, 37.8768,37.4945,37.1098,36.7227,36.3332 ,35.9413,35.5468,35.1499,34.7506, 34.3487,33.9444,33.5375,33.128,33.1227, 33.1242,33.1231,33.1184,33.1136,33.1058 ,33.0897,33.0793,33.0637,33.4736, 33.8811,34.286,34.6886,35.0886,35.4864, 35.8815,36.2744,36.6649,37.053,37.4388, 37.8223,38.2034,38.5823,38.9589,39.3332 ,39.7053,40.0751,40.4427,40.8081, 41.1714,41.5324,41.8913,42.248,42.6026, 42.9551,43.3055,43.6539,44.3443,45.0266 ,45.7009,46.3673,47.0258,47.6767, 48.3201,48.956,49.5846,50.2059,50.8201, 50.873)
FOOTPRINT_POINT_LONGITUDE = (289.574,288.689,287.806,286.922, 286.038,285.156,284.384,283.503,282.621 ,281.739,280.743,279.525,279.692, 279.857,280.016,280.172,280.323,280.466 ,280.607,280.743,280.874,281.001, 281.121,281.178,281.235,281.293,281.348 ,281.404,281.458,281.512,281.565, 281.616,281.668,281.717,281.767,281.815 ,281.861,281.908,281.954,282.0,282.044, 282.088,282.13,282.172,282.214,282.254, 282.292,282.331,282.369,282.407,282.444 ,283.238,283.924,284.398,285.082, 285.503,286.03,286.82,287.242,287.796, 287.845,287.893,287.943,287.993,288.043 ,288.096,288.143,288.194,288.245, 288.298,288.35,288.403,288.458,288.512, 288.567,288.623,288.68,288.737,288.794, 288.852,288.91,288.968,289.027,289.087, 289.149,289.209,289.271,289.333,289.454 ,289.581,289.716,289.85,289.986,290.122 ,290.26,290.406,290.555,290.705,290.854 ,289.574)
ORBIT_NUMBER = 2880
ORBITAL_ECCENTRICITY = 0.573
ORBITAL_INCLINATION = 86.62
ORBITAL_SEMIMAJOR_AXIS = 8599.61
PERIAPSIS_ALTITUDE = 285.54
PERIAPSIS_ARGUMENT_ANGLE = 212.5
PERIAPSIS_TIME = 2006-04-09T02:48:55.000Z
SPACECRAFT_ORIENTATION = (0.0,-1.0,0.0)
^MEX_ORIENTATION_DESC = "MEX_ORIENTATION_DESC.TXT"
SPACECRAFT_POINTING_MODE = NADIR
^MEX_POINTING_DESC = "MEX_POINTING_DESC.TXT"
RIGHT_ASCENSION = -1e+32
DECLINATION = -1e+32
OFFSET_ANGLE = -1e+32
SPACECRAFT_SOLAR_DISTANCE = 2.44814e+08
TARGET_NAME = MARS
/* CAMERA DATA ELEMENTS */
DETECTOR_TEMPERATURE = 18.3705
FOCAL_PLANE_TEMPERATURE = 7.5638
INST_CMPRS_NAME = "DISCRETE COSINE TRANSFORMATION (DCT)"
INST_CMPRS_RATIO = 6.96067
INST_CMPRS_QUALITY = 0
INST_CMPRS_QUANTZ_TBL_ID = 0
INSTRUMENT_TEMPERATURE = 11.234
LENS_TEMPERATURE = 8.3794
MACROPIXEL_SIZE = 1
MISSING_FRAMES = 0
PIXEL_SUBSAMPLING_FLAG = N
SIGNAL_CHAIN_ID = 0
/* RADIOMETRIC DATA ELEMENTS */
BANDWIDTH = 177.0
CENTER_FILTER_WAVELENGTH = 677.5
RADIANCE_OFFSET = 0.892975
RADIANCE_SCALING_FACTOR = 0.0135072
REFLECTANCE_SCALING_FACTOR = 0.000430039
MEX:REFLECTANCE_OFFSET = 0.0284304
/* IMAGE OBJECT DEFINITIONS */
OBJECT = IMAGE
  INTERCHANGE_FORMAT = BINARY
  LINES = 21181
  LINE_SAMPLES = 8483
  SAMPLE_TYPE = UNSIGNED_INTEGER
  SAMPLE_BITS = 8
  BANDS = 1
  BAND_STORAGE_TYPE = BAND_SEQUENTIAL
  MAXIMUM = 255
  MEAN = 83.1398
  MINIMUM = 1
  STANDARD_DEVIATION = 28.6312
END_OBJECT = IMAGE
/* MAP OBJECT DEFINITIONS */
OBJECT = IMAGE_MAP_PROJECTION
  ^DATA_SET_MAP_PROJECTION_CATALOG= "DSMAP.CAT"
  A_AXIS_RADIUS = 3396.0
  B_AXIS_RADIUS = 3396.0
  C_AXIS_RADIUS = 3396.0
  CENTER_LATITUDE = 0.0
  CENTER_LONGITUDE = 285.0
  COORDINATE_SYSTEM_NAME = PLANETOGRAPHIC
  COORDINATE_SYSTEM_TYPE = "BODY-FIXED ROTATING"
  EASTERNMOST_LONGITUDE = 290.854
  FIRST_STANDARD_PARALLEL = "N/A"
  LINE_FIRST_PIXEL = 1
  LINE_LAST_PIXEL = 21181
  LINE_PROJECTION_OFFSET = 60372.0
  MAP_PROJECTION_ROTATION = 0.0
  MAP_PROJECTION_TYPE = SINUSOIDAL
  MAP_RESOLUTION = 1185.42760773333
  MAP_SCALE = 0.05
  MAXIMUM_LATITUDE = 50.9291
  MINIMUM_LATITUDE = 33.0637
  POSITIVE_LONGITUDE_DIRECTION = EAST
  REFERENCE_LATITUDE = "N/A"
  REFERENCE_LONGITUDE = "N/A"
  SAMPLE_FIRST_PIXEL = 1
  SAMPLE_LAST_PIXEL = 8483
  SAMPLE_PROJECTION_OFFSET = 4106.0
  SECOND_STANDARD_PARALLEL = "N/A"
  WESTERNMOST_LONGITUDE = 279.525
END_OBJECT = IMAGE_MAP_PROJECTION
/* The JPEG2000 image data file associated with this label. */
OBJECT = COMPRESSED_FILE
  FILE_NAME = "H2880_0000_ND3.JP2"
  RECORD_TYPE = UNDEFINED
  FILE_RECORDS = UNK
  ENCODING_TYPE = "JP2"
  INTERCHANGE_FORMAT = BINARY
  UNCOMPRESSED_FILE_NAME = "H2880_0000_ND3.IMG"
  REQUIRED_STORAGE_BYTES = "179712355"
  ^DESCRIPTION = "JP2INFO.TXT"
END_OBJECT = COMPRESSED_FILE
END
