PDS_VERSION_ID = PDS3
/* FILE DATA ELEMENTS */
RECORD_TYPE = STREAM
/* POINTERS TO DATA OBJECTS */
^COMPRESSED_FILE = "H2882_0000_GR3.JP2"
/* IDENTIFICATION DATA ELEMENTS */
DATA_SET_ID = "MEX-M-HRSC-5-REFDR-MAPPROJECTED-V3.0"
DATA_SET_NAME = "MARS EXPRESS HRSC MAP PROJECTED REFDR V3.0"
DETECTOR_ID = MEX_HRSC_GREEN
EVENT_TYPE = "MARS-REGIONAL-MAPPING-Vo-Lc-Pf"
INSTRUMENT_HOST_ID = MEX
INSTRUMENT_HOST_NAME = "MARS EXPRESS"
INSTRUMENT_ID = HRSC
INSTRUMENT_NAME = "HIGH RESOLUTION STEREO CAMERA"
MISSION_NAME = "MARS EXPRESS"
MISSION_PHASE_NAME = ME_Phase_2
PROCESSING_LEVEL_ID = 3
PRODUCT_CREATION_TIME = 2016-04-08T13:05:01.000Z
PRODUCT_ID = "H2882_0000_GR3.JP2"
RELEASE_ID = 0035
REVISION_ID = 0000
/* QUALITY DATA ELEMENTS */
DATA_QUALITY_ID = 2
DATA_QUALITY_DESC = "Data calculated based on photogrammetrically improved orbit and attitude data"
/* TIME DATA ELEMENTS */
SPACECRAFT_CLOCK_START_COUNT = "1/0092677388.08254"
SPACECRAFT_CLOCK_STOP_COUNT = "1/0092678454.11560"
START_TIME = 2006-04-09T15:50:28.192Z
STOP_TIME = 2006-04-09T15:58:49.346Z
/* ORBITAL DATA ELEMENTS */
ASCENDING_NODE_LONGITUDE = 167.81
MAXIMUM_RESOLUTION = 165.4
FOOTPRINT_POINT_LATITUDE = (43.7751,43.7789,43.7792,43.7757, 43.7673,43.756,43.741,43.7221,43.6993, 43.6728,43.6421,43.6074,43.551,42.9026, 42.2449,41.5783,40.9025,40.2172,39.5223 ,38.818,38.1039,37.38,36.6462,36.2754, 35.9023,35.5265,35.1481,34.7672,34.3838 ,33.9976,33.609,33.2177,32.8236,32.4269 ,32.0276,31.6255,31.2207,30.8132, 30.4032,29.9901,29.5745,29.1562,28.7351 ,28.3111,27.8841,27.4567,27.0334, 26.6132,26.1973,25.7838,25.3735,24.9686 ,24.5653,24.496,24.5046,24.5085,24.5099 ,24.5068,24.5041,24.9074,25.3139,25.724 ,26.1378,26.5548,26.976,27.4006,27.829, 28.4721,28.8973,29.3195,29.7396,30.1568 ,30.5711,30.9829,31.3922,31.7986, 32.2025,32.6038,33.0026,33.3987,33.7923 ,34.1834,34.572,34.9581,35.3416,35.7227 ,36.1014,36.4775,36.8513,37.2227, 37.9585,38.6848,39.4018,40.1097,40.8087 ,41.4988,42.1802,42.853,43.5174, 43.7751)
FOOTPRINT_POINT_LONGITUDE = (89.8271,89.2046,88.5808,87.9557, 87.2498,86.6218,85.9925,85.3612,84.7278 ,84.0924,83.4536,82.8119,82.1635, 82.3049,82.442,82.5757,82.7055,82.8315, 82.9532,83.0722,83.1874,83.2994,83.4077 ,83.4606,83.5131,83.5644,83.615,83.6648 ,83.7139,83.762,83.8099,83.857,83.9024, 83.9477,83.9923,84.0358,84.0788,84.1211 ,84.1634,84.2039,84.2446,84.2849, 84.3245,84.3631,84.4006,84.437,84.4734, 84.5071,84.542,84.5734,84.6006,84.6349, 84.6631,85.2398,85.9943,86.5552,87.3704 ,88.104,88.6629,88.6929,88.7235,88.7548 ,88.7868,88.8195,88.853,88.8872,88.9223 ,88.9758,89.012,89.0485,89.0851,89.122, 89.1594,89.197,89.2348,89.2731,89.3116, 89.3504,89.3895,89.429,89.4688,89.5088, 89.5492,89.5899,89.631,89.6724,89.714, 89.7561,89.7985,89.8412,89.9276,90.0153 ,90.1044,90.195,90.2869,90.3802,90.475, 90.5714,90.6692,89.8271)
ORBIT_NUMBER = 2882
ORBITAL_ECCENTRICITY = 0.573
ORBITAL_INCLINATION = 86.62
ORBITAL_SEMIMAJOR_AXIS = 8601.33
PERIAPSIS_ALTITUDE = 285.7
PERIAPSIS_ARGUMENT_ANGLE = 212.12
PERIAPSIS_TIME = 2006-04-09T16:15:10.000Z
SPACECRAFT_ORIENTATION = (0.0,-1.0,0.0)
^MEX_ORIENTATION_DESC = "MEX_ORIENTATION_DESC.TXT"
SPACECRAFT_POINTING_MODE = ACROSSTRACK
^MEX_POINTING_DESC = "MEX_POINTING_DESC.TXT"
RIGHT_ASCENSION = -1e+32
DECLINATION = -1e+32
OFFSET_ANGLE = -1.6
SPACECRAFT_SOLAR_DISTANCE = 2.44875e+08
TARGET_NAME = MARS
/* CAMERA DATA ELEMENTS */
DETECTOR_TEMPERATURE = 17.9627
FOCAL_PLANE_TEMPERATURE = 7.7677
INST_CMPRS_NAME = "DISCRETE COSINE TRANSFORMATION (DCT)"
INST_CMPRS_RATIO = 15.3956
INST_CMPRS_QUALITY = 0
INST_CMPRS_QUANTZ_TBL_ID = 0
INSTRUMENT_TEMPERATURE = 11.0301
LENS_TEMPERATURE = 7.9716
MACROPIXEL_SIZE = 4
MISSING_FRAMES = 0
PIXEL_SUBSAMPLING_FLAG = N
SIGNAL_CHAIN_ID = 2
/* RADIOMETRIC DATA ELEMENTS */
BANDWIDTH = 88.0
CENTER_FILTER_WAVELENGTH = 538.0
RADIANCE_OFFSET = 0.453186
RADIANCE_SCALING_FACTOR = 0.0031411
REFLECTANCE_SCALING_FACTOR = 0.000162163
MEX:REFLECTANCE_OFFSET = 0.0233963
/* IMAGE OBJECT DEFINITIONS */
OBJECT = IMAGE
  INTERCHANGE_FORMAT = BINARY
  LINES = 5709
  LINE_SAMPLES = 1770
  SAMPLE_TYPE = UNSIGNED_INTEGER
  SAMPLE_BITS = 8
  BANDS = 1
  BAND_STORAGE_TYPE = BAND_SEQUENTIAL
  MAXIMUM = 255
  MEAN = 94.9021
  MINIMUM = 1
  STANDARD_DEVIATION = 34.0514
END_OBJECT = IMAGE
/* MAP OBJECT DEFINITIONS */
OBJECT = IMAGE_MAP_PROJECTION
  ^DATA_SET_MAP_PROJECTION_CATALOG= "DSMAP.CAT"
  A_AXIS_RADIUS = 3396.0
  B_AXIS_RADIUS = 3396.0
  C_AXIS_RADIUS = 3396.0
  CENTER_LATITUDE = 0.0
  CENTER_LONGITUDE = 87.0
  COORDINATE_SYSTEM_NAME = PLANETOGRAPHIC
  COORDINATE_SYSTEM_TYPE = "BODY-FIXED ROTATING"
  EASTERNMOST_LONGITUDE = 90.6692
  FIRST_STANDARD_PARALLEL = "N/A"
  LINE_FIRST_PIXEL = 1
  LINE_LAST_PIXEL = 5709
  LINE_PROJECTION_OFFSET = 12966.625
  MAP_PROJECTION_ROTATION = 0.0
  MAP_PROJECTION_TYPE = SINUSOIDAL
  MAP_RESOLUTION = 296.356901933333
  MAP_SCALE = 0.2
  MAXIMUM_LATITUDE = 43.7792
  MINIMUM_LATITUDE = 24.496
  POSITIVE_LONGITUDE_DIRECTION = EAST
  REFERENCE_LATITUDE = "N/A"
  REFERENCE_LONGITUDE = "N/A"
  SAMPLE_FIRST_PIXEL = 1
  SAMPLE_LAST_PIXEL = 1770
  SAMPLE_PROJECTION_OFFSET = 1018.625
  SECOND_STANDARD_PARALLEL = "N/A"
  WESTERNMOST_LONGITUDE = 82.1635
END_OBJECT = IMAGE_MAP_PROJECTION
/* The JPEG2000 image data file associated with this label. */
OBJECT = COMPRESSED_FILE
  FILE_NAME = "H2882_0000_GR3.JP2"
  RECORD_TYPE = UNDEFINED
  FILE_RECORDS = UNK
  ENCODING_TYPE = "JP2"
  INTERCHANGE_FORMAT = BINARY
  UNCOMPRESSED_FILE_NAME = "H2882_0000_GR3.IMG"
  REQUIRED_STORAGE_BYTES = "10124400"
  ^DESCRIPTION = "JP2INFO.TXT"
END_OBJECT = COMPRESSED_FILE
END
