PDS_VERSION_ID = PDS3
/* FILE DATA ELEMENTS */
RECORD_TYPE = STREAM
/* POINTERS TO DATA OBJECTS */
^COMPRESSED_FILE = "H2907_0008_P23.JP2"
/* IDENTIFICATION DATA ELEMENTS */
DATA_SET_ID = "MEX-M-HRSC-5-REFDR-MAPPROJECTED-V3.0"
DATA_SET_NAME = "MARS EXPRESS HRSC MAP PROJECTED REFDR V3.0"
DETECTOR_ID = MEX_HRSC_P2
EVENT_TYPE = "MARS-REGIONAL-MAPPING-Vo-Gl-Mw"
INSTRUMENT_HOST_ID = MEX
INSTRUMENT_HOST_NAME = "MARS EXPRESS"
INSTRUMENT_ID = HRSC
INSTRUMENT_NAME = "HIGH RESOLUTION STEREO CAMERA"
MISSION_NAME = "MARS EXPRESS"
MISSION_PHASE_NAME = ME_Phase_2
PROCESSING_LEVEL_ID = 3
PRODUCT_CREATION_TIME = 2016-04-08T13:52:43.000Z
PRODUCT_ID = "H2907_0008_P23.JP2"
RELEASE_ID = 0036
REVISION_ID = 0000
/* QUALITY DATA ELEMENTS */
DATA_QUALITY_ID = 1
DATA_QUALITY_DESC = "Data calculated based on original SPICE kernels"
/* TIME DATA ELEMENTS */
SPACECRAFT_CLOCK_START_COUNT = "1/0093282714.09074"
SPACECRAFT_CLOCK_STOP_COUNT = "1/0093283183.24916"
START_TIME = 2006-04-16T15:55:44.839Z
STOP_TIME = 2006-04-16T15:59:20.248Z
/* ORBITAL DATA ELEMENTS */
ASCENDING_NODE_LONGITUDE = 167.27
MAXIMUM_RESOLUTION = 77.4
FOOTPRINT_POINT_LATITUDE = (45.3878,45.3844,45.3799,45.3747, 45.3687,45.362,45.3547,45.3467,45.338, 45.3285,45.3181,45.3069,45.2746,44.9249 ,44.5761,44.2289,43.8839,43.5383, 43.1945,42.8515,42.5091,42.1682,41.8281 ,41.4891,40.9812,40.6441,40.3075, 39.9716,39.6362,39.3027,38.97,38.638, 38.3096,37.9836,37.6623,37.3433,37.0275 ,36.7145,36.404,36.0965,35.7912,35.4906 ,35.1917,34.8952,34.6009,34.0218, 33.4505,32.8848,32.3278,31.6463,31.1154 ,30.4593,29.9427,29.8779,29.8878, 29.8968,29.9023,29.9074,29.9112,30.1715 ,30.6908,31.2174,31.7531,32.2978, 32.8518,33.4137,33.9867,34.5682,35.1594 ,35.4582,35.76,36.065,36.3727,36.6831, 36.9966,37.3127,37.6324,37.9551,38.2813 ,38.6104,38.9429,39.2773,39.6123, 39.9485,40.2855,40.6233,40.962,41.4719, 41.812,42.1533,42.6686,43.0121,43.3577, 43.7038,44.0508,44.3997,44.7501,45.1008 ,45.4532,45.3878)
FOOTPRINT_POINT_LONGITUDE = (152.298,151.847,151.33,150.812,150.293 ,149.772,149.25,148.726,148.201,147.672 ,147.141,146.607,146.059,146.148, 146.234,146.318,146.4,146.481,146.559, 146.636,146.711,146.785,146.856,146.927 ,147.029,147.096,147.161,147.225, 147.288,147.349,147.409,147.467,147.524 ,147.58,147.634,147.686,147.737,147.787 ,147.835,147.882,147.929,147.973, 148.017,148.059,148.101,148.181,148.258 ,148.334,148.407,148.493,148.555, 148.631,148.69,149.033,149.553,150.368, 150.92,151.507,152.019,152.514,152.527, 152.54,152.553,152.567,152.581,152.595, 152.609,152.624,152.639,152.646,152.654 ,152.661,152.669,152.677,152.684, 152.692,152.7,152.708,152.717,152.725, 152.733,152.742,152.75,152.759,152.767, 152.776,152.784,152.797,152.806,152.815 ,152.828,152.836,152.845,152.854, 152.863,152.872,152.881,152.89,152.899, 152.298)
ORBIT_NUMBER = 2907
ORBITAL_ECCENTRICITY = 0.572
ORBITAL_INCLINATION = 86.62
ORBITAL_SEMIMAJOR_AXIS = 8602.79
PERIAPSIS_ALTITUDE = 286.98
PERIAPSIS_ARGUMENT_ANGLE = 207.72
PERIAPSIS_TIME = 2006-04-16T16:14:13.000Z
SPACECRAFT_ORIENTATION = (0.0,-1.0,0.0)
^MEX_ORIENTATION_DESC = "MEX_ORIENTATION_DESC.TXT"
SPACECRAFT_POINTING_MODE = INERT
^MEX_POINTING_DESC = "MEX_POINTING_DESC.TXT"
RIGHT_ASCENSION = 237.21
DECLINATION = 28.155
OFFSET_ANGLE = -1e+32
SPACECRAFT_SOLAR_DISTANCE = 2.45613e+08
TARGET_NAME = MARS
/* CAMERA DATA ELEMENTS */
DETECTOR_TEMPERATURE = 22.0407
FOCAL_PLANE_TEMPERATURE = 7.9716
INST_CMPRS_NAME = "DISCRETE COSINE TRANSFORMATION (DCT)"
INST_CMPRS_RATIO = 7.46722
INST_CMPRS_QUALITY = 0
INST_CMPRS_QUANTZ_TBL_ID = 0
INSTRUMENT_TEMPERATURE = 14.2925
LENS_TEMPERATURE = 8.5833
MACROPIXEL_SIZE = 2
MISSING_FRAMES = 0
PIXEL_SUBSAMPLING_FLAG = N
SIGNAL_CHAIN_ID = 3
/* RADIOMETRIC DATA ELEMENTS */
BANDWIDTH = 177.0
CENTER_FILTER_WAVELENGTH = 676.5
RADIANCE_OFFSET = 1.73801
RADIANCE_SCALING_FACTOR = 0.0135312
REFLECTANCE_SCALING_FACTOR = 0.000432804
MEX:REFLECTANCE_OFFSET = 0.0555912
/* IMAGE OBJECT DEFINITIONS */
OBJECT = IMAGE
  INTERCHANGE_FORMAT = BINARY
  LINES = 9313
  LINE_SAMPLES = 3054
  SAMPLE_TYPE = UNSIGNED_INTEGER
  SAMPLE_BITS = 8
  BANDS = 1
  BAND_STORAGE_TYPE = BAND_SEQUENTIAL
  MAXIMUM = 255
  MEAN = 101.533
  MINIMUM = 1
  STANDARD_DEVIATION = 34.5299
END_OBJECT = IMAGE
/* MAP OBJECT DEFINITIONS */
OBJECT = IMAGE_MAP_PROJECTION
  ^DATA_SET_MAP_PROJECTION_CATALOG= "DSMAP.CAT"
  A_AXIS_RADIUS = 3396.0
  B_AXIS_RADIUS = 3396.0
  C_AXIS_RADIUS = 3396.0
  CENTER_LATITUDE = 0.0
  CENTER_LONGITUDE = 150.0
  COORDINATE_SYSTEM_NAME = PLANETOGRAPHIC
  COORDINATE_SYSTEM_TYPE = "BODY-FIXED ROTATING"
  EASTERNMOST_LONGITUDE = 152.899
  FIRST_STANDARD_PARALLEL = "N/A"
  LINE_FIRST_PIXEL = 1
  LINE_LAST_PIXEL = 9313
  LINE_PROJECTION_OFFSET = 26984.75
  MAP_PROJECTION_ROTATION = 0.0
  MAP_PROJECTION_TYPE = SINUSOIDAL
  MAP_RESOLUTION = 592.713803866667
  MAP_SCALE = 0.1
  MAXIMUM_LATITUDE = 45.4532
  MINIMUM_LATITUDE = 29.8779
  POSITIVE_LONGITUDE_DIRECTION = EAST
  REFERENCE_LATITUDE = "N/A"
  REFERENCE_LONGITUDE = "N/A"
  SAMPLE_FIRST_PIXEL = 1
  SAMPLE_LAST_PIXEL = 3054
  SAMPLE_PROJECTION_OFFSET = 1700.75
  SECOND_STANDARD_PARALLEL = "N/A"
  WESTERNMOST_LONGITUDE = 146.059
END_OBJECT = IMAGE_MAP_PROJECTION
/* The JPEG2000 image data file associated with this label. */
OBJECT = COMPRESSED_FILE
  FILE_NAME = "H2907_0008_P23.JP2"
  RECORD_TYPE = UNDEFINED
  FILE_RECORDS = UNK
  ENCODING_TYPE = "JP2"
  INTERCHANGE_FORMAT = BINARY
  UNCOMPRESSED_FILE_NAME = "H2907_0008_P23.IMG"
  REQUIRED_STORAGE_BYTES = "28466334"
  ^DESCRIPTION = "JP2INFO.TXT"
END_OBJECT = COMPRESSED_FILE
END
