PDS_VERSION_ID = PDS3
/* FILE DATA ELEMENTS */
RECORD_TYPE = STREAM
/* POINTERS TO DATA OBJECTS */
^COMPRESSED_FILE = "H2908_0000_GR3.JP2"
/* IDENTIFICATION DATA ELEMENTS */
DATA_SET_ID = "MEX-M-HRSC-5-REFDR-MAPPROJECTED-V3.0"
DATA_SET_NAME = "MARS EXPRESS HRSC MAP PROJECTED REFDR V3.0"
DETECTOR_ID = MEX_HRSC_GREEN
EVENT_TYPE = "MARS-REGIONAL-MAPPING-Te-Im-Mw"
INSTRUMENT_HOST_ID = MEX
INSTRUMENT_HOST_NAME = "MARS EXPRESS"
INSTRUMENT_ID = HRSC
INSTRUMENT_NAME = "HIGH RESOLUTION STEREO CAMERA"
MISSION_NAME = "MARS EXPRESS"
MISSION_PHASE_NAME = ME_Phase_2
PROCESSING_LEVEL_ID = 3
PRODUCT_CREATION_TIME = 2016-04-08T13:52:43.000Z
PRODUCT_ID = "H2908_0000_GR3.JP2"
RELEASE_ID = 0036
REVISION_ID = 0000
/* QUALITY DATA ELEMENTS */
DATA_QUALITY_ID = 2
DATA_QUALITY_DESC = "Data calculated based on photogrammetrically improved orbit and attitude data"
/* TIME DATA ELEMENTS */
SPACECRAFT_CLOCK_START_COUNT = "1/0093306302.09077"
SPACECRAFT_CLOCK_STOP_COUNT = "1/0093307288.12252"
START_TIME = 2006-04-16T22:32:28.250Z
STOP_TIME = 2006-04-16T22:38:55.672Z
/* ORBITAL DATA ELEMENTS */
ASCENDING_NODE_LONGITUDE = 167.25
MAXIMUM_RESOLUTION = 192.2
FOOTPRINT_POINT_LATITUDE = (48.5309,48.5483,48.5612,48.569,48.5737 ,48.5724,48.5662,48.5556,48.5405, 48.5211,48.4973,48.4688,48.409,47.9154, 47.4166,46.9127,46.2762,45.8902,45.3692 ,44.8435,44.3124,43.7757,43.2339, 42.6867,42.4104,42.1339,41.7152,41.4353 ,41.0095,40.7263,40.4408,40.1532, 39.8641,39.5736,39.2817,38.9883,38.6931 ,38.3955,38.097,37.7971,37.4955,37.1945 ,36.8904,36.5845,36.122,35.813,35.5014, 35.1882,34.8736,34.5574,34.2989,34.3052 ,34.3082,34.3104,34.3102,34.3051, 34.2957,34.2861,34.2768,34.2691,34.5874 ,34.9049,35.2193,35.6899,36.0002, 36.3083,36.7701,37.0765,37.3821,37.6851 ,37.9861,38.2865,38.5853,38.8809, 39.1761,39.4701,39.7629,40.0546,40.3448 ,40.6332,40.9209,41.2056,41.4897, 41.7724,42.0539,42.3343,42.6131,42.8901 ,43.166,43.7138,44.2565,44.7938,45.3255 ,45.8522,46.3738,46.8905,47.4021, 47.9089,48.4108,48.5309)
FOOTPRINT_POINT_LONGITUDE = (57.3985,56.7069,56.0166,55.4127, 54.7228,53.6884,53.0002,52.3119,51.6236 ,50.9351,50.2457,49.555,48.7063,48.8209 ,48.9329,49.0424,49.1774,49.2565, 49.3554,49.4538,49.5498,49.6434,49.7358 ,49.8265,49.8696,49.9152,49.9792, 50.0239,50.0822,50.1263,50.1678,50.2075 ,50.2465,50.2851,50.3234,50.3613, 50.3982,50.4322,50.4676,50.5024,50.5366 ,50.5751,50.6097,50.6432,50.691,50.725, 50.7564,50.7875,50.8185,50.8488,51.1999 ,51.719,52.0958,52.6131,53.1302,53.9292 ,54.6355,55.1534,55.5772,55.9252, 55.9603,55.9939,56.0312,56.0834,56.1219 ,56.1624,56.2178,56.254,56.2891,56.3267 ,56.366,56.4035,56.4416,56.4837,56.524, 56.5638,56.6034,56.6426,56.6819,56.7227 ,56.762,56.8053,56.8471,56.8891,56.931, 56.9724,57.015,57.0586,57.1021,57.19, 57.2783,57.3683,57.4607,57.554,57.6485, 57.7443,57.8415,57.94,58.0399,57.3985)
ORBIT_NUMBER = 2908
ORBITAL_ECCENTRICITY = 0.573
ORBITAL_INCLINATION = 86.62
ORBITAL_SEMIMAJOR_AXIS = 8607.55
PERIAPSIS_ALTITUDE = 286.24
PERIAPSIS_ARGUMENT_ANGLE = 207.55
PERIAPSIS_TIME = 2006-04-16T22:57:19.000Z
SPACECRAFT_ORIENTATION = (0.0,-1.0,0.0)
^MEX_ORIENTATION_DESC = "MEX_ORIENTATION_DESC.TXT"
SPACECRAFT_POINTING_MODE = NADIR
^MEX_POINTING_DESC = "MEX_POINTING_DESC.TXT"
RIGHT_ASCENSION = -1e+32
DECLINATION = -1e+32
OFFSET_ANGLE = -1e+32
SPACECRAFT_SOLAR_DISTANCE = 2.45641e+08
TARGET_NAME = MARS
/* CAMERA DATA ELEMENTS */
DETECTOR_TEMPERATURE = 18.5744
FOCAL_PLANE_TEMPERATURE = 7.9716
INST_CMPRS_NAME = "DISCRETE COSINE TRANSFORMATION (DCT)"
INST_CMPRS_RATIO = 8.70319
INST_CMPRS_QUALITY = 0
INST_CMPRS_QUANTZ_TBL_ID = 0
INSTRUMENT_TEMPERATURE = 11.0301
LENS_TEMPERATURE = 8.5833
MACROPIXEL_SIZE = 4
MISSING_FRAMES = 0
PIXEL_SUBSAMPLING_FLAG = N
SIGNAL_CHAIN_ID = 2
/* RADIOMETRIC DATA ELEMENTS */
BANDWIDTH = 88.0
CENTER_FILTER_WAVELENGTH = 538.0
RADIANCE_OFFSET = 0.436034
RADIANCE_SCALING_FACTOR = 0.00471388
REFLECTANCE_SCALING_FACTOR = 0.000244886
MEX:REFLECTANCE_OFFSET = 0.022652
/* IMAGE OBJECT DEFINITIONS */
OBJECT = IMAGE
  INTERCHANGE_FORMAT = BINARY
  LINES = 4234
  LINE_SAMPLES = 1768
  SAMPLE_TYPE = UNSIGNED_INTEGER
  SAMPLE_BITS = 8
  BANDS = 1
  BAND_STORAGE_TYPE = BAND_SEQUENTIAL
  MAXIMUM = 255
  MEAN = 94.5785
  MINIMUM = 1
  STANDARD_DEVIATION = 28.2404
END_OBJECT = IMAGE
/* MAP OBJECT DEFINITIONS */
OBJECT = IMAGE_MAP_PROJECTION
  ^DATA_SET_MAP_PROJECTION_CATALOG= "DSMAP.CAT"
  A_AXIS_RADIUS = 3396.0
  B_AXIS_RADIUS = 3396.0
  C_AXIS_RADIUS = 3396.0
  CENTER_LATITUDE = 0.0
  CENTER_LONGITUDE = 53.0
  COORDINATE_SYSTEM_NAME = PLANETOGRAPHIC
  COORDINATE_SYSTEM_TYPE = "BODY-FIXED ROTATING"
  EASTERNMOST_LONGITUDE = 58.0399
  FIRST_STANDARD_PARALLEL = "N/A"
  LINE_FIRST_PIXEL = 1
  LINE_LAST_PIXEL = 4234
  LINE_PROJECTION_OFFSET = 14389.875
  MAP_PROJECTION_ROTATION = 0.0
  MAP_PROJECTION_TYPE = SINUSOIDAL
  MAP_RESOLUTION = 296.356901933333
  MAP_SCALE = 0.2
  MAXIMUM_LATITUDE = 48.5737
  MINIMUM_LATITUDE = 34.2691
  POSITIVE_LONGITUDE_DIRECTION = EAST
  REFERENCE_LATITUDE = "N/A"
  REFERENCE_LONGITUDE = "N/A"
  SAMPLE_FIRST_PIXEL = 1
  SAMPLE_LAST_PIXEL = 1768
  SAMPLE_PROJECTION_OFFSET = 807.375
  SECOND_STANDARD_PARALLEL = "N/A"
  WESTERNMOST_LONGITUDE = 48.7063
END_OBJECT = IMAGE_MAP_PROJECTION
/* The JPEG2000 image data file associated with this label. */
OBJECT = COMPRESSED_FILE
  FILE_NAME = "H2908_0000_GR3.JP2"
  RECORD_TYPE = UNDEFINED
  FILE_RECORDS = UNK
  ENCODING_TYPE = "JP2"
  INTERCHANGE_FORMAT = BINARY
  UNCOMPRESSED_FILE_NAME = "H2908_0000_GR3.IMG"
  REQUIRED_STORAGE_BYTES = "7505160"
  ^DESCRIPTION = "JP2INFO.TXT"
END_OBJECT = COMPRESSED_FILE
END
