PDS_VERSION_ID = PDS3
/* FILE DATA ELEMENTS */
RECORD_TYPE = STREAM
/* POINTERS TO DATA OBJECTS */
^COMPRESSED_FILE = "H2917_0000_IR3.JP2"
/* IDENTIFICATION DATA ELEMENTS */
DATA_SET_ID = "MEX-M-HRSC-5-REFDR-MAPPROJECTED-V3.0"
DATA_SET_NAME = "MARS EXPRESS HRSC MAP PROJECTED REFDR V3.0"
DETECTOR_ID = MEX_HRSC_IR
EVENT_TYPE = "MARS-REGIONAL-MAPPING-Vo-Te-Eo"
INSTRUMENT_HOST_ID = MEX
INSTRUMENT_HOST_NAME = "MARS EXPRESS"
INSTRUMENT_ID = HRSC
INSTRUMENT_NAME = "HIGH RESOLUTION STEREO CAMERA"
MISSION_NAME = "MARS EXPRESS"
MISSION_PHASE_NAME = ME_Phase_2
PROCESSING_LEVEL_ID = 3
PRODUCT_CREATION_TIME = 2016-04-08T13:52:43.000Z
PRODUCT_ID = "H2917_0000_IR3.JP2"
RELEASE_ID = 0036
REVISION_ID = 0000
/* QUALITY DATA ELEMENTS */
DATA_QUALITY_ID = 1
DATA_QUALITY_DESC = "Data calculated based on original SPICE kernels"
/* TIME DATA ELEMENTS */
SPACECRAFT_CLOCK_START_COUNT = "1/0093524367.08395"
SPACECRAFT_CLOCK_STOP_COUNT = "1/0093525172.13647"
START_TIME = 2006-04-19T11:00:52.585Z
STOP_TIME = 2006-04-19T11:09:47.580Z
/* ORBITAL DATA ELEMENTS */
ASCENDING_NODE_LONGITUDE = 167.06
MAXIMUM_RESOLUTION = 167.3
FOOTPRINT_POINT_LATITUDE = (43.2676,43.2903,43.3077,43.3199,43.327 ,43.3287,43.3252,43.3164,43.3024, 43.2833,43.2589,43.2292,43.1635,42.4639 ,41.8919,41.3121,40.7182,40.113,39.4968 ,38.8684,38.2266,37.5706,37.2383,36.903 ,36.5642,36.2223,35.8781,35.5303, 35.1803,34.825,34.4675,34.1079,33.7441, 33.3775,33.0079,32.6352,32.2593,31.8798 ,31.4966,31.1107,30.7212,30.3283, 29.9322,29.5327,29.1296,28.7228,28.1118 ,27.7086,27.3088,26.9122,26.5183, 26.1276,25.7401,25.7107,25.7107,25.702, 25.6907,25.6721,25.6559,26.0448,26.4351 ,26.8288,27.2252,27.6251,28.0289, 28.4354,28.844,29.2511,29.6529,30.2485, 30.6407,31.0309,31.4184,31.8027,32.1832 ,32.5605,32.9343,33.3053,33.6735, 34.0387,34.401,34.7598,35.116,35.4692, 35.8182,36.1633,36.5056,36.8452,37.1828 ,37.5166,38.1758,38.8243,39.4602, 40.0846,40.6966,41.2969,41.8865,42.4675 ,43.0387,43.2676)
FOOTPRINT_POINT_LONGITUDE = (252.899,252.255,251.613,250.971,250.33 ,249.689,249.05,248.411,247.772,247.133 ,246.494,245.855,245.107,245.249,245.36 ,245.469,245.575,245.679,245.781,245.88 ,245.976,246.069,246.115,246.16,246.204 ,246.248,246.292,246.335,246.377, 246.418,246.459,246.5,246.54,246.58, 246.619,246.658,246.696,246.733,246.77, 246.806,246.842,246.878,246.912,246.947 ,246.98,247.014,247.062,247.092,247.122 ,247.151,247.179,247.206,247.232, 247.773,248.459,249.289,249.868,250.592 ,251.114,251.15,251.188,251.226,251.266 ,251.307,251.349,251.392,251.436,251.48 ,251.525,251.594,251.641,251.688, 251.734,251.782,251.83,251.878,251.927, 251.976,252.025,252.075,252.125,252.176 ,252.227,252.279,252.331,252.384, 252.438,252.492,252.546,252.601,252.712 ,252.825,252.94,253.058,253.178,253.301 ,253.427,253.553,253.682,252.899)
ORBIT_NUMBER = 2917
ORBITAL_ECCENTRICITY = 0.573
ORBITAL_INCLINATION = 86.61
ORBITAL_SEMIMAJOR_AXIS = 8614.53
PERIAPSIS_ALTITUDE = 287.01
PERIAPSIS_ARGUMENT_ANGLE = 205.95
PERIAPSIS_TIME = 2006-04-19T11:25:44.000Z
SPACECRAFT_ORIENTATION = (0.0,-1.0,0.0)
^MEX_ORIENTATION_DESC = "MEX_ORIENTATION_DESC.TXT"
SPACECRAFT_POINTING_MODE = ACROSSTRACK
^MEX_POINTING_DESC = "MEX_POINTING_DESC.TXT"
RIGHT_ASCENSION = -1e+32
DECLINATION = -1e+32
OFFSET_ANGLE = 0.3
SPACECRAFT_SOLAR_DISTANCE = 2.4589e+08
TARGET_NAME = MARS
/* CAMERA DATA ELEMENTS */
DETECTOR_TEMPERATURE = 17.5549
FOCAL_PLANE_TEMPERATURE = 7.9716
INST_CMPRS_NAME = "DISCRETE COSINE TRANSFORMATION (DCT)"
INST_CMPRS_RATIO = 7.1334
INST_CMPRS_QUALITY = 0
INST_CMPRS_QUANTZ_TBL_ID = 0
INSTRUMENT_TEMPERATURE = 11.234
LENS_TEMPERATURE = 8.3794
MACROPIXEL_SIZE = 4
MISSING_FRAMES = 0
PIXEL_SUBSAMPLING_FLAG = N
SIGNAL_CHAIN_ID = 2
/* RADIOMETRIC DATA ELEMENTS */
BANDWIDTH = 81.0
CENTER_FILTER_WAVELENGTH = 955.5
RADIANCE_OFFSET = 0.273998
RADIANCE_SCALING_FACTOR = 0.00674341
REFLECTANCE_SCALING_FACTOR = 0.000879602
MEX:REFLECTANCE_OFFSET = 0.0357399
/* IMAGE OBJECT DEFINITIONS */
OBJECT = IMAGE
  INTERCHANGE_FORMAT = BINARY
  LINES = 4173
  LINE_SAMPLES = 1481
  SAMPLE_TYPE = UNSIGNED_INTEGER
  SAMPLE_BITS = 8
  BANDS = 1
  BAND_STORAGE_TYPE = BAND_SEQUENTIAL
  MAXIMUM = 254
  MEAN = 78.5789
  MINIMUM = 1
  STANDARD_DEVIATION = 20.4033
END_OBJECT = IMAGE
/* MAP OBJECT DEFINITIONS */
OBJECT = IMAGE_MAP_PROJECTION
  ^DATA_SET_MAP_PROJECTION_CATALOG= "DSMAP.CAT"
  A_AXIS_RADIUS = 3396.0
  B_AXIS_RADIUS = 3396.0
  C_AXIS_RADIUS = 3396.0
  CENTER_LATITUDE = 0.0
  CENTER_LONGITUDE = 249.0
  COORDINATE_SYSTEM_NAME = PLANETOGRAPHIC
  COORDINATE_SYSTEM_TYPE = "BODY-FIXED ROTATING"
  EASTERNMOST_LONGITUDE = 253.682
  FIRST_STANDARD_PARALLEL = "N/A"
  LINE_FIRST_PIXEL = 1
  LINE_LAST_PIXEL = 4173
  LINE_PROJECTION_OFFSET = 12826.875
  MAP_PROJECTION_ROTATION = 0.0
  MAP_PROJECTION_TYPE = SINUSOIDAL
  MAP_RESOLUTION = 296.356901933333
  MAP_SCALE = 0.2
  MAXIMUM_LATITUDE = 43.3287
  MINIMUM_LATITUDE = 25.6559
  POSITIVE_LONGITUDE_DIRECTION = EAST
  REFERENCE_LATITUDE = "N/A"
  REFERENCE_LONGITUDE = "N/A"
  SAMPLE_FIRST_PIXEL = 1
  SAMPLE_LAST_PIXEL = 1481
  SAMPLE_PROJECTION_OFFSET = 672.875
  SECOND_STANDARD_PARALLEL = "N/A"
  WESTERNMOST_LONGITUDE = 245.107
END_OBJECT = IMAGE_MAP_PROJECTION
/* The JPEG2000 image data file associated with this label. */
OBJECT = COMPRESSED_FILE
  FILE_NAME = "H2917_0000_IR3.JP2"
  RECORD_TYPE = UNDEFINED
  FILE_RECORDS = UNK
  ENCODING_TYPE = "JP2"
  INTERCHANGE_FORMAT = BINARY
  UNCOMPRESSED_FILE_NAME = "H2917_0000_IR3.IMG"
  REQUIRED_STORAGE_BYTES = "6199466"
  ^DESCRIPTION = "JP2INFO.TXT"
END_OBJECT = COMPRESSED_FILE
END
