PDS_VERSION_ID = PDS3
/* FILE DATA ELEMENTS */
RECORD_TYPE = STREAM
/* POINTERS TO DATA OBJECTS */
^COMPRESSED_FILE = "H2917_0000_S13.JP2"
/* IDENTIFICATION DATA ELEMENTS */
DATA_SET_ID = "MEX-M-HRSC-5-REFDR-MAPPROJECTED-V3.0"
DATA_SET_NAME = "MARS EXPRESS HRSC MAP PROJECTED REFDR V3.0"
DETECTOR_ID = MEX_HRSC_S1
EVENT_TYPE = "MARS-REGIONAL-MAPPING-Vo-Te-Eo"
INSTRUMENT_HOST_ID = MEX
INSTRUMENT_HOST_NAME = "MARS EXPRESS"
INSTRUMENT_ID = HRSC
INSTRUMENT_NAME = "HIGH RESOLUTION STEREO CAMERA"
MISSION_NAME = "MARS EXPRESS"
MISSION_PHASE_NAME = ME_Phase_2
PROCESSING_LEVEL_ID = 3
PRODUCT_CREATION_TIME = 2016-04-08T13:52:43.000Z
PRODUCT_ID = "H2917_0000_S13.JP2"
RELEASE_ID = 0036
REVISION_ID = 0000
/* QUALITY DATA ELEMENTS */
DATA_QUALITY_ID = 1
DATA_QUALITY_DESC = "Data calculated based on original SPICE kernels"
/* TIME DATA ELEMENTS */
SPACECRAFT_CLOCK_START_COUNT = "1/0093524367.08395"
SPACECRAFT_CLOCK_STOP_COUNT = "1/0093525172.13647"
START_TIME = 2006-04-19T10:59:32.650Z
STOP_TIME = 2006-04-19T11:09:21.145Z
/* ORBITAL DATA ELEMENTS */
ASCENDING_NODE_LONGITUDE = 167.06
MAXIMUM_RESOLUTION = 88.4
FOOTPRINT_POINT_LATITUDE = (43.2698,43.2992,43.3215,43.3365, 43.3442,43.3446,43.3379,43.324,43.3029, 43.2745,43.239,43.1963,42.8662,42.3375, 41.7917,41.2341,40.6641,40.0808,39.4846 ,38.7184,38.0894,37.4434,37.1146,36.782 ,36.4461,36.1067,35.764,35.4171,35.0668 ,34.712,34.3534,33.9924,33.6267,33.2574 ,32.8841,32.5079,32.1274,31.7421, 31.3534,30.9608,30.5636,30.1633,29.7578 ,29.3494,28.936,28.5177,28.0955,27.4543 ,27.0268,26.6029,26.1816,25.7195, 25.7227,25.717,25.711,25.6948,25.6744, 25.6617,26.0795,26.4992,26.9231,27.3506 ,27.7798,28.2057,28.6266,29.0443, 29.4585,29.8676,30.2684,30.6685,31.0637 ,31.4551,31.8438,32.2277,32.6082, 32.9842,33.3575,33.7272,34.092,34.4552, 34.813,35.1695,35.5217,35.8693,36.2121, 36.5502,36.8858,37.2164,37.546,37.871, 38.5127,39.1402,39.7529,40.352,40.9373, 41.5098,42.0718,42.622,43.1603,43.2698)
FOOTPRINT_POINT_LONGITUDE = (253.323,252.597,251.873,251.15,250.428 ,249.706,248.986,248.267,247.548, 246.829,246.109,245.39,244.873,244.993, 245.109,245.224,245.337,245.448,245.557 ,245.69,245.794,245.895,245.944,245.993 ,246.041,246.089,246.137,246.183,246.23 ,246.275,246.32,246.365,246.409,246.452 ,246.495,246.538,246.58,246.621,246.661 ,246.702,246.741,246.78,246.819,246.857 ,246.894,246.93,246.967,247.02,247.054, 247.087,247.118,247.503,248.246,248.792 ,249.417,250.162,250.829,251.197,251.24 ,251.284,251.33,251.376,251.424,251.472 ,251.521,251.57,251.619,251.669,251.721 ,251.773,251.825,251.878,251.931, 251.985,252.039,252.093,252.148,252.204 ,252.26,252.316,252.373,252.43,252.488, 252.546,252.606,252.667,252.728,252.789 ,252.851,252.914,253.04,253.169,253.301 ,253.435,253.573,253.713,253.855,254.0, 254.147,253.323)
ORBIT_NUMBER = 2917
ORBITAL_ECCENTRICITY = 0.573
ORBITAL_INCLINATION = 86.61
ORBITAL_SEMIMAJOR_AXIS = 8614.53
PERIAPSIS_ALTITUDE = 287.01
PERIAPSIS_ARGUMENT_ANGLE = 205.95
PERIAPSIS_TIME = 2006-04-19T11:25:44.000Z
SPACECRAFT_ORIENTATION = (0.0,-1.0,0.0)
^MEX_ORIENTATION_DESC = "MEX_ORIENTATION_DESC.TXT"
SPACECRAFT_POINTING_MODE = ACROSSTRACK
^MEX_POINTING_DESC = "MEX_POINTING_DESC.TXT"
RIGHT_ASCENSION = -1e+32
DECLINATION = -1e+32
OFFSET_ANGLE = 0.3
SPACECRAFT_SOLAR_DISTANCE = 2.4589e+08
TARGET_NAME = MARS
/* CAMERA DATA ELEMENTS */
DETECTOR_TEMPERATURE = 17.5549
FOCAL_PLANE_TEMPERATURE = 7.9716
INST_CMPRS_NAME = "DISCRETE COSINE TRANSFORMATION (DCT)"
INST_CMPRS_RATIO = 7.21748
INST_CMPRS_QUALITY = 0
INST_CMPRS_QUANTZ_TBL_ID = 0
INSTRUMENT_TEMPERATURE = 11.234
LENS_TEMPERATURE = 8.3794
MACROPIXEL_SIZE = 2
MISSING_FRAMES = 0
PIXEL_SUBSAMPLING_FLAG = N
SIGNAL_CHAIN_ID = 1
/* RADIOMETRIC DATA ELEMENTS */
BANDWIDTH = 180.0
CENTER_FILTER_WAVELENGTH = 677.0
RADIANCE_OFFSET = 1.30072
RADIANCE_SCALING_FACTOR = 0.0250907
REFLECTANCE_SCALING_FACTOR = 0.000791464
MEX:REFLECTANCE_OFFSET = 0.04103
/* IMAGE OBJECT DEFINITIONS */
OBJECT = IMAGE
  INTERCHANGE_FORMAT = BINARY
  LINES = 8345
  LINE_SAMPLES = 2962
  SAMPLE_TYPE = UNSIGNED_INTEGER
  SAMPLE_BITS = 8
  BANDS = 1
  BAND_STORAGE_TYPE = BAND_SEQUENTIAL
  MAXIMUM = 255
  MEAN = 81.1783
  MINIMUM = 1
  STANDARD_DEVIATION = 21.1628
END_OBJECT = IMAGE
/* MAP OBJECT DEFINITIONS */
OBJECT = IMAGE_MAP_PROJECTION
  ^DATA_SET_MAP_PROJECTION_CATALOG= "DSMAP.CAT"
  A_AXIS_RADIUS = 3396.0
  B_AXIS_RADIUS = 3396.0
  C_AXIS_RADIUS = 3396.0
  CENTER_LATITUDE = 0.0
  CENTER_LONGITUDE = 249.0
  COORDINATE_SYSTEM_NAME = PLANETOGRAPHIC
  COORDINATE_SYSTEM_TYPE = "BODY-FIXED ROTATING"
  EASTERNMOST_LONGITUDE = 254.147
  FIRST_STANDARD_PARALLEL = "N/A"
  LINE_FIRST_PIXEL = 1
  LINE_LAST_PIXEL = 8345
  LINE_PROJECTION_OFFSET = 25654.25
  MAP_PROJECTION_ROTATION = 0.0
  MAP_PROJECTION_TYPE = SINUSOIDAL
  MAP_RESOLUTION = 592.713803866667
  MAP_SCALE = 0.1
  MAXIMUM_LATITUDE = 43.3446
  MINIMUM_LATITUDE = 25.6617
  POSITIVE_LONGITUDE_DIRECTION = EAST
  REFERENCE_LATITUDE = "N/A"
  REFERENCE_LONGITUDE = "N/A"
  SAMPLE_FIRST_PIXEL = 1
  SAMPLE_LAST_PIXEL = 2962
  SAMPLE_PROJECTION_OFFSET = 1346.25
  SECOND_STANDARD_PARALLEL = "N/A"
  WESTERNMOST_LONGITUDE = 244.873
END_OBJECT = IMAGE_MAP_PROJECTION
/* The JPEG2000 image data file associated with this label. */
OBJECT = COMPRESSED_FILE
  FILE_NAME = "H2917_0000_S13.JP2"
  RECORD_TYPE = UNDEFINED
  FILE_RECORDS = UNK
  ENCODING_TYPE = "JP2"
  INTERCHANGE_FORMAT = BINARY
  UNCOMPRESSED_FILE_NAME = "H2917_0000_S13.IMG"
  REQUIRED_STORAGE_BYTES = "24741586"
  ^DESCRIPTION = "JP2INFO.TXT"
END_OBJECT = COMPRESSED_FILE
END
