PDS_VERSION_ID = PDS3
/* FILE DATA ELEMENTS */
RECORD_TYPE = STREAM
/* POINTERS TO DATA OBJECTS */
^COMPRESSED_FILE = "H2920_0000_IR3.JP2"
/* IDENTIFICATION DATA ELEMENTS */
DATA_SET_ID = "MEX-M-HRSC-5-REFDR-MAPPROJECTED-V3.0"
DATA_SET_NAME = "MARS EXPRESS HRSC MAP PROJECTED REFDR V3.0"
DETECTOR_ID = MEX_HRSC_IR
EVENT_TYPE = "MARS-REGIONAL-MAPPING-Vo-Fl"
INSTRUMENT_HOST_ID = MEX
INSTRUMENT_HOST_NAME = "MARS EXPRESS"
INSTRUMENT_ID = HRSC
INSTRUMENT_NAME = "HIGH RESOLUTION STEREO CAMERA"
MISSION_NAME = "MARS EXPRESS"
MISSION_PHASE_NAME = ME_Phase_2
PROCESSING_LEVEL_ID = 3
PRODUCT_CREATION_TIME = 2016-04-08T13:52:43.000Z
PRODUCT_ID = "H2920_0000_IR3.JP2"
RELEASE_ID = 0036
REVISION_ID = 0000
/* QUALITY DATA ELEMENTS */
DATA_QUALITY_ID = 1
DATA_QUALITY_DESC = "Data calculated based on original SPICE kernels"
/* TIME DATA ELEMENTS */
SPACECRAFT_CLOCK_START_COUNT = "1/0093597377.07291"
SPACECRAFT_CLOCK_STOP_COUNT = "1/0093597871.51095"
START_TIME = 2006-04-20T07:16:58.691Z
STOP_TIME = 2006-04-20T07:22:18.738Z
/* ORBITAL DATA ELEMENTS */
ASCENDING_NODE_LONGITUDE = 167.0
MAXIMUM_RESOLUTION = 261.6
FOOTPRINT_POINT_LATITUDE = (31.4304,31.4398,31.4477,31.4532,31.458 ,31.4611,31.4626,31.4624,31.4609, 31.4576,31.4527,31.4461,31.4378,31.2291 ,30.9492,30.6673,30.3834,30.0978, 29.8105,29.5231,29.2326,28.7971,28.5101 ,28.2239,27.9401,27.6573,27.3756, 27.0961,26.8181,26.5419,26.2672,25.9941 ,25.7222,25.4519,25.1831,24.9158,24.65, 24.3856,24.1225,23.861,23.601,23.3429, 23.0861,22.4486,21.945,21.4469,20.954, 20.4664,19.984,19.506,19.0335,18.566, 18.2252,18.2268,18.2258,18.2245,18.2227 ,18.2177,18.2129,18.2064,18.4341, 18.7836,19.2528,19.8473,20.3284,20.8152 ,21.3066,21.8037,22.3064,22.8143, 23.3276,23.5865,23.8467,24.1084,24.3716 ,24.6364,24.9027,25.1706,25.4397, 25.7102,25.9826,26.2561,26.5314,26.8082 ,27.0868,27.3669,27.6485,27.9318, 28.2166,28.503,28.7911,29.0809,29.3725, 29.6637,30.0966,30.3826,30.667,30.9497, 31.2307,31.4304)
FOOTPRINT_POINT_LONGITUDE = (316.224,315.861,315.498,315.18,314.817 ,314.454,314.092,313.729,313.412, 313.049,312.686,312.323,311.959,311.653 ,311.68,311.707,311.733,311.758,311.784 ,311.81,311.835,311.871,311.894,311.917 ,311.94,311.961,311.983,312.004,312.024 ,312.044,312.064,312.083,312.102,312.12 ,312.138,312.156,312.173,312.19,312.206 ,312.222,312.238,312.254,312.269, 312.305,312.333,312.36,312.386,312.411, 312.434,312.457,312.479,312.5,312.515, 312.86,313.154,313.582,313.877,314.332, 314.653,315.001,315.382,315.405,315.438 ,315.479,315.513,315.548,315.584, 315.622,315.66,315.7,315.741,315.762, 315.784,315.806,315.828,315.85,315.873, 315.896,315.92,315.944,315.969,315.994, 316.019,316.045,316.072,316.098,316.126 ,316.154,316.182,316.211,316.24,316.27, 316.301,316.331,316.378,316.41,316.442, 316.474,316.506,316.224)
ORBIT_NUMBER = 2920
ORBITAL_ECCENTRICITY = 0.572
ORBITAL_INCLINATION = 86.62
ORBITAL_SEMIMAJOR_AXIS = 8604.6
PERIAPSIS_ALTITUDE = 287.58
PERIAPSIS_ARGUMENT_ANGLE = 205.4
PERIAPSIS_TIME = 2006-04-20T07:35:12.000Z
SPACECRAFT_ORIENTATION = (0.0,-1.0,0.0)
^MEX_ORIENTATION_DESC = "MEX_ORIENTATION_DESC.TXT"
SPACECRAFT_POINTING_MODE = NADIR
^MEX_POINTING_DESC = "MEX_POINTING_DESC.TXT"
RIGHT_ASCENSION = -1e+32
DECLINATION = -1e+32
OFFSET_ANGLE = -1e+32
SPACECRAFT_SOLAR_DISTANCE = 2.45972e+08
TARGET_NAME = MARS
/* CAMERA DATA ELEMENTS */
DETECTOR_TEMPERATURE = 17.351
FOCAL_PLANE_TEMPERATURE = 7.5638
INST_CMPRS_NAME = "DISCRETE COSINE TRANSFORMATION (DCT)"
INST_CMPRS_RATIO = 29.2978
INST_CMPRS_QUALITY = 0
INST_CMPRS_QUANTZ_TBL_ID = 0
INSTRUMENT_TEMPERATURE = 11.0301
LENS_TEMPERATURE = 8.1755
MACROPIXEL_SIZE = 8
MISSING_FRAMES = 0
PIXEL_SUBSAMPLING_FLAG = N
SIGNAL_CHAIN_ID = 2
/* RADIOMETRIC DATA ELEMENTS */
BANDWIDTH = 81.0
CENTER_FILTER_WAVELENGTH = 955.5
RADIANCE_OFFSET = 0.28898
RADIANCE_SCALING_FACTOR = 0.00185728
REFLECTANCE_SCALING_FACTOR = 0.000242421
MEX:REFLECTANCE_OFFSET = 0.037719
/* IMAGE OBJECT DEFINITIONS */
OBJECT = IMAGE
  INTERCHANGE_FORMAT = BINARY
  LINES = 3925
  LINE_SAMPLES = 1064
  SAMPLE_TYPE = UNSIGNED_INTEGER
  SAMPLE_BITS = 8
  BANDS = 1
  BAND_STORAGE_TYPE = BAND_SEQUENTIAL
  MAXIMUM = 255
  MEAN = 108.906
  MINIMUM = 1
  STANDARD_DEVIATION = 30.6954
END_OBJECT = IMAGE
/* MAP OBJECT DEFINITIONS */
OBJECT = IMAGE_MAP_PROJECTION
  ^DATA_SET_MAP_PROJECTION_CATALOG= "DSMAP.CAT"
  A_AXIS_RADIUS = 3396.0
  B_AXIS_RADIUS = 3396.0
  C_AXIS_RADIUS = 3396.0
  CENTER_LATITUDE = 0.0
  CENTER_LONGITUDE = 314.0
  COORDINATE_SYSTEM_NAME = PLANETOGRAPHIC
  COORDINATE_SYSTEM_TYPE = "BODY-FIXED ROTATING"
  EASTERNMOST_LONGITUDE = 316.506
  FIRST_STANDARD_PARALLEL = "N/A"
  LINE_FIRST_PIXEL = 1
  LINE_LAST_PIXEL = 3925
  LINE_PROJECTION_OFFSET = 9332.8125
  MAP_PROJECTION_ROTATION = 0.0
  MAP_PROJECTION_TYPE = SINUSOIDAL
  MAP_RESOLUTION = 296.356901933333
  MAP_SCALE = 0.2
  MAXIMUM_LATITUDE = 31.4626
  MINIMUM_LATITUDE = 18.2064
  POSITIVE_LONGITUDE_DIRECTION = EAST
  REFERENCE_LATITUDE = "N/A"
  REFERENCE_LONGITUDE = "N/A"
  SAMPLE_FIRST_PIXEL = 1
  SAMPLE_LAST_PIXEL = 1064
  SAMPLE_PROJECTION_OFFSET = 523.3125
  SECOND_STANDARD_PARALLEL = "N/A"
  WESTERNMOST_LONGITUDE = 311.653
END_OBJECT = IMAGE_MAP_PROJECTION
/* The JPEG2000 image data file associated with this label. */
OBJECT = COMPRESSED_FILE
  FILE_NAME = "H2920_0000_IR3.JP2"
  RECORD_TYPE = UNDEFINED
  FILE_RECORDS = UNK
  ENCODING_TYPE = "JP2"
  INTERCHANGE_FORMAT = BINARY
  UNCOMPRESSED_FILE_NAME = "H2920_0000_IR3.IMG"
  REQUIRED_STORAGE_BYTES = "4194288"
  ^DESCRIPTION = "JP2INFO.TXT"
END_OBJECT = COMPRESSED_FILE
END
