PDS_VERSION_ID = PDS3
/* FILE DATA ELEMENTS */
RECORD_TYPE = STREAM
/* POINTERS TO DATA OBJECTS */
^COMPRESSED_FILE = "H2920_0000_RE3.JP2"
/* IDENTIFICATION DATA ELEMENTS */
DATA_SET_ID = "MEX-M-HRSC-5-REFDR-MAPPROJECTED-V3.0"
DATA_SET_NAME = "MARS EXPRESS HRSC MAP PROJECTED REFDR V3.0"
DETECTOR_ID = MEX_HRSC_RED
EVENT_TYPE = "MARS-REGIONAL-MAPPING-Vo-Fl"
INSTRUMENT_HOST_ID = MEX
INSTRUMENT_HOST_NAME = "MARS EXPRESS"
INSTRUMENT_ID = HRSC
INSTRUMENT_NAME = "HIGH RESOLUTION STEREO CAMERA"
MISSION_NAME = "MARS EXPRESS"
MISSION_PHASE_NAME = ME_Phase_2
PROCESSING_LEVEL_ID = 3
PRODUCT_CREATION_TIME = 2016-04-08T13:52:43.000Z
PRODUCT_ID = "H2920_0000_RE3.JP2"
RELEASE_ID = 0036
REVISION_ID = 0000
/* QUALITY DATA ELEMENTS */
DATA_QUALITY_ID = 1
DATA_QUALITY_DESC = "Data calculated based on original SPICE kernels"
/* TIME DATA ELEMENTS */
SPACECRAFT_CLOCK_START_COUNT = "1/0093597377.07291"
SPACECRAFT_CLOCK_STOP_COUNT = "1/0093597871.51095"
START_TIME = 2006-04-20T07:20:36.927Z
STOP_TIME = 2006-04-20T07:24:24.933Z
/* ORBITAL DATA ELEMENTS */
ASCENDING_NODE_LONGITUDE = 167.0
MAXIMUM_RESOLUTION = 216.2
FOOTPRINT_POINT_LATITUDE = (31.4791,31.4857,31.4888,31.4912, 31.4937,31.4967,31.4982,31.2497,30.9508 ,30.654,30.3588,30.0655,29.7743,29.4845 ,29.1961,28.911,28.6277,28.3458,28.0654 ,27.7869,27.5105,27.2354,26.9628, 26.6916,26.4216,26.1536,25.8875,25.6222 ,25.3595,24.9679,24.5796,24.3223, 24.0677,23.6879,23.4367,23.1868,22.9385 ,22.692,22.4465,22.2029,21.9602,21.7191 ,21.4788,21.0026,20.5322,20.0675, 19.6079,19.1538,18.8163,18.3696,18.3298 ,18.3266,18.3234,18.3198,18.3173, 18.3141,18.6483,18.9832,19.3232,19.7796 ,20.241,20.708,21.1805,21.4183,21.7789, 22.0196,22.2631,22.5067,22.7532,23.1241 ,23.3731,23.6246,23.8763,24.1307, 24.5148,24.9022,25.1622,25.4246,25.6879 ,25.9532,26.2203,26.4881,26.7587, 27.0309,27.3042,27.58,27.8573,28.1358, 28.4165,28.6991,28.9839,29.4142,29.7028 ,29.9939,30.2873,30.5826,30.8796, 31.1784,31.4795,31.4791)
FOOTPRINT_POINT_LONGITUDE = (315.378,314.689,314.31,313.965,313.552 ,312.898,312.345,312.218,312.235, 312.252,312.269,312.285,312.301,312.316 ,312.332,312.346,312.36,312.374,312.388 ,312.402,312.415,312.428,312.44,312.452 ,312.464,312.476,312.488,312.499,312.51 ,312.526,312.542,312.552,312.562, 312.577,312.586,312.596,312.605,312.614 ,312.622,312.631,312.639,312.647, 312.656,312.671,312.686,312.701,312.715 ,312.729,312.738,312.751,313.038, 313.415,313.748,314.147,314.436,314.835 ,315.134,315.15,315.167,315.19,315.214, 315.239,315.264,315.277,315.296,315.31, 315.323,315.337,315.35,315.371,315.386, 315.4,315.415,315.43,315.452,315.476, 315.491,315.507,315.524,315.54,315.557, 315.574,315.591,315.609,315.626,315.644 ,315.663,315.681,315.7,315.719,315.739, 315.768,315.789,315.809,315.83,315.851, 315.873,315.895,315.917,315.378)
ORBIT_NUMBER = 2920
ORBITAL_ECCENTRICITY = 0.572
ORBITAL_INCLINATION = 86.62
ORBITAL_SEMIMAJOR_AXIS = 8604.6
PERIAPSIS_ALTITUDE = 287.58
PERIAPSIS_ARGUMENT_ANGLE = 205.4
PERIAPSIS_TIME = 2006-04-20T07:35:12.000Z
SPACECRAFT_ORIENTATION = (0.0,-1.0,0.0)
^MEX_ORIENTATION_DESC = "MEX_ORIENTATION_DESC.TXT"
SPACECRAFT_POINTING_MODE = NADIR
^MEX_POINTING_DESC = "MEX_POINTING_DESC.TXT"
RIGHT_ASCENSION = -1e+32
DECLINATION = -1e+32
OFFSET_ANGLE = -1e+32
SPACECRAFT_SOLAR_DISTANCE = 2.45972e+08
TARGET_NAME = MARS
/* CAMERA DATA ELEMENTS */
DETECTOR_TEMPERATURE = 18.5744
FOCAL_PLANE_TEMPERATURE = 7.5638
INST_CMPRS_NAME = "DISCRETE COSINE TRANSFORMATION (DCT)"
INST_CMPRS_RATIO = 30.6909
INST_CMPRS_QUALITY = 0
INST_CMPRS_QUANTZ_TBL_ID = 0
INSTRUMENT_TEMPERATURE = 11.0301
LENS_TEMPERATURE = 8.1755
MACROPIXEL_SIZE = 8
MISSING_FRAMES = 0
PIXEL_SUBSAMPLING_FLAG = N
SIGNAL_CHAIN_ID = 2
/* RADIOMETRIC DATA ELEMENTS */
BANDWIDTH = 48.0
CENTER_FILTER_WAVELENGTH = 748.0
RADIANCE_OFFSET = 0.344989
RADIANCE_SCALING_FACTOR = 0.00192788
REFLECTANCE_SCALING_FACTOR = 0.000266179
MEX:REFLECTANCE_OFFSET = 0.047632
/* IMAGE OBJECT DEFINITIONS */
OBJECT = IMAGE
  INTERCHANGE_FORMAT = BINARY
  LINES = 3925
  LINE_SAMPLES = 1064
  SAMPLE_TYPE = UNSIGNED_INTEGER
  SAMPLE_BITS = 8
  BANDS = 1
  BAND_STORAGE_TYPE = BAND_SEQUENTIAL
  MAXIMUM = 255
  MEAN = 101.755
  MINIMUM = 1
  STANDARD_DEVIATION = 28.2817
END_OBJECT = IMAGE
/* MAP OBJECT DEFINITIONS */
OBJECT = IMAGE_MAP_PROJECTION
  ^DATA_SET_MAP_PROJECTION_CATALOG= "DSMAP.CAT"
  A_AXIS_RADIUS = 3396.0
  B_AXIS_RADIUS = 3396.0
  C_AXIS_RADIUS = 3396.0
  CENTER_LATITUDE = 0.0
  CENTER_LONGITUDE = 314.0
  COORDINATE_SYSTEM_NAME = PLANETOGRAPHIC
  COORDINATE_SYSTEM_TYPE = "BODY-FIXED ROTATING"
  EASTERNMOST_LONGITUDE = 315.917
  FIRST_STANDARD_PARALLEL = "N/A"
  LINE_FIRST_PIXEL = 1
  LINE_LAST_PIXEL = 3925
  LINE_PROJECTION_OFFSET = 9332.8125
  MAP_PROJECTION_ROTATION = 0.0
  MAP_PROJECTION_TYPE = SINUSOIDAL
  MAP_RESOLUTION = 296.356901933333
  MAP_SCALE = 0.2
  MAXIMUM_LATITUDE = 31.4982
  MINIMUM_LATITUDE = 18.3141
  POSITIVE_LONGITUDE_DIRECTION = EAST
  REFERENCE_LATITUDE = "N/A"
  REFERENCE_LONGITUDE = "N/A"
  SAMPLE_FIRST_PIXEL = 1
  SAMPLE_LAST_PIXEL = 1064
  SAMPLE_PROJECTION_OFFSET = 523.3125
  SECOND_STANDARD_PARALLEL = "N/A"
  WESTERNMOST_LONGITUDE = 312.218
END_OBJECT = IMAGE_MAP_PROJECTION
/* The JPEG2000 image data file associated with this label. */
OBJECT = COMPRESSED_FILE
  FILE_NAME = "H2920_0000_RE3.JP2"
  RECORD_TYPE = UNDEFINED
  FILE_RECORDS = UNK
  ENCODING_TYPE = "JP2"
  INTERCHANGE_FORMAT = BINARY
  UNCOMPRESSED_FILE_NAME = "H2920_0000_RE3.IMG"
  REQUIRED_STORAGE_BYTES = "4194288"
  ^DESCRIPTION = "JP2INFO.TXT"
END_OBJECT = COMPRESSED_FILE
END
