PDS_VERSION_ID = PDS3
/* FILE DATA ELEMENTS */
RECORD_TYPE = STREAM
/* POINTERS TO DATA OBJECTS */
^COMPRESSED_FILE = "H2920_0000_S13.JP2"
/* IDENTIFICATION DATA ELEMENTS */
DATA_SET_ID = "MEX-M-HRSC-5-REFDR-MAPPROJECTED-V3.0"
DATA_SET_NAME = "MARS EXPRESS HRSC MAP PROJECTED REFDR V3.0"
DETECTOR_ID = MEX_HRSC_S1
EVENT_TYPE = "MARS-REGIONAL-MAPPING-Vo-Fl"
INSTRUMENT_HOST_ID = MEX
INSTRUMENT_HOST_NAME = "MARS EXPRESS"
INSTRUMENT_ID = HRSC
INSTRUMENT_NAME = "HIGH RESOLUTION STEREO CAMERA"
MISSION_NAME = "MARS EXPRESS"
MISSION_PHASE_NAME = ME_Phase_2
PROCESSING_LEVEL_ID = 3
PRODUCT_CREATION_TIME = 2016-04-08T13:52:43.000Z
PRODUCT_ID = "H2920_0000_S13.JP2"
RELEASE_ID = 0036
REVISION_ID = 0000
/* QUALITY DATA ELEMENTS */
DATA_QUALITY_ID = 1
DATA_QUALITY_DESC = "Data calculated based on original SPICE kernels"
/* TIME DATA ELEMENTS */
SPACECRAFT_CLOCK_START_COUNT = "1/0093597377.07291"
SPACECRAFT_CLOCK_STOP_COUNT = "1/0093597871.51095"
START_TIME = 2006-04-20T07:16:22.580Z
STOP_TIME = 2006-04-20T07:22:01.638Z
/* ORBITAL DATA ELEMENTS */
ASCENDING_NODE_LONGITUDE = 167.0
MAXIMUM_RESOLUTION = 68.3
FOOTPRINT_POINT_LATITUDE = (31.4512,31.4629,31.4724,31.48,31.4854, 31.4892,31.4895,31.4876,31.4835,31.4773 ,31.4689,31.4585,31.3726,31.109,30.8437 ,30.575,30.3051,30.0334,29.76,29.4871, 29.0687,28.7885,28.5067,28.2221,27.938, 27.6541,27.3719,27.0914,26.8133,26.5361 ,26.2601,25.9858,25.713,25.4417,25.1717 ,24.9033,24.6364,24.3706,24.1061, 23.8433,23.5817,23.3218,23.0638,22.5499 ,22.0417,21.5385,21.0403,20.548,20.0608 ,19.5773,19.1003,18.6268,18.2101, 18.2118,18.2103,18.2079,18.2019,18.1954 ,18.1898,18.1841,18.6525,19.1249, 19.6028,20.0859,20.5741,21.0675,21.5656 ,22.0695,22.5787,22.8353,23.0932, 23.3527,23.6135,23.8755,24.1391,24.4041 ,24.6705,24.9384,25.2076,25.4784, 25.7502,26.0242,26.2993,26.576,26.854, 27.1337,27.4149,27.6977,28.1247,28.4102 ,28.6938,28.9754,29.2553,29.5337, 29.8076,30.2202,30.4917,30.7611,31.0287 ,31.4512)
FOOTPRINT_POINT_LONGITUDE = (316.433,316.036,315.639,315.242, 314.846,314.3,313.904,313.508,313.112, 312.716,312.319,311.921,311.484,311.512 ,311.54,311.567,311.594,311.621,311.648 ,311.675,311.714,311.74,311.765,311.79, 311.815,311.839,311.863,311.886,311.909 ,311.931,311.952,311.974,311.994, 312.015,312.034,312.054,312.073,312.091 ,312.11,312.127,312.145,312.162,312.179 ,312.211,312.242,312.272,312.3,312.328, 312.354,312.38,312.404,312.427,312.562, 312.878,313.423,313.852,314.397,314.77, 315.056,315.411,315.443,315.477,315.512 ,315.548,315.585,315.623,315.662, 315.703,315.745,315.767,315.789,315.811 ,315.834,315.857,315.881,315.905, 315.929,315.954,315.979,316.005,316.031 ,316.057,316.085,316.112,316.14,316.169 ,316.198,316.228,316.274,316.305, 316.336,316.368,316.4,316.432,316.465, 316.513,316.546,316.579,316.613, 316.433)
ORBIT_NUMBER = 2920
ORBITAL_ECCENTRICITY = 0.572
ORBITAL_INCLINATION = 86.62
ORBITAL_SEMIMAJOR_AXIS = 8604.6
PERIAPSIS_ALTITUDE = 287.58
PERIAPSIS_ARGUMENT_ANGLE = 205.4
PERIAPSIS_TIME = 2006-04-20T07:35:12.000Z
SPACECRAFT_ORIENTATION = (0.0,-1.0,0.0)
^MEX_ORIENTATION_DESC = "MEX_ORIENTATION_DESC.TXT"
SPACECRAFT_POINTING_MODE = NADIR
^MEX_POINTING_DESC = "MEX_POINTING_DESC.TXT"
RIGHT_ASCENSION = -1e+32
DECLINATION = -1e+32
OFFSET_ANGLE = -1e+32
SPACECRAFT_SOLAR_DISTANCE = 2.45972e+08
TARGET_NAME = MARS
/* CAMERA DATA ELEMENTS */
DETECTOR_TEMPERATURE = 17.351
FOCAL_PLANE_TEMPERATURE = 7.5638
INST_CMPRS_NAME = "DISCRETE COSINE TRANSFORMATION (DCT)"
INST_CMPRS_RATIO = 13.8484
INST_CMPRS_QUALITY = 0
INST_CMPRS_QUANTZ_TBL_ID = 0
INSTRUMENT_TEMPERATURE = 11.0301
LENS_TEMPERATURE = 8.1755
MACROPIXEL_SIZE = 2
MISSING_FRAMES = 0
PIXEL_SUBSAMPLING_FLAG = N
SIGNAL_CHAIN_ID = 1
/* RADIOMETRIC DATA ELEMENTS */
BANDWIDTH = 180.0
CENTER_FILTER_WAVELENGTH = 677.0
RADIANCE_OFFSET = 1.56907
RADIANCE_SCALING_FACTOR = 0.00696591
REFLECTANCE_SCALING_FACTOR = 0.00021988
MEX:REFLECTANCE_OFFSET = 0.0495279
/* IMAGE OBJECT DEFINITIONS */
OBJECT = IMAGE
  INTERCHANGE_FORMAT = BINARY
  LINES = 15700
  LINE_SAMPLES = 4255
  SAMPLE_TYPE = UNSIGNED_INTEGER
  SAMPLE_BITS = 8
  BANDS = 1
  BAND_STORAGE_TYPE = BAND_SEQUENTIAL
  MAXIMUM = 255
  MEAN = 103.589
  MINIMUM = 1
  STANDARD_DEVIATION = 30.5971
END_OBJECT = IMAGE
/* MAP OBJECT DEFINITIONS */
OBJECT = IMAGE_MAP_PROJECTION
  ^DATA_SET_MAP_PROJECTION_CATALOG= "DSMAP.CAT"
  A_AXIS_RADIUS = 3396.0
  B_AXIS_RADIUS = 3396.0
  C_AXIS_RADIUS = 3396.0
  CENTER_LATITUDE = 0.0
  CENTER_LONGITUDE = 314.0
  COORDINATE_SYSTEM_NAME = PLANETOGRAPHIC
  COORDINATE_SYSTEM_TYPE = "BODY-FIXED ROTATING"
  EASTERNMOST_LONGITUDE = 316.613
  FIRST_STANDARD_PARALLEL = "N/A"
  LINE_FIRST_PIXEL = 1
  LINE_LAST_PIXEL = 15700
  LINE_PROJECTION_OFFSET = 37332.75
  MAP_PROJECTION_ROTATION = 0.0
  MAP_PROJECTION_TYPE = SINUSOIDAL
  MAP_RESOLUTION = 1185.42760773333
  MAP_SCALE = 0.05
  MAXIMUM_LATITUDE = 31.4895
  MINIMUM_LATITUDE = 18.1841
  POSITIVE_LONGITUDE_DIRECTION = EAST
  REFERENCE_LATITUDE = "N/A"
  REFERENCE_LONGITUDE = "N/A"
  SAMPLE_FIRST_PIXEL = 1
  SAMPLE_LAST_PIXEL = 4255
  SAMPLE_PROJECTION_OFFSET = 2094.75
  SECOND_STANDARD_PARALLEL = "N/A"
  WESTERNMOST_LONGITUDE = 311.484
END_OBJECT = IMAGE_MAP_PROJECTION
/* The JPEG2000 image data file associated with this label. */
OBJECT = COMPRESSED_FILE
  FILE_NAME = "H2920_0000_S13.JP2"
  RECORD_TYPE = UNDEFINED
  FILE_RECORDS = UNK
  ENCODING_TYPE = "JP2"
  INTERCHANGE_FORMAT = BINARY
  UNCOMPRESSED_FILE_NAME = "H2920_0000_S13.IMG"
  REQUIRED_STORAGE_BYTES = "66829030"
  ^DESCRIPTION = "JP2INFO.TXT"
END_OBJECT = COMPRESSED_FILE
END
