PDS_VERSION_ID = PDS3
/* FILE DATA ELEMENTS */
RECORD_TYPE = STREAM
/* POINTERS TO DATA OBJECTS */
^COMPRESSED_FILE = "H2921_0000_BL3.JP2"
/* IDENTIFICATION DATA ELEMENTS */
DATA_SET_ID = "MEX-M-HRSC-5-REFDR-MAPPROJECTED-V3.0"
DATA_SET_NAME = "MARS EXPRESS HRSC MAP PROJECTED REFDR V3.0"
DETECTOR_ID = MEX_HRSC_BLUE
EVENT_TYPE = "MARS-REGIONAL-MAPPING-Vo-Te-Mw"
INSTRUMENT_HOST_ID = MEX
INSTRUMENT_HOST_NAME = "MARS EXPRESS"
INSTRUMENT_ID = HRSC
INSTRUMENT_NAME = "HIGH RESOLUTION STEREO CAMERA"
MISSION_NAME = "MARS EXPRESS"
MISSION_PHASE_NAME = ME_Phase_2
PROCESSING_LEVEL_ID = 3
PRODUCT_CREATION_TIME = 2016-04-08T13:52:43.000Z
PRODUCT_ID = "H2921_0000_BL3.JP2"
RELEASE_ID = 0036
REVISION_ID = 0000
/* QUALITY DATA ELEMENTS */
DATA_QUALITY_ID = 1
DATA_QUALITY_DESC = "Data calculated based on original SPICE kernels"
/* TIME DATA ELEMENTS */
SPACECRAFT_CLOCK_START_COUNT = "1/0093621160.08263"
SPACECRAFT_CLOCK_STOP_COUNT = "1/0093621902.25266"
START_TIME = 2006-04-20T13:58:19.784Z
STOP_TIME = 2006-04-20T14:03:50.639Z
/* ORBITAL DATA ELEMENTS */
ASCENDING_NODE_LONGITUDE = 166.98
MAXIMUM_RESOLUTION = 142.3
FOOTPRINT_POINT_LATITUDE = (43.0227,43.032,43.0396,43.0476,43.0508 ,43.0522,43.0508,43.0477,43.0429, 43.0363,43.0255,43.0149,42.8825,42.3209 ,41.7549,41.1842,40.6089,40.029,39.4443 ,38.8551,38.5587,38.2611,37.9623, 37.6624,37.3613,37.059,36.7555,36.4508, 36.1449,35.8378,35.5296,35.2201,34.9094 ,34.5974,34.2842,33.9698,33.6542, 33.3374,33.0193,32.7001,32.2209,31.9034 ,31.5885,31.2756,30.9653,30.6569, 30.3508,30.0465,29.7441,29.4437,28.996, 28.4071,27.8252,27.787,27.7863,27.7852, 27.7817,27.7747,27.7657,28.1975,28.6376 ,29.2298,29.529,29.8309,30.134,30.4403, 30.7478,31.0574,31.3688,31.6826,31.9983 ,32.3164,32.6364,32.9566,33.275,33.5915 ,34.0635,34.3784,34.692,35.0049,35.3165 ,35.6271,35.937,36.396,36.7023,37.0072, 37.4627,37.914,38.2145,38.5137,38.8112, 39.1076,39.4029,39.697,40.282,40.8625, 41.4385,42.01,42.5772,43.0227)
FOOTPRINT_POINT_LONGITUDE = (218.854,218.382,217.912,217.206, 216.736,215.972,215.503,215.033,214.564 ,214.094,213.505,213.034,212.643, 212.721,212.796,212.87,212.941,213.01, 213.078,213.143,213.175,213.207,213.238 ,213.268,213.299,213.328,213.358, 213.387,213.415,213.443,213.471,213.498 ,213.525,213.551,213.577,213.603, 213.628,213.653,213.678,213.702,213.738 ,213.761,213.784,213.806,213.827, 213.848,213.868,213.888,213.907,213.926 ,213.955,213.99,214.024,214.579,215.035 ,215.393,215.946,216.63,217.215,217.551 ,217.585,217.629,217.652,217.677,217.7, 217.727,217.752,217.778,217.803,217.829 ,217.856,217.883,217.91,217.939,217.966 ,217.993,218.032,218.061,218.091, 218.122,218.153,218.184,218.216,218.258 ,218.29,218.322,218.37,218.416,218.449, 218.482,218.514,218.546,218.579,218.611 ,218.678,218.745,218.814,218.883, 218.953,218.854)
ORBIT_NUMBER = 2921
ORBITAL_ECCENTRICITY = 0.573
ORBITAL_INCLINATION = 86.61
ORBITAL_SEMIMAJOR_AXIS = 8608.65
PERIAPSIS_ALTITUDE = 287.58
PERIAPSIS_ARGUMENT_ANGLE = 205.2
PERIAPSIS_TIME = 2006-04-20T14:18:17.000Z
SPACECRAFT_ORIENTATION = (0.0,-1.0,0.0)
^MEX_ORIENTATION_DESC = "MEX_ORIENTATION_DESC.TXT"
SPACECRAFT_POINTING_MODE = NADIR
^MEX_POINTING_DESC = "MEX_POINTING_DESC.TXT"
RIGHT_ASCENSION = -1e+32
DECLINATION = -1e+32
OFFSET_ANGLE = -1e+32
SPACECRAFT_SOLAR_DISTANCE = 2.45998e+08
TARGET_NAME = MARS
/* CAMERA DATA ELEMENTS */
DETECTOR_TEMPERATURE = 18.3705
FOCAL_PLANE_TEMPERATURE = 8.1755
INST_CMPRS_NAME = "DISCRETE COSINE TRANSFORMATION (DCT)"
INST_CMPRS_RATIO = 13.9926
INST_CMPRS_QUALITY = 0
INST_CMPRS_QUANTZ_TBL_ID = 0
INSTRUMENT_TEMPERATURE = 11.0301
LENS_TEMPERATURE = 8.5833
MACROPIXEL_SIZE = 4
MISSING_FRAMES = 0
PIXEL_SUBSAMPLING_FLAG = N
SIGNAL_CHAIN_ID = 2
/* RADIOMETRIC DATA ELEMENTS */
BANDWIDTH = 76.0
CENTER_FILTER_WAVELENGTH = 444.0
RADIANCE_OFFSET = 0.295537
RADIANCE_SCALING_FACTOR = 0.00168378
REFLECTANCE_SCALING_FACTOR = 0.000104689
MEX:REFLECTANCE_OFFSET = 0.0183749
/* IMAGE OBJECT DEFINITIONS */
OBJECT = IMAGE
  INTERCHANGE_FORMAT = BINARY
  LINES = 9077
  LINE_SAMPLES = 2908
  SAMPLE_TYPE = UNSIGNED_INTEGER
  SAMPLE_BITS = 8
  BANDS = 1
  BAND_STORAGE_TYPE = BAND_SEQUENTIAL
  MAXIMUM = 255
  MEAN = 103.057
  MINIMUM = 1
  STANDARD_DEVIATION = 33.6529
END_OBJECT = IMAGE
/* MAP OBJECT DEFINITIONS */
OBJECT = IMAGE_MAP_PROJECTION
  ^DATA_SET_MAP_PROJECTION_CATALOG= "DSMAP.CAT"
  A_AXIS_RADIUS = 3396.0
  B_AXIS_RADIUS = 3396.0
  C_AXIS_RADIUS = 3396.0
  CENTER_LATITUDE = 0.0
  CENTER_LONGITUDE = 216.0
  COORDINATE_SYSTEM_NAME = PLANETOGRAPHIC
  COORDINATE_SYSTEM_TYPE = "BODY-FIXED ROTATING"
  EASTERNMOST_LONGITUDE = 218.953
  FIRST_STANDARD_PARALLEL = "N/A"
  LINE_FIRST_PIXEL = 1
  LINE_LAST_PIXEL = 9077
  LINE_PROJECTION_OFFSET = 25524.125
  MAP_PROJECTION_ROTATION = 0.0
  MAP_PROJECTION_TYPE = SINUSOIDAL
  MAP_RESOLUTION = 592.713803866667
  MAP_SCALE = 0.1
  MAXIMUM_LATITUDE = 43.0522
  MINIMUM_LATITUDE = 27.7657
  POSITIVE_LONGITUDE_DIRECTION = EAST
  REFERENCE_LATITUDE = "N/A"
  REFERENCE_LONGITUDE = "N/A"
  SAMPLE_FIRST_PIXEL = 1
  SAMPLE_LAST_PIXEL = 2908
  SAMPLE_PROJECTION_OFFSET = 1542.625
  SECOND_STANDARD_PARALLEL = "N/A"
  WESTERNMOST_LONGITUDE = 212.643
END_OBJECT = IMAGE_MAP_PROJECTION
/* The JPEG2000 image data file associated with this label. */
OBJECT = COMPRESSED_FILE
  FILE_NAME = "H2921_0000_BL3.JP2"
  RECORD_TYPE = UNDEFINED
  FILE_RECORDS = UNK
  ENCODING_TYPE = "JP2"
  INTERCHANGE_FORMAT = BINARY
  UNCOMPRESSED_FILE_NAME = "H2921_0000_BL3.IMG"
  REQUIRED_STORAGE_BYTES = "26419180"
  ^DESCRIPTION = "JP2INFO.TXT"
END_OBJECT = COMPRESSED_FILE
END
