PDS_VERSION_ID = PDS3
/* FILE DATA ELEMENTS */
RECORD_TYPE = STREAM
/* POINTERS TO DATA OBJECTS */
^COMPRESSED_FILE = "H2922_0000_GR3.JP2"
/* IDENTIFICATION DATA ELEMENTS */
DATA_SET_ID = "MEX-M-HRSC-5-REFDR-MAPPROJECTED-V3.0"
DATA_SET_NAME = "MARS EXPRESS HRSC MAP PROJECTED REFDR V3.0"
DETECTOR_ID = MEX_HRSC_GREEN
EVENT_TYPE = "MARS-REGIONAL-MAPPING-Vo-Te-Eo"
INSTRUMENT_HOST_ID = MEX
INSTRUMENT_HOST_NAME = "MARS EXPRESS"
INSTRUMENT_ID = HRSC
INSTRUMENT_NAME = "HIGH RESOLUTION STEREO CAMERA"
MISSION_NAME = "MARS EXPRESS"
MISSION_PHASE_NAME = ME_Phase_2
PROCESSING_LEVEL_ID = 3
PRODUCT_CREATION_TIME = 2016-04-08T13:52:43.000Z
PRODUCT_ID = "H2922_0000_GR3.JP2"
RELEASE_ID = 0036
REVISION_ID = 0000
/* QUALITY DATA ELEMENTS */
DATA_QUALITY_ID = 2
DATA_QUALITY_DESC = "Data calculated based on photogrammetrically improved orbit and attitude data"
/* TIME DATA ELEMENTS */
SPACECRAFT_CLOCK_START_COUNT = "1/0093645838.09035"
SPACECRAFT_CLOCK_STOP_COUNT = "1/0093646300.64182"
START_TIME = 2006-04-20T20:46:06.018Z
STOP_TIME = 2006-04-20T20:50:33.822Z
/* ORBITAL DATA ELEMENTS */
ASCENDING_NODE_LONGITUDE = 166.96
MAXIMUM_RESOLUTION = 104
FOOTPRINT_POINT_LATITUDE = (28.9657,28.9706,28.9806,28.9844, 28.9869,28.9867,28.9856,28.9705,28.6574 ,28.3465,28.0375,27.7307,27.4259, 27.1232,26.8225,26.5237,26.2269,25.932, 25.6389,25.3478,25.0585,24.7715,24.4863 ,24.2027,23.9209,23.6408,23.3624, 23.0862,22.8115,22.5383,22.2666,21.9976 ,21.7297,21.4631,21.1985,20.9359, 20.6743,20.4143,20.1564,19.8996,19.6444 ,19.391,19.1384,18.8883,18.5152,18.0225 ,17.6571,17.1747,16.6974,16.2255, 15.8754,15.4949,15.4926,15.4877,15.4824 ,15.4775,15.4748,15.8221,16.2891, 16.7617,17.1195,17.6015,18.089,18.4585, 18.8311,19.0812,19.3334,19.7139,20.0979 ,20.4854,20.8766,21.1388,21.4035, 21.6697,21.9371,22.2063,22.4776,22.7504 ,23.0248,23.3008,23.5792,23.859,24.1405 ,24.4238,24.7089,24.996,25.285,25.576, 25.8689,26.1637,26.4603,26.7591,27.0597 ,27.3624,27.6671,27.9739,28.2829, 28.5939,28.9071,28.9657)
FOOTPRINT_POINT_LONGITUDE = (119.052,118.769,118.026,117.566, 117.001,116.436,116.153,115.555,115.576 ,115.596,115.616,115.635,115.653, 115.672,115.69,115.707,115.724,115.741, 115.757,115.773,115.788,115.803,115.818 ,115.833,115.847,115.861,115.874, 115.887,115.9,115.913,115.925,115.938, 115.949,115.961,115.972,115.984,115.994 ,116.005,116.016,116.026,116.036, 116.045,116.055,116.064,116.078,116.096 ,116.109,116.125,116.142,116.157, 116.168,116.419,116.813,117.359,117.775 ,118.255,118.525,118.543,118.567, 118.591,118.61,118.636,118.662,118.683, 118.704,118.718,118.732,118.754,118.777 ,118.8,118.823,118.839,118.855,118.872, 118.889,118.906,118.923,118.941,118.959 ,118.977,118.996,119.014,119.034, 119.053,119.073,119.093,119.113,119.134 ,119.155,119.177,119.199,119.221, 119.244,119.267,119.29,119.314,119.338, 119.363,119.388,119.052)
ORBIT_NUMBER = 2922
ORBITAL_ECCENTRICITY = 0.573
ORBITAL_INCLINATION = 86.61
ORBITAL_SEMIMAJOR_AXIS = 8611.32
PERIAPSIS_ALTITUDE = 287.56
PERIAPSIS_ARGUMENT_ANGLE = 205.03
PERIAPSIS_TIME = 2006-04-20T21:01:31.000Z
SPACECRAFT_ORIENTATION = (0.0,-1.0,0.0)
^MEX_ORIENTATION_DESC = "MEX_ORIENTATION_DESC.TXT"
SPACECRAFT_POINTING_MODE = NADIR
^MEX_POINTING_DESC = "MEX_POINTING_DESC.TXT"
RIGHT_ASCENSION = -1e+32
DECLINATION = -1e+32
OFFSET_ANGLE = -1e+32
SPACECRAFT_SOLAR_DISTANCE = 2.46025e+08
TARGET_NAME = MARS
/* CAMERA DATA ELEMENTS */
DETECTOR_TEMPERATURE = 18.3705
FOCAL_PLANE_TEMPERATURE = 7.7677
INST_CMPRS_NAME = "DISCRETE COSINE TRANSFORMATION (DCT)"
INST_CMPRS_RATIO = 16.5612
INST_CMPRS_QUALITY = 0
INST_CMPRS_QUANTZ_TBL_ID = 0
INSTRUMENT_TEMPERATURE = 11.234
LENS_TEMPERATURE = 8.5833
MACROPIXEL_SIZE = 4
MISSING_FRAMES = 0
PIXEL_SUBSAMPLING_FLAG = N
SIGNAL_CHAIN_ID = 2
/* RADIOMETRIC DATA ELEMENTS */
BANDWIDTH = 88.0
CENTER_FILTER_WAVELENGTH = 538.0
RADIANCE_OFFSET = 0.599726
RADIANCE_SCALING_FACTOR = 0.00270821
REFLECTANCE_SCALING_FACTOR = 0.000141132
MEX:REFLECTANCE_OFFSET = 0.0312534
/* IMAGE OBJECT DEFINITIONS */
OBJECT = IMAGE
  INTERCHANGE_FORMAT = BINARY
  LINES = 8015
  LINE_SAMPLES = 1979
  SAMPLE_TYPE = UNSIGNED_INTEGER
  SAMPLE_BITS = 8
  BANDS = 1
  BAND_STORAGE_TYPE = BAND_SEQUENTIAL
  MAXIMUM = 255
  MEAN = 89.4553
  MINIMUM = 1
  STANDARD_DEVIATION = 27.4391
END_OBJECT = IMAGE
/* MAP OBJECT DEFINITIONS */
OBJECT = IMAGE_MAP_PROJECTION
  ^DATA_SET_MAP_PROJECTION_CATALOG= "DSMAP.CAT"
  A_AXIS_RADIUS = 3396.0
  B_AXIS_RADIUS = 3396.0
  C_AXIS_RADIUS = 3396.0
  CENTER_LATITUDE = 0.0
  CENTER_LONGITUDE = 117.0
  COORDINATE_SYSTEM_NAME = PLANETOGRAPHIC
  COORDINATE_SYSTEM_TYPE = "BODY-FIXED ROTATING"
  EASTERNMOST_LONGITUDE = 119.388
  FIRST_STANDARD_PARALLEL = "N/A"
  LINE_FIRST_PIXEL = 1
  LINE_LAST_PIXEL = 8015
  LINE_PROJECTION_OFFSET = 17193.375
  MAP_PROJECTION_ROTATION = 0.0
  MAP_PROJECTION_TYPE = SINUSOIDAL
  MAP_RESOLUTION = 592.713803866667
  MAP_SCALE = 0.1
  MAXIMUM_LATITUDE = 28.9869
  MINIMUM_LATITUDE = 15.4748
  POSITIVE_LONGITUDE_DIRECTION = EAST
  REFERENCE_LATITUDE = "N/A"
  REFERENCE_LONGITUDE = "N/A"
  SAMPLE_FIRST_PIXEL = 1
  SAMPLE_LAST_PIXEL = 1979
  SAMPLE_PROJECTION_OFFSET = 752.375
  SECOND_STANDARD_PARALLEL = "N/A"
  WESTERNMOST_LONGITUDE = 115.555
END_OBJECT = IMAGE_MAP_PROJECTION
/* The JPEG2000 image data file associated with this label. */
OBJECT = COMPRESSED_FILE
  FILE_NAME = "H2922_0000_GR3.JP2"
  RECORD_TYPE = UNDEFINED
  FILE_RECORDS = UNK
  ENCODING_TYPE = "JP2"
  INTERCHANGE_FORMAT = BINARY
  UNCOMPRESSED_FILE_NAME = "H2922_0000_GR3.IMG"
  REQUIRED_STORAGE_BYTES = "15881475"
  ^DESCRIPTION = "JP2INFO.TXT"
END_OBJECT = COMPRESSED_FILE
END
