PDS_VERSION_ID = PDS3
/* FILE DATA ELEMENTS */
RECORD_TYPE = STREAM
/* POINTERS TO DATA OBJECTS */
^COMPRESSED_FILE = "H2926_0000_BL3.JP2"
/* IDENTIFICATION DATA ELEMENTS */
DATA_SET_ID = "MEX-M-HRSC-5-REFDR-MAPPROJECTED-V3.0"
DATA_SET_NAME = "MARS EXPRESS HRSC MAP PROJECTED REFDR V3.0"
DETECTOR_ID = MEX_HRSC_BLUE
EVENT_TYPE = "MARS-REGIONAL-MAPPING-Te-Im-Fl"
INSTRUMENT_HOST_ID = MEX
INSTRUMENT_HOST_NAME = "MARS EXPRESS"
INSTRUMENT_ID = HRSC
INSTRUMENT_NAME = "HIGH RESOLUTION STEREO CAMERA"
MISSION_NAME = "MARS EXPRESS"
MISSION_PHASE_NAME = ME_Phase_2
PROCESSING_LEVEL_ID = 3
PRODUCT_CREATION_TIME = 2016-04-08T13:52:43.000Z
PRODUCT_ID = "H2926_0000_BL3.JP2"
RELEASE_ID = 0036
REVISION_ID = 0000
/* QUALITY DATA ELEMENTS */
DATA_QUALITY_ID = 2
DATA_QUALITY_DESC = "Data calculated based on photogrammetrically improved orbit and attitude data"
/* TIME DATA ELEMENTS */
SPACECRAFT_CLOCK_START_COUNT = "1/0093742433.07318"
SPACECRAFT_CLOCK_STOP_COUNT = "1/0093742989.22752"
START_TIME = 2006-04-21T23:37:28.141Z
STOP_TIME = 2006-04-21T23:42:17.003Z
/* ORBITAL DATA ELEMENTS */
ASCENDING_NODE_LONGITUDE = 166.87
MAXIMUM_RESOLUTION = 113.6
FOOTPRINT_POINT_LATITUDE = (35.1763,35.1812,35.1892,35.1932, 35.1933,35.1901,35.1851,35.0195,34.6773 ,34.3374,34.0,33.665,33.3324,33.002, 32.6743,32.3486,32.0249,31.7036,31.3844 ,31.0676,30.753,30.4406,30.1303,29.8223 ,29.516,29.2119,28.9099,28.6098,28.3122 ,28.0161,27.722,27.4298,27.1397,26.8514 ,26.5651,26.2806,25.9829,25.7023, 25.4239,25.1469,24.8718,24.3267,23.7876 ,23.2559,22.7311,22.3418,21.8278, 21.4465,20.8186,20.5022,20.5011,20.4989 ,20.494,20.4889,20.4853,20.4827,20.8549 ,21.484,21.8658,22.251,22.7703,23.2959, 23.8286,24.2327,24.6404,24.9138,25.1899 ,25.4676,25.7468,26.0276,26.3253, 26.6109,26.8981,27.1868,27.4775,27.7699 ,28.065,28.362,28.6601,28.961,29.2635, 29.5682,29.875,30.1839,30.4949,30.808, 31.1233,31.441,31.7611,32.0833,32.4078, 32.7345,33.0633,33.3946,33.7288,34.065, 34.4035,34.7446,35.0884,35.1763)
FOOTPRINT_POINT_LONGITUDE = (86.2431,85.9091,85.1579,84.407,83.7402 ,83.0726,82.5287,82.1734,82.2023, 82.2305,82.2578,82.2845,82.3103,82.3358 ,82.3602,82.3842,82.4078,82.4304, 82.4528,82.4741,82.4954,82.5161,82.5363 ,82.5557,82.5752,82.5941,82.6128, 82.6307,82.648,82.6648,82.6812,82.6973, 82.7131,82.7288,82.7436,82.758,82.7733, 82.7871,82.8007,82.814,82.8264,82.8515, 82.8754,82.8983,82.9196,82.9351,82.9549 ,82.9694,82.9924,83.2224,83.5171, 83.9091,84.5459,85.0361,85.3303,85.6331 ,85.6534,85.6884,85.7099,85.7318, 85.7624,85.7936,85.8257,85.8508,85.8763 ,85.8936,85.9116,85.9298,85.9482, 85.9668,85.9865,86.0063,86.0261,86.046, 86.0668,86.0874,86.1087,86.1304,86.1516 ,86.1742,86.1967,86.2197,86.2429, 86.2666,86.2907,86.3153,86.3402,86.3655 ,86.3917,86.4179,86.4449,86.4722, 86.5001,86.5285,86.5575,86.587,86.6171, 86.6479,86.6792,86.2431)
ORBIT_NUMBER = 2926
ORBITAL_ECCENTRICITY = 0.573
ORBITAL_INCLINATION = 86.62
ORBITAL_SEMIMAJOR_AXIS = 8612.63
PERIAPSIS_ALTITUDE = 287.43
PERIAPSIS_ARGUMENT_ANGLE = 204.32
PERIAPSIS_TIME = 2006-04-21T23:54:08.000Z
SPACECRAFT_ORIENTATION = (0.0,-1.0,0.0)
^MEX_ORIENTATION_DESC = "MEX_ORIENTATION_DESC.TXT"
SPACECRAFT_POINTING_MODE = NADIR
^MEX_POINTING_DESC = "MEX_POINTING_DESC.TXT"
RIGHT_ASCENSION = -1e+32
DECLINATION = -1e+32
OFFSET_ANGLE = -1e+32
SPACECRAFT_SOLAR_DISTANCE = 2.46131e+08
TARGET_NAME = MARS
/* CAMERA DATA ELEMENTS */
DETECTOR_TEMPERATURE = 18.1666
FOCAL_PLANE_TEMPERATURE = 7.9716
INST_CMPRS_NAME = "DISCRETE COSINE TRANSFORMATION (DCT)"
INST_CMPRS_RATIO = 11.4238
INST_CMPRS_QUALITY = 0
INST_CMPRS_QUANTZ_TBL_ID = 0
INSTRUMENT_TEMPERATURE = 11.0301
LENS_TEMPERATURE = 8.3794
MACROPIXEL_SIZE = 4
MISSING_FRAMES = 1
PIXEL_SUBSAMPLING_FLAG = N
SIGNAL_CHAIN_ID = 2
/* RADIOMETRIC DATA ELEMENTS */
BANDWIDTH = 76.0
CENTER_FILTER_WAVELENGTH = 444.0
RADIANCE_OFFSET = 0.259479
RADIANCE_SCALING_FACTOR = 0.00116527
REFLECTANCE_SCALING_FACTOR = 7.25292e-05
MEX:REFLECTANCE_OFFSET = 0.0161505
/* IMAGE OBJECT DEFINITIONS */
OBJECT = IMAGE
  INTERCHANGE_FORMAT = BINARY
  LINES = 8728
  LINE_SAMPLES = 2291
  SAMPLE_TYPE = UNSIGNED_INTEGER
  SAMPLE_BITS = 8
  BANDS = 1
  BAND_STORAGE_TYPE = BAND_SEQUENTIAL
  MAXIMUM = 255
  MEAN = 101.524
  MINIMUM = 1
  STANDARD_DEVIATION = 25.8068
END_OBJECT = IMAGE
/* MAP OBJECT DEFINITIONS */
OBJECT = IMAGE_MAP_PROJECTION
  ^DATA_SET_MAP_PROJECTION_CATALOG= "DSMAP.CAT"
  A_AXIS_RADIUS = 3396.0
  B_AXIS_RADIUS = 3396.0
  C_AXIS_RADIUS = 3396.0
  CENTER_LATITUDE = 0.0
  CENTER_LONGITUDE = 84.0
  COORDINATE_SYSTEM_NAME = PLANETOGRAPHIC
  COORDINATE_SYSTEM_TYPE = "BODY-FIXED ROTATING"
  EASTERNMOST_LONGITUDE = 86.67919999999999
  FIRST_STANDARD_PARALLEL = "N/A"
  LINE_FIRST_PIXEL = 1
  LINE_LAST_PIXEL = 8728
  LINE_PROJECTION_OFFSET = 20864.875
  MAP_PROJECTION_ROTATION = 0.0
  MAP_PROJECTION_TYPE = SINUSOIDAL
  MAP_RESOLUTION = 592.713803866667
  MAP_SCALE = 0.1
  MAXIMUM_LATITUDE = 35.1933
  MINIMUM_LATITUDE = 20.4827
  POSITIVE_LONGITUDE_DIRECTION = EAST
  REFERENCE_LATITUDE = "N/A"
  REFERENCE_LONGITUDE = "N/A"
  SAMPLE_FIRST_PIXEL = 1
  SAMPLE_LAST_PIXEL = 2291
  SAMPLE_PROJECTION_OFFSET = 945.875
  SECOND_STANDARD_PARALLEL = "N/A"
  WESTERNMOST_LONGITUDE = 82.1734
END_OBJECT = IMAGE_MAP_PROJECTION
/* The JPEG2000 image data file associated with this label. */
OBJECT = COMPRESSED_FILE
  FILE_NAME = "H2926_0000_BL3.JP2"
  RECORD_TYPE = UNDEFINED
  FILE_RECORDS = UNK
  ENCODING_TYPE = "JP2"
  INTERCHANGE_FORMAT = BINARY
  UNCOMPRESSED_FILE_NAME = "H2926_0000_BL3.IMG"
  REQUIRED_STORAGE_BYTES = "20018758"
  ^DESCRIPTION = "JP2INFO.TXT"
END_OBJECT = COMPRESSED_FILE
END
