PDS_VERSION_ID = PDS3
/* FILE DATA ELEMENTS */
RECORD_TYPE = STREAM
/* POINTERS TO DATA OBJECTS */
^COMPRESSED_FILE = "H2932_0000_ND3.JP2"
/* IDENTIFICATION DATA ELEMENTS */
DATA_SET_ID = "MEX-M-HRSC-5-REFDR-MAPPROJECTED-V3.0"
DATA_SET_NAME = "MARS EXPRESS HRSC MAP PROJECTED REFDR V3.0"
DETECTOR_ID = MEX_HRSC_NADIR
EVENT_TYPE = "MARS-REGIONAL-MAPPING-Vo-Te-Mw"
INSTRUMENT_HOST_ID = MEX
INSTRUMENT_HOST_NAME = "MARS EXPRESS"
INSTRUMENT_ID = HRSC
INSTRUMENT_NAME = "HIGH RESOLUTION STEREO CAMERA"
MISSION_NAME = "MARS EXPRESS"
MISSION_PHASE_NAME = ME_Phase_2
PROCESSING_LEVEL_ID = 3
PRODUCT_CREATION_TIME = 2016-04-08T13:52:43.000Z
PRODUCT_ID = "H2932_0000_ND3.JP2"
RELEASE_ID = 0036
REVISION_ID = 0000
/* QUALITY DATA ELEMENTS */
DATA_QUALITY_ID = 1
DATA_QUALITY_DESC = "Data calculated based on original SPICE kernels"
/* TIME DATA ELEMENTS */
SPACECRAFT_CLOCK_START_COUNT = "1/0093887382.09416"
SPACECRAFT_CLOCK_STOP_COUNT = "1/0093888013.26601"
START_TIME = 2006-04-23T15:53:54.020Z
STOP_TIME = 2006-04-23T15:58:50.007Z
/* ORBITAL DATA ELEMENTS */
ASCENDING_NODE_LONGITUDE = 166.75
MAXIMUM_RESOLUTION = 34.7
FOOTPRINT_POINT_LATITUDE = (41.4782,41.4819,41.4832,41.4816, 41.4781,41.4728,41.4658,41.4569,41.4461 ,41.4335,41.419,41.4025,41.3883,40.8955 ,40.3989,39.8986,39.3945,38.8866, 38.3748,37.8592,37.3397,36.8164,36.2891 ,36.0241,35.758,35.4909,35.2229,34.9539 ,34.6839,34.4129,34.1409,33.8679,33.594 ,33.319,33.043,32.7661,32.4881,32.2091, 31.9292,31.6482,31.3662,31.0833,30.7993 ,30.5143,30.2283,29.9413,29.6532, 29.3642,29.0741,28.783,28.4909,28.1978, 27.908,27.9126,27.9177,27.9198,27.9205, 27.9192,27.9167,28.2099,28.5038,28.7968 ,29.0888,29.3799,29.6699,29.959,30.2471 ,30.5342,30.8203,31.1056,31.3897, 31.6729,31.955,32.2363,32.5165,32.7958, 33.0742,33.3516,33.628,33.9034,34.1779, 34.4514,34.7239,34.9955,35.2661,35.5358 ,35.8045,36.0723,36.3391,36.605,36.8699 ,37.3971,37.9205,38.4402,38.9561, 39.4685,39.9772,40.4823,40.9838, 41.4782)
FOOTPRINT_POINT_LONGITUDE = (216.316,215.803,215.004,214.547, 214.088,213.628,213.168,212.707,212.245 ,211.781,211.315,210.847,210.41,210.486 ,210.559,210.631,210.702,210.77,210.837 ,210.903,210.966,211.029,211.089, 211.119,211.149,211.178,211.207,211.235 ,211.264,211.291,211.319,211.346, 211.372,211.399,211.425,211.451,211.477 ,211.502,211.526,211.551,211.575, 211.599,211.623,211.646,211.669,211.691 ,211.714,211.736,211.758,211.78,211.802 ,211.823,212.088,212.469,213.091, 213.534,213.976,214.583,215.019,215.321 ,215.338,215.356,215.374,215.393, 215.411,215.43,215.448,215.467,215.486, 215.505,215.524,215.543,215.562,215.581 ,215.601,215.621,215.641,215.661, 215.681,215.701,215.721,215.741,215.761 ,215.782,215.803,215.823,215.844, 215.865,215.886,215.908,215.929,215.972 ,216.016,216.06,216.104,216.15,216.195, 216.242,216.288,216.316)
ORBIT_NUMBER = 2932
ORBITAL_ECCENTRICITY = 0.572
ORBITAL_INCLINATION = 86.61
ORBITAL_SEMIMAJOR_AXIS = 8611.01
PERIAPSIS_ALTITUDE = 288.19
PERIAPSIS_ARGUMENT_ANGLE = 203.25
PERIAPSIS_TIME = 2006-04-23T16:12:57.000Z
SPACECRAFT_ORIENTATION = (0.0,-1.0,0.0)
^MEX_ORIENTATION_DESC = "MEX_ORIENTATION_DESC.TXT"
SPACECRAFT_POINTING_MODE = ACROSSTRACK
^MEX_POINTING_DESC = "MEX_POINTING_DESC.TXT"
RIGHT_ASCENSION = -1e+32
DECLINATION = -1e+32
OFFSET_ANGLE = -1.0
SPACECRAFT_SOLAR_DISTANCE = 2.46287e+08
TARGET_NAME = MARS
/* CAMERA DATA ELEMENTS */
DETECTOR_TEMPERATURE = 18.7783
FOCAL_PLANE_TEMPERATURE = 7.5638
INST_CMPRS_NAME = "DISCRETE COSINE TRANSFORMATION (DCT)"
INST_CMPRS_RATIO = 7.72605
INST_CMPRS_QUALITY = 0
INST_CMPRS_QUANTZ_TBL_ID = 0
INSTRUMENT_TEMPERATURE = 11.0301
LENS_TEMPERATURE = 8.1755
MACROPIXEL_SIZE = 1
MISSING_FRAMES = 0
PIXEL_SUBSAMPLING_FLAG = N
SIGNAL_CHAIN_ID = 0
/* RADIOMETRIC DATA ELEMENTS */
BANDWIDTH = 177.0
CENTER_FILTER_WAVELENGTH = 677.5
RADIANCE_OFFSET = 1.81739
RADIANCE_SCALING_FACTOR = 0.0128286
REFLECTANCE_SCALING_FACTOR = 0.000413371
MEX:REFLECTANCE_OFFSET = 0.0585609
/* IMAGE OBJECT DEFINITIONS */
OBJECT = IMAGE
  INTERCHANGE_FORMAT = BINARY
  LINES = 32211
  LINE_SAMPLES = 10568
  SAMPLE_TYPE = UNSIGNED_INTEGER
  SAMPLE_BITS = 8
  BANDS = 1
  BAND_STORAGE_TYPE = BAND_SEQUENTIAL
  MAXIMUM = 255
  MEAN = 113.329
  MINIMUM = 1
  STANDARD_DEVIATION = 22.6824
END_OBJECT = IMAGE
/* MAP OBJECT DEFINITIONS */
OBJECT = IMAGE_MAP_PROJECTION
  ^DATA_SET_MAP_PROJECTION_CATALOG= "DSMAP.CAT"
  A_AXIS_RADIUS = 3396.0
  B_AXIS_RADIUS = 3396.0
  C_AXIS_RADIUS = 3396.0
  CENTER_LATITUDE = 0.0
  CENTER_LONGITUDE = 214.0
  COORDINATE_SYSTEM_NAME = PLANETOGRAPHIC
  COORDINATE_SYSTEM_TYPE = "BODY-FIXED ROTATING"
  EASTERNMOST_LONGITUDE = 216.316
  FIRST_STANDARD_PARALLEL = "N/A"
  LINE_FIRST_PIXEL = 1
  LINE_LAST_PIXEL = 32211
  LINE_PROJECTION_OFFSET = 98364.0
  MAP_PROJECTION_ROTATION = 0.0
  MAP_PROJECTION_TYPE = SINUSOIDAL
  MAP_RESOLUTION = 2370.85521546667
  MAP_SCALE = 0.025
  MAXIMUM_LATITUDE = 41.4832
  MINIMUM_LATITUDE = 27.908
  POSITIVE_LONGITUDE_DIRECTION = EAST
  REFERENCE_LATITUDE = "N/A"
  REFERENCE_LONGITUDE = "N/A"
  SAMPLE_FIRST_PIXEL = 1
  SAMPLE_LAST_PIXEL = 10568
  SAMPLE_PROJECTION_OFFSET = 6401.0
  SECOND_STANDARD_PARALLEL = "N/A"
  WESTERNMOST_LONGITUDE = 210.41
END_OBJECT = IMAGE_MAP_PROJECTION
/* The JPEG2000 image data file associated with this label. */
OBJECT = COMPRESSED_FILE
  FILE_NAME = "H2932_0000_ND3.JP2"
  RECORD_TYPE = UNDEFINED
  FILE_RECORDS = UNK
  ENCODING_TYPE = "JP2"
  INTERCHANGE_FORMAT = BINARY
  UNCOMPRESSED_FILE_NAME = "H2932_0000_ND3.IMG"
  REQUIRED_STORAGE_BYTES = "340437552"
  ^DESCRIPTION = "JP2INFO.TXT"
END_OBJECT = COMPRESSED_FILE
END
