PDS_VERSION_ID = PDS3
/* FILE DATA ELEMENTS */
RECORD_TYPE = STREAM
/* POINTERS TO DATA OBJECTS */
^COMPRESSED_FILE = "H2938_0000_BL3.JP2"
/* IDENTIFICATION DATA ELEMENTS */
DATA_SET_ID = "MEX-M-HRSC-5-REFDR-MAPPROJECTED-V3.0"
DATA_SET_NAME = "MARS EXPRESS HRSC MAP PROJECTED REFDR V3.0"
DETECTOR_ID = MEX_HRSC_BLUE
EVENT_TYPE = "MARS-REGIONAL-MAPPING-Te-Im-Fl"
INSTRUMENT_HOST_ID = MEX
INSTRUMENT_HOST_NAME = "MARS EXPRESS"
INSTRUMENT_ID = HRSC
INSTRUMENT_NAME = "HIGH RESOLUTION STEREO CAMERA"
MISSION_NAME = "MARS EXPRESS"
MISSION_PHASE_NAME = ME_Phase_2
PROCESSING_LEVEL_ID = 3
PRODUCT_CREATION_TIME = 2016-04-08T13:52:43.000Z
PRODUCT_ID = "H2938_0000_BL3.JP2"
RELEASE_ID = 0036
REVISION_ID = 0000
/* QUALITY DATA ELEMENTS */
DATA_QUALITY_ID = 2
DATA_QUALITY_DESC = "Data calculated based on photogrammetrically improved orbit and attitude data"
/* TIME DATA ELEMENTS */
SPACECRAFT_CLOCK_START_COUNT = "1/0094032700.08251"
SPACECRAFT_CLOCK_STOP_COUNT = "1/0094033258.44554"
START_TIME = 2006-04-25T08:15:16.999Z
STOP_TIME = 2006-04-25T08:20:05.578Z
/* ORBITAL DATA ELEMENTS */
ASCENDING_NODE_LONGITUDE = 166.62
MAXIMUM_RESOLUTION = 113.1
FOOTPRINT_POINT_LATITUDE = (37.0376,37.0418,37.0459,37.0481,37.05, 37.048,37.0425,37.0384,37.0429,36.7025, 36.364,36.0279,35.6943,35.3627,35.0338, 34.7075,34.3829,34.0607,33.741,33.4234, 33.1076,32.7944,32.4835,32.1744,31.8673 ,31.5622,31.26,30.9595,30.6607,30.3627, 30.068,29.7752,29.4836,29.1948,28.9076, 28.6222,28.3386,28.0566,27.7769,27.4991 ,27.2226,26.9476,26.6749,26.1337, 25.5997,25.0721,24.551,24.0374,23.5277, 23.1503,22.6521,22.3761,22.3762,22.375, 22.37,22.3662,22.3631,22.3601,22.8548, 23.4821,23.9906,24.3756,24.8948,25.5532 ,26.0868,26.6275,26.9004,27.1754, 27.4517,27.7293,28.0092,28.2913,28.5749 ,28.8602,29.1474,29.4368,29.7281, 30.0212,30.3162,30.6136,31.0639,31.3668 ,31.6687,31.9746,32.2829,32.5937, 32.9064,33.2207,33.5377,33.8568,34.1782 ,34.5022,34.8279,35.3228,35.6536, 35.9883,36.3253,36.6645,37.006,37.0376)
FOOTPRINT_POINT_LONGITUDE = (347.002,346.661,346.235,345.894, 345.128,344.447,343.766,343.424,342.826 ,342.858,342.89,342.92,342.949,342.978, 343.006,343.033,343.059,343.085,343.11, 343.134,343.158,343.181,343.204,343.226 ,343.247,343.269,343.289,343.308, 343.328,343.349,343.367,343.384,343.403 ,343.42,343.437,343.454,343.47,343.486, 343.501,343.516,343.531,343.545,343.559 ,343.587,343.614,343.638,343.663, 343.684,343.708,343.723,343.744,343.975 ,344.446,344.743,345.337,345.733,346.03 ,346.41,346.437,346.473,346.502,346.524 ,346.555,346.595,346.628,346.662,346.68 ,346.698,346.716,346.734,346.752, 346.771,346.79,346.81,346.83,346.85, 346.871,346.892,346.913,346.935,346.97, 346.994,347.013,347.036,347.059,347.084 ,347.109,347.134,347.159,347.185, 347.211,347.239,347.265,347.31,347.337, 347.366,347.396,347.427,347.458, 347.002)
ORBIT_NUMBER = 2938
ORBITAL_ECCENTRICITY = 0.572
ORBITAL_INCLINATION = 86.62
ORBITAL_SEMIMAJOR_AXIS = 8608.89
PERIAPSIS_ALTITUDE = 288.97
PERIAPSIS_ARGUMENT_ANGLE = 202.18
PERIAPSIS_TIME = 2006-04-25T08:31:54.000Z
SPACECRAFT_ORIENTATION = (0.0,-1.0,0.0)
^MEX_ORIENTATION_DESC = "MEX_ORIENTATION_DESC.TXT"
SPACECRAFT_POINTING_MODE = NADIR
^MEX_POINTING_DESC = "MEX_POINTING_DESC.TXT"
RIGHT_ASCENSION = -1e+32
DECLINATION = -1e+32
OFFSET_ANGLE = -1e+32
SPACECRAFT_SOLAR_DISTANCE = 2.46439e+08
TARGET_NAME = MARS
/* CAMERA DATA ELEMENTS */
DETECTOR_TEMPERATURE = 18.3705
FOCAL_PLANE_TEMPERATURE = 8.5833
INST_CMPRS_NAME = "DISCRETE COSINE TRANSFORMATION (DCT)"
INST_CMPRS_RATIO = 12.8031
INST_CMPRS_QUALITY = 0
INST_CMPRS_QUANTZ_TBL_ID = 0
INSTRUMENT_TEMPERATURE = 11.0301
LENS_TEMPERATURE = 8.9911
MACROPIXEL_SIZE = 4
MISSING_FRAMES = 0
PIXEL_SUBSAMPLING_FLAG = N
SIGNAL_CHAIN_ID = 2
/* RADIOMETRIC DATA ELEMENTS */
BANDWIDTH = 76.0
CENTER_FILTER_WAVELENGTH = 444.0
RADIANCE_OFFSET = 0.331902
RADIANCE_SCALING_FACTOR = 0.00105067
REFLECTANCE_SCALING_FACTOR = 6.55596e-05
MEX:REFLECTANCE_OFFSET = 0.02071
/* IMAGE OBJECT DEFINITIONS */
OBJECT = IMAGE
  INTERCHANGE_FORMAT = BINARY
  LINES = 8727
  LINE_SAMPLES = 2293
  SAMPLE_TYPE = UNSIGNED_INTEGER
  SAMPLE_BITS = 8
  BANDS = 1
  BAND_STORAGE_TYPE = BAND_SEQUENTIAL
  MAXIMUM = 255
  MEAN = 114.344
  MINIMUM = 1
  STANDARD_DEVIATION = 29.5129
END_OBJECT = IMAGE
/* MAP OBJECT DEFINITIONS */
OBJECT = IMAGE_MAP_PROJECTION
  ^DATA_SET_MAP_PROJECTION_CATALOG= "DSMAP.CAT"
  A_AXIS_RADIUS = 3396.0
  B_AXIS_RADIUS = 3396.0
  C_AXIS_RADIUS = 3396.0
  CENTER_LATITUDE = 0.0
  CENTER_LONGITUDE = 345.0
  COORDINATE_SYSTEM_NAME = PLANETOGRAPHIC
  COORDINATE_SYSTEM_TYPE = "BODY-FIXED ROTATING"
  EASTERNMOST_LONGITUDE = 347.458
  FIRST_STANDARD_PARALLEL = "N/A"
  LINE_FIRST_PIXEL = 1
  LINE_LAST_PIXEL = 8727
  LINE_PROJECTION_OFFSET = 21975.875
  MAP_PROJECTION_ROTATION = 0.0
  MAP_PROJECTION_TYPE = SINUSOIDAL
  MAP_RESOLUTION = 592.713803866667
  MAP_SCALE = 0.1
  MAXIMUM_LATITUDE = 37.05
  MINIMUM_LATITUDE = 22.3601
  POSITIVE_LONGITUDE_DIRECTION = EAST
  REFERENCE_LATITUDE = "N/A"
  REFERENCE_LONGITUDE = "N/A"
  SAMPLE_FIRST_PIXEL = 1
  SAMPLE_LAST_PIXEL = 2293
  SAMPLE_PROJECTION_OFFSET = 1085.125
  SECOND_STANDARD_PARALLEL = "N/A"
  WESTERNMOST_LONGITUDE = 342.826
END_OBJECT = IMAGE_MAP_PROJECTION
/* The JPEG2000 image data file associated with this label. */
OBJECT = COMPRESSED_FILE
  FILE_NAME = "H2938_0000_BL3.JP2"
  RECORD_TYPE = UNDEFINED
  FILE_RECORDS = UNK
  ENCODING_TYPE = "JP2"
  INTERCHANGE_FORMAT = BINARY
  UNCOMPRESSED_FILE_NAME = "H2938_0000_BL3.IMG"
  REQUIRED_STORAGE_BYTES = "20033941"
  ^DESCRIPTION = "JP2INFO.TXT"
END_OBJECT = COMPRESSED_FILE
END
