PDS_VERSION_ID = PDS3
/* FILE DATA ELEMENTS */
RECORD_TYPE = STREAM
/* POINTERS TO DATA OBJECTS */
^COMPRESSED_FILE = "H2939_0000_P23.JP2"
/* IDENTIFICATION DATA ELEMENTS */
DATA_SET_ID = "MEX-M-HRSC-5-REFDR-MAPPROJECTED-V3.0"
DATA_SET_NAME = "MARS EXPRESS HRSC MAP PROJECTED REFDR V3.0"
DETECTOR_ID = MEX_HRSC_P2
EVENT_TYPE = "MARS-REGIONAL-MAPPING-Vo-Te-Eo"
INSTRUMENT_HOST_ID = MEX
INSTRUMENT_HOST_NAME = "MARS EXPRESS"
INSTRUMENT_ID = HRSC
INSTRUMENT_NAME = "HIGH RESOLUTION STEREO CAMERA"
MISSION_NAME = "MARS EXPRESS"
MISSION_PHASE_NAME = ME_Phase_2
PROCESSING_LEVEL_ID = 3
PRODUCT_CREATION_TIME = 2016-04-08T13:52:43.000Z
PRODUCT_ID = "H2939_0000_P23.JP2"
RELEASE_ID = 0036
REVISION_ID = 0000
/* QUALITY DATA ELEMENTS */
DATA_QUALITY_ID = 2
DATA_QUALITY_DESC = "Data calculated based on photogrammetrically improved orbit and attitude data"
/* TIME DATA ELEMENTS */
SPACECRAFT_CLOCK_START_COUNT = "1/0094056920.08255"
SPACECRAFT_CLOCK_STOP_COUNT = "1/0094057448.46684"
START_TIME = 2006-04-25T14:59:43.799Z
STOP_TIME = 2006-04-25T15:03:49.967Z
/* ORBITAL DATA ELEMENTS */
ASCENDING_NODE_LONGITUDE = 166.6
MAXIMUM_RESOLUTION = 54.8
FOOTPRINT_POINT_LATITUDE = (36.2002,36.2054,36.208,36.2112,36.2124 ,36.2131,36.2133,36.2128,36.2118, 36.2104,36.2084,36.052,35.7346,35.4193, 35.106,34.7941,34.4856,34.1788,33.8743, 33.5713,33.2701,32.9711,32.6744,32.379, 32.0861,31.7952,31.3615,31.0746,30.7897 ,30.5063,30.2254,29.9467,29.669,29.393, 29.1194,28.8468,28.576,28.308,27.9077, 27.6424,27.3792,27.1176,26.8574,26.5997 ,26.2152,25.7076,25.2058,24.8338, 24.4661,23.8584,23.3786,22.9043,22.4782 ,22.476,22.4736,22.4715,22.4677,22.4637 ,22.4612,22.9304,23.4053,23.8855, 24.3706,24.7381,25.2344,25.8636,26.3723 ,26.6295,26.8875,27.1472,27.4091, 27.8046,28.0705,28.4701,28.7415,29.0143 ,29.2868,29.5617,29.8401,30.1191, 30.4014,30.6851,30.9694,31.2557,31.5441 ,31.8345,32.1266,32.42,32.7157,33.0134, 33.313,33.6152,33.9192,34.2247,34.5327, 34.8426,35.1552,35.4693,35.7854, 36.2002)
FOOTPRINT_POINT_LONGITUDE = (248.925,248.402,248.082,247.521,247.2, 246.88,246.559,246.119,245.799,245.478, 245.156,244.79,244.815,244.839,244.863, 244.886,244.909,244.931,244.952,244.973 ,244.994,245.014,245.033,245.052, 245.071,245.089,245.116,245.133,245.15, 245.167,245.183,245.198,245.214,245.229 ,245.244,245.258,245.272,245.286, 245.306,245.319,245.332,245.345,245.357 ,245.369,245.387,245.409,245.431, 245.446,245.461,245.486,245.504,245.522 ,245.61,246.001,246.391,246.683,247.218 ,247.681,248.055,248.079,248.103, 248.128,248.154,248.174,248.201,248.237 ,248.265,248.28,248.295,248.31,248.325, 248.348,248.365,248.388,248.405,248.422 ,248.439,248.456,248.475,248.493, 248.512,248.531,248.55,248.569,248.588, 248.608,248.628,248.648,248.669,248.69, 248.711,248.733,248.755,248.777,248.8, 248.823,248.847,248.871,248.895, 248.925)
ORBIT_NUMBER = 2939
ORBITAL_ECCENTRICITY = 0.573
ORBITAL_INCLINATION = 86.61
ORBITAL_SEMIMAJOR_AXIS = 8620.59
PERIAPSIS_ALTITUDE = 288.05
PERIAPSIS_ARGUMENT_ANGLE = 202.04
PERIAPSIS_TIME = 2006-04-25T15:15:03.000Z
SPACECRAFT_ORIENTATION = (0.0,-1.0,0.0)
^MEX_ORIENTATION_DESC = "MEX_ORIENTATION_DESC.TXT"
SPACECRAFT_POINTING_MODE = NADIR
^MEX_POINTING_DESC = "MEX_POINTING_DESC.TXT"
RIGHT_ASCENSION = -1e+32
DECLINATION = -1e+32
OFFSET_ANGLE = -1e+32
SPACECRAFT_SOLAR_DISTANCE = 2.46464e+08
TARGET_NAME = MARS
/* CAMERA DATA ELEMENTS */
DETECTOR_TEMPERATURE = 18.7783
FOCAL_PLANE_TEMPERATURE = 8.1755
INST_CMPRS_NAME = "DISCRETE COSINE TRANSFORMATION (DCT)"
INST_CMPRS_RATIO = 5.8435
INST_CMPRS_QUALITY = 0
INST_CMPRS_QUANTZ_TBL_ID = 0
INSTRUMENT_TEMPERATURE = 11.234
LENS_TEMPERATURE = 8.3794
MACROPIXEL_SIZE = 2
MISSING_FRAMES = 0
PIXEL_SUBSAMPLING_FLAG = N
SIGNAL_CHAIN_ID = 3
/* RADIOMETRIC DATA ELEMENTS */
BANDWIDTH = 177.0
CENTER_FILTER_WAVELENGTH = 676.5
RADIANCE_OFFSET = 1.67197
RADIANCE_SCALING_FACTOR = 0.0173853
REFLECTANCE_SCALING_FACTOR = 0.00055994
MEX:REFLECTANCE_OFFSET = 0.0538502
/* IMAGE OBJECT DEFINITIONS */
OBJECT = IMAGE
  INTERCHANGE_FORMAT = BINARY
  LINES = 16341
  LINE_SAMPLES = 4444
  SAMPLE_TYPE = UNSIGNED_INTEGER
  SAMPLE_BITS = 8
  BANDS = 1
  BAND_STORAGE_TYPE = BAND_SEQUENTIAL
  MAXIMUM = 255
  MEAN = 88.722
  MINIMUM = 1
  STANDARD_DEVIATION = 18.8296
END_OBJECT = IMAGE
/* MAP OBJECT DEFINITIONS */
OBJECT = IMAGE_MAP_PROJECTION
  ^DATA_SET_MAP_PROJECTION_CATALOG= "DSMAP.CAT"
  A_AXIS_RADIUS = 3396.0
  B_AXIS_RADIUS = 3396.0
  C_AXIS_RADIUS = 3396.0
  CENTER_LATITUDE = 0.0
  CENTER_LONGITUDE = 247.0
  COORDINATE_SYSTEM_NAME = PLANETOGRAPHIC
  COORDINATE_SYSTEM_TYPE = "BODY-FIXED ROTATING"
  EASTERNMOST_LONGITUDE = 248.925
  FIRST_STANDARD_PARALLEL = "N/A"
  LINE_FIRST_PIXEL = 1
  LINE_LAST_PIXEL = 16341
  LINE_PROJECTION_OFFSET = 42976.25
  MAP_PROJECTION_ROTATION = 0.0
  MAP_PROJECTION_TYPE = SINUSOIDAL
  MAP_RESOLUTION = 1185.42760773333
  MAP_SCALE = 0.05
  MAXIMUM_LATITUDE = 36.2133
  MINIMUM_LATITUDE = 22.4612
  POSITIVE_LONGITUDE_DIRECTION = EAST
  REFERENCE_LATITUDE = "N/A"
  REFERENCE_LONGITUDE = "N/A"
  SAMPLE_FIRST_PIXEL = 1
  SAMPLE_LAST_PIXEL = 4444
  SAMPLE_PROJECTION_OFFSET = 2375.25
  SECOND_STANDARD_PARALLEL = "N/A"
  WESTERNMOST_LONGITUDE = 244.79
END_OBJECT = IMAGE_MAP_PROJECTION
/* The JPEG2000 image data file associated with this label. */
OBJECT = COMPRESSED_FILE
  FILE_NAME = "H2939_0000_P23.JP2"
  RECORD_TYPE = UNDEFINED
  FILE_RECORDS = UNK
  ENCODING_TYPE = "JP2"
  INTERCHANGE_FORMAT = BINARY
  UNCOMPRESSED_FILE_NAME = "H2939_0000_P23.IMG"
  REQUIRED_STORAGE_BYTES = "72646068"
  ^DESCRIPTION = "JP2INFO.TXT"
END_OBJECT = COMPRESSED_FILE
END
