PDS_VERSION_ID = PDS3
/* FILE DATA ELEMENTS */
RECORD_TYPE = STREAM
/* POINTERS TO DATA OBJECTS */
^COMPRESSED_FILE = "H2941_0000_P23.JP2"
/* IDENTIFICATION DATA ELEMENTS */
DATA_SET_ID = "MEX-M-HRSC-5-REFDR-MAPPROJECTED-V3.0"
DATA_SET_NAME = "MARS EXPRESS HRSC MAP PROJECTED REFDR V3.0"
DETECTOR_ID = MEX_HRSC_P2
EVENT_TYPE = "MARS-REGIONAL-MAPPING-Im"
INSTRUMENT_HOST_ID = MEX
INSTRUMENT_HOST_NAME = "MARS EXPRESS"
INSTRUMENT_ID = HRSC
INSTRUMENT_NAME = "HIGH RESOLUTION STEREO CAMERA"
MISSION_NAME = "MARS EXPRESS"
MISSION_PHASE_NAME = ME_Phase_2
PROCESSING_LEVEL_ID = 3
PRODUCT_CREATION_TIME = 2016-04-08T13:52:43.000Z
PRODUCT_ID = "H2941_0000_P23.JP2"
RELEASE_ID = 0036
REVISION_ID = 0000
/* QUALITY DATA ELEMENTS */
DATA_QUALITY_ID = 2
DATA_QUALITY_DESC = "Data calculated based on photogrammetrically improved orbit and attitude data"
/* TIME DATA ELEMENTS */
SPACECRAFT_CLOCK_START_COUNT = "1/0094105210.09043"
SPACECRAFT_CLOCK_STOP_COUNT = "1/0094105817.55136"
START_TIME = 2006-04-26T04:25:09.155Z
STOP_TIME = 2006-04-26T04:29:58.981Z
/* ORBITAL DATA ELEMENTS */
ASCENDING_NODE_LONGITUDE = 166.56
MAXIMUM_RESOLUTION = 55.7
FOOTPRINT_POINT_LATITUDE = (39.2719,39.2776,39.2786,39.2771,39.273 ,39.299,38.9236,38.5464,38.1708,37.7982 ,37.4291,37.0628,36.6996,36.3394, 35.9835,35.6281,35.2767,34.9279,34.5817 ,34.2394,33.8976,33.5635,33.2256, 32.8919,32.5625,32.0712,31.7466,31.4237 ,31.1032,30.7848,30.4689,30.1556, 29.8449,29.5367,29.2294,28.925,28.6237, 28.1736,27.7278,27.2838,26.9927,26.7022 ,26.415,25.8512,25.5701,25.1514,24.461, 23.9169,23.3748,23.3376,23.3363,23.3353 ,23.3335,23.3298,23.4606,23.9978, 24.5415,25.0924,25.3722,25.6532,25.9356 ,26.2211,26.5075,26.9417,27.2321, 27.5249,27.8207,28.2684,28.5686,28.8707 ,29.1757,29.4824,29.7905,30.1011,30.415 ,30.7308,31.0483,31.3672,31.6925, 32.0188,32.3463,32.8367,33.1697,33.5111 ,33.8449,34.1871,34.5301,34.8762,35.226 ,35.5782,35.9333,36.2913,36.6518,37.015 ,37.3805,37.7514,38.1238,38.6884, 39.0658,39.2719)
FOOTPRINT_POINT_LONGITUDE = (52.0343,51.0493,50.3331,49.6623, 48.9462,47.9661,48.0027,48.0388,48.0738 ,48.1078,48.1406,48.1724,48.203,48.2327 ,48.2607,48.2892,48.3161,48.3422, 48.3678,48.392,48.4164,48.4376,48.4616, 48.484,48.5049,48.5359,48.5561,48.5761, 48.5956,48.6145,48.6328,48.6506,48.6679 ,48.6847,48.7015,48.7175,48.733,48.7561 ,48.7786,48.8016,48.8158,48.8299,48.843 ,48.8658,48.878,48.8959,48.9257,48.9482 ,48.972,49.4232,49.7727,50.1468,50.6715 ,51.2465,51.563,51.5912,51.6202,51.6499 ,51.6659,51.6816,51.6975,51.7141, 51.7305,51.7562,51.7732,51.7902,51.808, 51.8355,51.8539,51.8725,51.8916,51.9108 ,51.9302,51.95,51.9704,51.9908,52.0116, 52.0322,52.0554,52.0783,52.1007,52.1322 ,52.1554,52.1825,52.2041,52.2294, 52.2543,52.2799,52.3065,52.3334,52.3611 ,52.3893,52.4178,52.4469,52.4762, 52.5077,52.5389,52.5871,52.6201, 52.0343)
ORBIT_NUMBER = 2941
ORBITAL_ECCENTRICITY = 0.573
ORBITAL_INCLINATION = 86.62
ORBITAL_SEMIMAJOR_AXIS = 8615.56
PERIAPSIS_ALTITUDE = 287.9
PERIAPSIS_ARGUMENT_ANGLE = 201.69
PERIAPSIS_TIME = 2006-04-26T04:41:21.000Z
SPACECRAFT_ORIENTATION = (0.0,-1.0,0.0)
^MEX_ORIENTATION_DESC = "MEX_ORIENTATION_DESC.TXT"
SPACECRAFT_POINTING_MODE = NADIR
^MEX_POINTING_DESC = "MEX_POINTING_DESC.TXT"
RIGHT_ASCENSION = -1e+32
DECLINATION = -1e+32
OFFSET_ANGLE = -1e+32
SPACECRAFT_SOLAR_DISTANCE = 2.46513e+08
TARGET_NAME = MARS
/* CAMERA DATA ELEMENTS */
DETECTOR_TEMPERATURE = 18.5744
FOCAL_PLANE_TEMPERATURE = 7.7677
INST_CMPRS_NAME = "DISCRETE COSINE TRANSFORMATION (DCT)"
INST_CMPRS_RATIO = 5.96209
INST_CMPRS_QUALITY = 0
INST_CMPRS_QUANTZ_TBL_ID = 0
INSTRUMENT_TEMPERATURE = 11.234
LENS_TEMPERATURE = 8.1755
MACROPIXEL_SIZE = 2
MISSING_FRAMES = 0
PIXEL_SUBSAMPLING_FLAG = N
SIGNAL_CHAIN_ID = 3
/* RADIOMETRIC DATA ELEMENTS */
BANDWIDTH = 177.0
CENTER_FILTER_WAVELENGTH = 676.5
RADIANCE_OFFSET = 1.6224
RADIANCE_SCALING_FACTOR = 0.0186406
REFLECTANCE_SCALING_FACTOR = 0.000600611
MEX:REFLECTANCE_OFFSET = 0.0522747
/* IMAGE OBJECT DEFINITIONS */
OBJECT = IMAGE
  INTERCHANGE_FORMAT = BINARY
  LINES = 18954
  LINE_SAMPLES = 4773
  SAMPLE_TYPE = UNSIGNED_INTEGER
  SAMPLE_BITS = 8
  BANDS = 1
  BAND_STORAGE_TYPE = BAND_SEQUENTIAL
  MAXIMUM = 255
  MEAN = 83.3788
  MINIMUM = 1
  STANDARD_DEVIATION = 23.2455
END_OBJECT = IMAGE
/* MAP OBJECT DEFINITIONS */
OBJECT = IMAGE_MAP_PROJECTION
  ^DATA_SET_MAP_PROJECTION_CATALOG= "DSMAP.CAT"
  A_AXIS_RADIUS = 3396.0
  B_AXIS_RADIUS = 3396.0
  C_AXIS_RADIUS = 3396.0
  CENTER_LATITUDE = 0.0
  CENTER_LONGITUDE = 50.0
  COORDINATE_SYSTEM_NAME = PLANETOGRAPHIC
  COORDINATE_SYSTEM_TYPE = "BODY-FIXED ROTATING"
  EASTERNMOST_LONGITUDE = 52.6201
  FIRST_STANDARD_PARALLEL = "N/A"
  LINE_FIRST_PIXEL = 1
  LINE_LAST_PIXEL = 18954
  LINE_PROJECTION_OFFSET = 46612.25
  MAP_PROJECTION_ROTATION = 0.0
  MAP_PROJECTION_TYPE = SINUSOIDAL
  MAP_RESOLUTION = 1185.42760773333
  MAP_SCALE = 0.05
  MAXIMUM_LATITUDE = 39.299
  MINIMUM_LATITUDE = 23.3298
  POSITIVE_LONGITUDE_DIRECTION = EAST
  REFERENCE_LATITUDE = "N/A"
  REFERENCE_LONGITUDE = "N/A"
  SAMPLE_FIRST_PIXEL = 1
  SAMPLE_LAST_PIXEL = 4773
  SAMPLE_PROJECTION_OFFSET = 2112.75
  SECOND_STANDARD_PARALLEL = "N/A"
  WESTERNMOST_LONGITUDE = 47.9661
END_OBJECT = IMAGE_MAP_PROJECTION
/* The JPEG2000 image data file associated with this label. */
OBJECT = COMPRESSED_FILE
  FILE_NAME = "H2941_0000_P23.JP2"
  RECORD_TYPE = UNDEFINED
  FILE_RECORDS = UNK
  ENCODING_TYPE = "JP2"
  INTERCHANGE_FORMAT = BINARY
  UNCOMPRESSED_FILE_NAME = "H2941_0000_P23.IMG"
  REQUIRED_STORAGE_BYTES = "90491307"
  ^DESCRIPTION = "JP2INFO.TXT"
END_OBJECT = COMPRESSED_FILE
END
