PDS_VERSION_ID = PDS3
/* FILE DATA ELEMENTS */
RECORD_TYPE = STREAM
/* POINTERS TO DATA OBJECTS */
^COMPRESSED_FILE = "H2942_0001_GR3.JP2"
/* IDENTIFICATION DATA ELEMENTS */
DATA_SET_ID = "MEX-M-HRSC-5-REFDR-MAPPROJECTED-V3.0"
DATA_SET_NAME = "MARS EXPRESS HRSC MAP PROJECTED REFDR V3.0"
DETECTOR_ID = MEX_HRSC_GREEN
EVENT_TYPE = "MARS-REGIONAL-MAPPING-Te-Fl-La"
INSTRUMENT_HOST_ID = MEX
INSTRUMENT_HOST_NAME = "MARS EXPRESS"
INSTRUMENT_ID = HRSC
INSTRUMENT_NAME = "HIGH RESOLUTION STEREO CAMERA"
MISSION_NAME = "MARS EXPRESS"
MISSION_PHASE_NAME = ME_Phase_2
PROCESSING_LEVEL_ID = 3
PRODUCT_CREATION_TIME = 2016-04-08T13:52:43.000Z
PRODUCT_ID = "H2942_0001_GR3.JP2"
RELEASE_ID = 0036
REVISION_ID = 0000
/* QUALITY DATA ELEMENTS */
DATA_QUALITY_ID = 1
DATA_QUALITY_DESC = "Data calculated based on original SPICE kernels"
/* TIME DATA ELEMENTS */
SPACECRAFT_CLOCK_START_COUNT = "1/0094130362.09062"
SPACECRAFT_CLOCK_STOP_COUNT = "1/0094130521.50717"
START_TIME = 2006-04-26T11:19:55.568Z
STOP_TIME = 2006-04-26T11:21:33.371Z
/* ORBITAL DATA ELEMENTS */
ASCENDING_NODE_LONGITUDE = 166.53
MAXIMUM_RESOLUTION = 50.2
FOOTPRINT_POINT_LATITUDE = (-3.77752,-3.77666,-3.77551,-3.77462, -3.77348,-3.77276,-3.77221,-3.90027, -4.02841,-4.15661,-4.28491,-4.41327, -4.54171,-4.67011,-4.86314,-4.99171, -5.1205,-5.24938,-5.37835,-5.50741, -5.6365,-5.76563,-5.89478,-6.02393, -6.15075,-6.27846,-6.40359,-6.52997, -6.65579,-6.78118,-6.90617,-7.03002, -7.15448,-7.2801,-7.40675,-7.53363, -7.66037,-7.78566,-7.90749,-8.0295, -8.15136,-8.27326,-8.45622,-8.57819, -8.81813,-9.00103,-9.18419,-9.30636, -9.42868,-9.55107,-9.73392,-9.97046, -10.0784,-10.0787,-10.0792,-10.0797, -10.08,-10.0803,-9.96141,-9.72494, -9.60292,-9.48058,-9.23664,-9.11413, -8.80991,-8.56951,-8.32595,-8.20411, -8.08227,-7.77774,-7.58939,-7.46381, -7.33806,-7.21231,-7.08707,-6.96162, -6.83616,-6.71053,-6.58405,-6.45736, -6.26979,-6.14466,-5.95195,-5.8227, -5.69376,-5.56486,-5.43599,-5.30719, -5.17853,-5.05021,-4.92188,-4.79369, -4.66535,-4.53713,-4.40894,-4.2167, -4.08872,-3.95886,-3.83037,-3.77752)
FOOTPRINT_POINT_LONGITUDE = (312.287,312.115,311.886,311.714, 311.497,311.359,311.197,311.198,311.199 ,311.2,311.201,311.202,311.203,311.205, 311.206,311.207,311.208,311.209,311.21, 311.211,311.211,311.212,311.213,311.214 ,311.214,311.209,311.211,311.209, 311.209,311.21,311.212,311.216,311.219, 311.22,311.219,311.218,311.217,311.217, 311.218,311.218,311.219,311.219,311.22, 311.221,311.231,311.233,311.234,311.235 ,311.236,311.237,311.238,311.239, 311.342,311.466,311.61,311.837,312.033, 312.208,312.346,312.348,312.349,312.35, 312.354,312.354,312.359,312.369,312.372 ,312.373,312.375,312.377,312.379, 312.381,312.382,312.384,312.386,312.387 ,312.389,312.39,312.389,312.388,312.391 ,312.392,312.391,312.393,312.395, 312.397,312.399,312.401,312.403,312.406 ,312.408,312.411,312.413,312.416, 312.418,312.421,312.424,312.423,312.424 ,312.287)
ORBIT_NUMBER = 2942
ORBITAL_ECCENTRICITY = 0.572
ORBITAL_INCLINATION = 86.63
ORBITAL_SEMIMAJOR_AXIS = 8609.32
PERIAPSIS_ALTITUDE = 288.52
PERIAPSIS_ARGUMENT_ANGLE = 201.5
PERIAPSIS_TIME = 2006-04-26T11:24:30.000Z
SPACECRAFT_ORIENTATION = (0.0,-1.0,0.0)
^MEX_ORIENTATION_DESC = "MEX_ORIENTATION_DESC.TXT"
SPACECRAFT_POINTING_MODE = NADIR
^MEX_POINTING_DESC = "MEX_POINTING_DESC.TXT"
RIGHT_ASCENSION = -1e+32
DECLINATION = -1e+32
OFFSET_ANGLE = -1e+32
SPACECRAFT_SOLAR_DISTANCE = 2.46538e+08
TARGET_NAME = MARS
/* CAMERA DATA ELEMENTS */
DETECTOR_TEMPERATURE = 19.5939
FOCAL_PLANE_TEMPERATURE = 8.3794
INST_CMPRS_NAME = "DISCRETE COSINE TRANSFORMATION (DCT)"
INST_CMPRS_RATIO = 29.7994
INST_CMPRS_QUALITY = 0
INST_CMPRS_QUANTZ_TBL_ID = 0
INSTRUMENT_TEMPERATURE = 13.0691
LENS_TEMPERATURE = 9.8067
MACROPIXEL_SIZE = 4
MISSING_FRAMES = 0
PIXEL_SUBSAMPLING_FLAG = N
SIGNAL_CHAIN_ID = 2
/* RADIOMETRIC DATA ELEMENTS */
BANDWIDTH = 88.0
CENTER_FILTER_WAVELENGTH = 538.0
RADIANCE_OFFSET = 0.21896
RADIANCE_SCALING_FACTOR = 0.00120213
REFLECTANCE_SCALING_FACTOR = 6.2908e-05
MEX:REFLECTANCE_OFFSET = 0.0114582
/* IMAGE OBJECT DEFINITIONS */
OBJECT = IMAGE
  INTERCHANGE_FORMAT = BINARY
  LINES = 7470
  LINE_SAMPLES = 1543
  SAMPLE_TYPE = UNSIGNED_INTEGER
  SAMPLE_BITS = 8
  BANDS = 1
  BAND_STORAGE_TYPE = BAND_SEQUENTIAL
  MAXIMUM = 255
  MEAN = 118.206
  MINIMUM = 3
  STANDARD_DEVIATION = 40.15
END_OBJECT = IMAGE
/* MAP OBJECT DEFINITIONS */
OBJECT = IMAGE_MAP_PROJECTION
  ^DATA_SET_MAP_PROJECTION_CATALOG= "DSMAP.CAT"
  A_AXIS_RADIUS = 3396.0
  B_AXIS_RADIUS = 3396.0
  C_AXIS_RADIUS = 3396.0
  CENTER_LATITUDE = 0.0
  CENTER_LONGITUDE = 312.0
  COORDINATE_SYSTEM_NAME = PLANETOGRAPHIC
  COORDINATE_SYSTEM_TYPE = "BODY-FIXED ROTATING"
  EASTERNMOST_LONGITUDE = 312.424
  FIRST_STANDARD_PARALLEL = "N/A"
  LINE_FIRST_PIXEL = 1
  LINE_LAST_PIXEL = 7470
  LINE_PROJECTION_OFFSET = -4473.375
  MAP_PROJECTION_ROTATION = 0.0
  MAP_PROJECTION_TYPE = SINUSOIDAL
  MAP_RESOLUTION = 1185.42760773333
  MAP_SCALE = 0.05
  MAXIMUM_LATITUDE = -3.77221
  MINIMUM_LATITUDE = -10.0803
  POSITIVE_LONGITUDE_DIRECTION = EAST
  REFERENCE_LATITUDE = "N/A"
  REFERENCE_LONGITUDE = "N/A"
  SAMPLE_FIRST_PIXEL = 1
  SAMPLE_LAST_PIXEL = 1543
  SAMPLE_PROJECTION_OFFSET = 999.625
  SECOND_STANDARD_PARALLEL = "N/A"
  WESTERNMOST_LONGITUDE = 311.197
END_OBJECT = IMAGE_MAP_PROJECTION
/* The JPEG2000 image data file associated with this label. */
OBJECT = COMPRESSED_FILE
  FILE_NAME = "H2942_0001_GR3.JP2"
  RECORD_TYPE = UNDEFINED
  FILE_RECORDS = UNK
  ENCODING_TYPE = "JP2"
  INTERCHANGE_FORMAT = BINARY
  UNCOMPRESSED_FILE_NAME = "H2942_0001_GR3.IMG"
  REQUIRED_STORAGE_BYTES = "11546269"
  ^DESCRIPTION = "JP2INFO.TXT"
END_OBJECT = COMPRESSED_FILE
END
