PDS_VERSION_ID = PDS3
/* FILE DATA ELEMENTS */
RECORD_TYPE = STREAM
/* POINTERS TO DATA OBJECTS */
^COMPRESSED_FILE = "H2942_0001_ND3.JP2"
/* IDENTIFICATION DATA ELEMENTS */
DATA_SET_ID = "MEX-M-HRSC-5-REFDR-MAPPROJECTED-V3.0"
DATA_SET_NAME = "MARS EXPRESS HRSC MAP PROJECTED REFDR V3.0"
DETECTOR_ID = MEX_HRSC_NADIR
EVENT_TYPE = "MARS-REGIONAL-MAPPING-Te-Fl-La"
INSTRUMENT_HOST_ID = MEX
INSTRUMENT_HOST_NAME = "MARS EXPRESS"
INSTRUMENT_ID = HRSC
INSTRUMENT_NAME = "HIGH RESOLUTION STEREO CAMERA"
MISSION_NAME = "MARS EXPRESS"
MISSION_PHASE_NAME = ME_Phase_2
PROCESSING_LEVEL_ID = 3
PRODUCT_CREATION_TIME = 2016-04-08T13:52:43.000Z
PRODUCT_ID = "H2942_0001_ND3.JP2"
RELEASE_ID = 0036
REVISION_ID = 0000
/* QUALITY DATA ELEMENTS */
DATA_QUALITY_ID = 1
DATA_QUALITY_DESC = "Data calculated based on original SPICE kernels"
/* TIME DATA ELEMENTS */
SPACECRAFT_CLOCK_START_COUNT = "1/0094130362.09062"
SPACECRAFT_CLOCK_STOP_COUNT = "1/0094130521.50717"
START_TIME = 2006-04-26T11:20:00.996Z
STOP_TIME = 2006-04-26T11:21:37.996Z
/* ORBITAL DATA ELEMENTS */
ASCENDING_NODE_LONGITUDE = 166.53
MAXIMUM_RESOLUTION = 12.5
FOOTPRINT_POINT_LATITUDE = (-3.77767,-3.77667,-3.77598,-3.77544, -3.77457,-3.77353,-3.9031,-4.03281, -4.16259,-4.29243,-4.42233,-4.55229, -4.68233,-4.81242,-4.94256,-5.07277, -5.20303,-5.33335,-5.46373,-5.59416, -5.72462,-5.85097,-5.97738,-6.16689, -6.29318,-6.41978,-6.60957,-6.73629, -6.86315,-6.99013,-7.11725,-7.2442, -7.37103,-7.49594,-7.74145,-7.86436, -7.98732,-8.11031,-8.23338,-8.35649, -8.47964,-8.60283,-8.72637,-8.91168, -9.03499,-9.15838,-9.28182,-9.40515, -9.64367,-9.88235,-10.0731,-10.0736, -10.0738,-10.074,-10.0741,-9.89485, -9.65632,-9.41794,-9.29506,-9.17165, -9.04839,-8.92511,-8.80173,-8.67815, -8.55493,-8.43181,-8.30874,-8.18573, -8.06276,-7.93985,-7.81698,-7.69415, -7.44859,-7.32199,-7.19511,-7.00483, -6.87808,-6.7514,-6.62482,-6.49848, -6.3719,-6.2454,-6.11896,-5.9296, -5.8033,-5.67538,-5.54496,-5.4146, -5.28431,-5.15405,-5.02385,-4.89367, -4.7636,-4.56861,-4.43869,-4.30881, -4.17907,-4.04955,-3.91995,-3.77767)
FOOTPRINT_POINT_LONGITUDE = (312.299,312.021,311.84,311.707,311.502 ,311.272,311.196,311.197,311.198, 311.199,311.2,311.201,311.203,311.204, 311.204,311.205,311.206,311.207,311.208 ,311.209,311.209,311.21,311.211,311.21, 311.207,311.208,311.206,311.207,311.209 ,311.212,311.216,311.217,311.216, 311.216,311.214,311.214,311.215,311.215 ,311.216,311.217,311.217,311.218, 311.223,311.23,311.23,311.231,311.232, 311.233,311.234,311.236,311.378,311.575 ,311.727,311.923,312.152,312.344, 312.346,312.348,312.35,312.352,312.352, 312.353,312.357,312.364,312.366,312.368 ,312.369,312.371,312.372,312.373, 312.374,312.375,312.378,312.379,312.38, 312.383,312.385,312.386,312.386,312.384 ,312.386,312.388,312.389,312.388,312.39 ,312.392,312.393,312.395,312.397,312.4, 312.402,312.405,312.407,312.411,312.413 ,312.416,312.418,312.417,312.418, 312.299)
ORBIT_NUMBER = 2942
ORBITAL_ECCENTRICITY = 0.572
ORBITAL_INCLINATION = 86.63
ORBITAL_SEMIMAJOR_AXIS = 8609.32
PERIAPSIS_ALTITUDE = 288.52
PERIAPSIS_ARGUMENT_ANGLE = 201.5
PERIAPSIS_TIME = 2006-04-26T11:24:30.000Z
SPACECRAFT_ORIENTATION = (0.0,-1.0,0.0)
^MEX_ORIENTATION_DESC = "MEX_ORIENTATION_DESC.TXT"
SPACECRAFT_POINTING_MODE = NADIR
^MEX_POINTING_DESC = "MEX_POINTING_DESC.TXT"
RIGHT_ASCENSION = -1e+32
DECLINATION = -1e+32
OFFSET_ANGLE = -1e+32
SPACECRAFT_SOLAR_DISTANCE = 2.46538e+08
TARGET_NAME = MARS
/* CAMERA DATA ELEMENTS */
DETECTOR_TEMPERATURE = 19.5939
FOCAL_PLANE_TEMPERATURE = 8.3794
INST_CMPRS_NAME = "DISCRETE COSINE TRANSFORMATION (DCT)"
INST_CMPRS_RATIO = 8.54218
INST_CMPRS_QUALITY = 0
INST_CMPRS_QUANTZ_TBL_ID = 0
INSTRUMENT_TEMPERATURE = 13.0691
LENS_TEMPERATURE = 9.8067
MACROPIXEL_SIZE = 1
MISSING_FRAMES = 0
PIXEL_SUBSAMPLING_FLAG = N
SIGNAL_CHAIN_ID = 0
/* RADIOMETRIC DATA ELEMENTS */
BANDWIDTH = 177.0
CENTER_FILTER_WAVELENGTH = 677.5
RADIANCE_OFFSET = 0.232371
RADIANCE_SCALING_FACTOR = 0.00377522
REFLECTANCE_SCALING_FACTOR = 0.000121897
MEX:REFLECTANCE_OFFSET = 0.00750295
/* IMAGE OBJECT DEFINITIONS */
OBJECT = IMAGE
  INTERCHANGE_FORMAT = BINARY
  LINES = 29877
  LINE_SAMPLES = 6172
  SAMPLE_TYPE = UNSIGNED_INTEGER
  SAMPLE_BITS = 8
  BANDS = 1
  BAND_STORAGE_TYPE = BAND_SEQUENTIAL
  MAXIMUM = 254
  MEAN = 120.057
  MINIMUM = 1
  STANDARD_DEVIATION = 27.595
END_OBJECT = IMAGE
/* MAP OBJECT DEFINITIONS */
OBJECT = IMAGE_MAP_PROJECTION
  ^DATA_SET_MAP_PROJECTION_CATALOG= "DSMAP.CAT"
  A_AXIS_RADIUS = 3396.0
  B_AXIS_RADIUS = 3396.0
  C_AXIS_RADIUS = 3396.0
  CENTER_LATITUDE = 0.0
  CENTER_LONGITUDE = 312.0
  COORDINATE_SYSTEM_NAME = PLANETOGRAPHIC
  COORDINATE_SYSTEM_TYPE = "BODY-FIXED ROTATING"
  EASTERNMOST_LONGITUDE = 312.418
  FIRST_STANDARD_PARALLEL = "N/A"
  LINE_FIRST_PIXEL = 1
  LINE_LAST_PIXEL = 29877
  LINE_PROJECTION_OFFSET = -17892.0
  MAP_PROJECTION_ROTATION = 0.0
  MAP_PROJECTION_TYPE = SINUSOIDAL
  MAP_RESOLUTION = 4741.71043093333
  MAP_SCALE = 0.0125
  MAXIMUM_LATITUDE = -3.77353
  MINIMUM_LATITUDE = -10.0741
  POSITIVE_LONGITUDE_DIRECTION = EAST
  REFERENCE_LATITUDE = "N/A"
  REFERENCE_LONGITUDE = "N/A"
  SAMPLE_FIRST_PIXEL = 1
  SAMPLE_LAST_PIXEL = 6172
  SAMPLE_PROJECTION_OFFSET = 4000.0
  SECOND_STANDARD_PARALLEL = "N/A"
  WESTERNMOST_LONGITUDE = 311.196
END_OBJECT = IMAGE_MAP_PROJECTION
/* The JPEG2000 image data file associated with this label. */
OBJECT = COMPRESSED_FILE
  FILE_NAME = "H2942_0001_ND3.JP2"
  RECORD_TYPE = UNDEFINED
  FILE_RECORDS = UNK
  ENCODING_TYPE = "JP2"
  INTERCHANGE_FORMAT = BINARY
  UNCOMPRESSED_FILE_NAME = "H2942_0001_ND3.IMG"
  REQUIRED_STORAGE_BYTES = "184431704"
  ^DESCRIPTION = "JP2INFO.TXT"
END_OBJECT = COMPRESSED_FILE
END
