PDS_VERSION_ID = PDS3
/* FILE DATA ELEMENTS */
RECORD_TYPE = STREAM
/* POINTERS TO DATA OBJECTS */
^COMPRESSED_FILE = "H2942_0001_RE3.JP2"
/* IDENTIFICATION DATA ELEMENTS */
DATA_SET_ID = "MEX-M-HRSC-5-REFDR-MAPPROJECTED-V3.0"
DATA_SET_NAME = "MARS EXPRESS HRSC MAP PROJECTED REFDR V3.0"
DETECTOR_ID = MEX_HRSC_RED
EVENT_TYPE = "MARS-REGIONAL-MAPPING-Te-Fl-La"
INSTRUMENT_HOST_ID = MEX
INSTRUMENT_HOST_NAME = "MARS EXPRESS"
INSTRUMENT_ID = HRSC
INSTRUMENT_NAME = "HIGH RESOLUTION STEREO CAMERA"
MISSION_NAME = "MARS EXPRESS"
MISSION_PHASE_NAME = ME_Phase_2
PROCESSING_LEVEL_ID = 3
PRODUCT_CREATION_TIME = 2016-04-08T13:52:43.000Z
PRODUCT_ID = "H2942_0001_RE3.JP2"
RELEASE_ID = 0036
REVISION_ID = 0000
/* QUALITY DATA ELEMENTS */
DATA_QUALITY_ID = 1
DATA_QUALITY_DESC = "Data calculated based on original SPICE kernels"
/* TIME DATA ELEMENTS */
SPACECRAFT_CLOCK_START_COUNT = "1/0094130362.09062"
SPACECRAFT_CLOCK_STOP_COUNT = "1/0094130521.50717"
START_TIME = 2006-04-26T11:20:26.361Z
STOP_TIME = 2006-04-26T11:22:00.516Z
/* ORBITAL DATA ELEMENTS */
ASCENDING_NODE_LONGITUDE = 166.53
MAXIMUM_RESOLUTION = 51.2
FOOTPRINT_POINT_LATITUDE = (-3.77338,-3.77324,-3.77279,-3.77211, -3.77142,-3.77038,-3.77355,-3.90788, -4.10896,-4.23896,-4.36891,-4.49896, -4.62941,-4.75954,-4.95435,-5.08426, -5.21388,-5.34371,-5.53835,-5.66807, -5.79822,-5.98952,-6.11436,-6.34944, -6.47042,-6.59309,-6.71777,-6.84491, -6.98135,-7.11226,-7.24095,-7.3636, -7.54483,-7.66464,-7.85271,-8.03429, -8.15513,-8.27674,-8.39817,-8.58283, -8.71065,-8.85066,-8.97342,-9.09553, -9.21757,-9.33996,-9.52258,-9.64433, -9.76648,-9.88845,-10.0711,-10.0766, -10.0769,-10.0769,-10.077,-10.0766, -10.0143,-9.89272,-9.77098,-9.58848, -9.46689,-9.34478,-9.21856,-8.97962, -8.85283,-8.71393,-8.58843,-8.40394, -8.28138,-8.15989,-8.03911,-7.85788, -7.6693,-7.54328,-7.35449,-7.22939, -7.10251,-6.97584,-6.84994,-6.60518, -6.4276,-6.23562,-6.11288,-5.93102, -5.73891,-5.60821,-5.47803,-5.3477, -5.2174,-5.08547,-4.95421,-4.82171, -4.69049,-4.49305,-4.36168,-4.22928, -4.10036,-3.97746,-3.84653,-3.77338)
FOOTPRINT_POINT_LONGITUDE = (312.279,312.102,311.88,311.692,311.548 ,311.37,311.213,311.214,311.216,311.216 ,311.217,311.218,311.219,311.22,311.221 ,311.222,311.222,311.223,311.224, 311.225,311.225,311.227,311.227,311.222 ,311.221,311.221,311.221,311.222, 311.227,311.229,311.231,311.23,311.228, 311.227,311.227,311.228,311.228,311.229 ,311.229,311.231,311.233,311.24,311.241 ,311.242,311.243,311.243,311.244, 311.245,311.245,311.246,311.247,311.499 ,311.62,311.782,311.984,312.136,312.332 ,312.333,312.334,312.335,312.336, 312.337,312.34,312.34,312.343,312.35, 312.353,312.355,312.356,312.357,312.358 ,312.359,312.361,312.362,312.364, 312.365,312.367,312.369,312.37,312.37, 312.368,312.372,312.372,312.372,312.374 ,312.376,312.378,312.379,312.381, 312.384,312.386,312.388,312.391,312.394 ,312.397,312.399,312.401,312.399,312.4, 312.279)
ORBIT_NUMBER = 2942
ORBITAL_ECCENTRICITY = 0.572
ORBITAL_INCLINATION = 86.63
ORBITAL_SEMIMAJOR_AXIS = 8609.32
PERIAPSIS_ALTITUDE = 288.52
PERIAPSIS_ARGUMENT_ANGLE = 201.5
PERIAPSIS_TIME = 2006-04-26T11:24:30.000Z
SPACECRAFT_ORIENTATION = (0.0,-1.0,0.0)
^MEX_ORIENTATION_DESC = "MEX_ORIENTATION_DESC.TXT"
SPACECRAFT_POINTING_MODE = NADIR
^MEX_POINTING_DESC = "MEX_POINTING_DESC.TXT"
RIGHT_ASCENSION = -1e+32
DECLINATION = -1e+32
OFFSET_ANGLE = -1e+32
SPACECRAFT_SOLAR_DISTANCE = 2.46538e+08
TARGET_NAME = MARS
/* CAMERA DATA ELEMENTS */
DETECTOR_TEMPERATURE = 20.8173
FOCAL_PLANE_TEMPERATURE = 8.3794
INST_CMPRS_NAME = "DISCRETE COSINE TRANSFORMATION (DCT)"
INST_CMPRS_RATIO = 38.2798
INST_CMPRS_QUALITY = 0
INST_CMPRS_QUANTZ_TBL_ID = 0
INSTRUMENT_TEMPERATURE = 13.0691
LENS_TEMPERATURE = 9.8067
MACROPIXEL_SIZE = 4
MISSING_FRAMES = 0
PIXEL_SUBSAMPLING_FLAG = N
SIGNAL_CHAIN_ID = 2
/* RADIOMETRIC DATA ELEMENTS */
BANDWIDTH = 48.0
CENTER_FILTER_WAVELENGTH = 748.0
RADIANCE_OFFSET = 0.0857739
RADIANCE_SCALING_FACTOR = 0.000934356
REFLECTANCE_SCALING_FACTOR = 0.0001296
MEX:REFLECTANCE_OFFSET = 0.0118973
/* IMAGE OBJECT DEFINITIONS */
OBJECT = IMAGE
  INTERCHANGE_FORMAT = BINARY
  LINES = 7470
  LINE_SAMPLES = 1543
  SAMPLE_TYPE = UNSIGNED_INTEGER
  SAMPLE_BITS = 8
  BANDS = 1
  BAND_STORAGE_TYPE = BAND_SEQUENTIAL
  MAXIMUM = 255
  MEAN = 120.524
  MINIMUM = 10
  STANDARD_DEVIATION = 36.5146
END_OBJECT = IMAGE
/* MAP OBJECT DEFINITIONS */
OBJECT = IMAGE_MAP_PROJECTION
  ^DATA_SET_MAP_PROJECTION_CATALOG= "DSMAP.CAT"
  A_AXIS_RADIUS = 3396.0
  B_AXIS_RADIUS = 3396.0
  C_AXIS_RADIUS = 3396.0
  CENTER_LATITUDE = 0.0
  CENTER_LONGITUDE = 312.0
  COORDINATE_SYSTEM_NAME = PLANETOGRAPHIC
  COORDINATE_SYSTEM_TYPE = "BODY-FIXED ROTATING"
  EASTERNMOST_LONGITUDE = 312.401
  FIRST_STANDARD_PARALLEL = "N/A"
  LINE_FIRST_PIXEL = 1
  LINE_LAST_PIXEL = 7470
  LINE_PROJECTION_OFFSET = -4473.375
  MAP_PROJECTION_ROTATION = 0.0
  MAP_PROJECTION_TYPE = SINUSOIDAL
  MAP_RESOLUTION = 1185.42760773333
  MAP_SCALE = 0.05
  MAXIMUM_LATITUDE = -3.77038
  MINIMUM_LATITUDE = -10.077
  POSITIVE_LONGITUDE_DIRECTION = EAST
  REFERENCE_LATITUDE = "N/A"
  REFERENCE_LONGITUDE = "N/A"
  SAMPLE_FIRST_PIXEL = 1
  SAMPLE_LAST_PIXEL = 1543
  SAMPLE_PROJECTION_OFFSET = 999.625
  SECOND_STANDARD_PARALLEL = "N/A"
  WESTERNMOST_LONGITUDE = 311.213
END_OBJECT = IMAGE_MAP_PROJECTION
/* The JPEG2000 image data file associated with this label. */
OBJECT = COMPRESSED_FILE
  FILE_NAME = "H2942_0001_RE3.JP2"
  RECORD_TYPE = UNDEFINED
  FILE_RECORDS = UNK
  ENCODING_TYPE = "JP2"
  INTERCHANGE_FORMAT = BINARY
  UNCOMPRESSED_FILE_NAME = "H2942_0001_RE3.IMG"
  REQUIRED_STORAGE_BYTES = "11546269"
  ^DESCRIPTION = "JP2INFO.TXT"
END_OBJECT = COMPRESSED_FILE
END
