PDS_VERSION_ID = PDS3
/* FILE DATA ELEMENTS */
RECORD_TYPE = STREAM
/* POINTERS TO DATA OBJECTS */
^COMPRESSED_FILE = "H2942_0001_S13.JP2"
/* IDENTIFICATION DATA ELEMENTS */
DATA_SET_ID = "MEX-M-HRSC-5-REFDR-MAPPROJECTED-V3.0"
DATA_SET_NAME = "MARS EXPRESS HRSC MAP PROJECTED REFDR V3.0"
DETECTOR_ID = MEX_HRSC_S1
EVENT_TYPE = "MARS-REGIONAL-MAPPING-Te-Fl-La"
INSTRUMENT_HOST_ID = MEX
INSTRUMENT_HOST_NAME = "MARS EXPRESS"
INSTRUMENT_ID = HRSC
INSTRUMENT_NAME = "HIGH RESOLUTION STEREO CAMERA"
MISSION_NAME = "MARS EXPRESS"
MISSION_PHASE_NAME = ME_Phase_2
PROCESSING_LEVEL_ID = 3
PRODUCT_CREATION_TIME = 2016-04-08T13:52:43.000Z
PRODUCT_ID = "H2942_0001_S13.JP2"
RELEASE_ID = 0036
REVISION_ID = 0000
/* QUALITY DATA ELEMENTS */
DATA_QUALITY_ID = 1
DATA_QUALITY_DESC = "Data calculated based on original SPICE kernels"
/* TIME DATA ELEMENTS */
SPACECRAFT_CLOCK_START_COUNT = "1/0094130362.09062"
SPACECRAFT_CLOCK_STOP_COUNT = "1/0094130521.50717"
START_TIME = 2006-04-26T11:19:27.635Z
STOP_TIME = 2006-04-26T11:21:09.378Z
/* ORBITAL DATA ELEMENTS */
ASCENDING_NODE_LONGITUDE = 166.53
MAXIMUM_RESOLUTION = 27.3
FOOTPRINT_POINT_LATITUDE = (-3.77881,-3.77773,-3.77638,-3.77492, -3.77401,-3.77333,-3.83251,-4.01994, -4.14482,-4.27022,-4.39563,-4.52126, -4.70893,-4.83562,-5.02412,-5.15042, -5.27705,-5.40429,-5.59538,-5.72247, -5.84927,-5.97591,-6.10629,-6.24883, -6.44171,-6.57422,-6.76822,-6.89651, -7.07595,-7.19619,-7.32568,-7.46115, -7.66291,-7.7921,-7.91754,-8.0434, -8.16788,-8.35467,-8.48001,-8.66532, -8.83385,-8.94891,-9.07446,-9.1989, -9.32388,-9.44534,-9.56684,-9.68835, -9.87033,-9.99212,-10.0679,-10.0687, -10.0695,-10.0701,-10.0707,-10.0708, -9.94901,-9.8273,-9.70576,-9.52339, -9.34184,-9.15531,-9.02815,-8.9095, -8.73879,-8.55866,-8.37384,-8.25022, -8.12549,-8.00067,-7.87585,-7.74984, -7.62221,-7.43118,-7.3023,-7.11051, -6.9197,-6.72784,-6.59925,-6.45366, -6.32374,-6.19637,-6.06622,-5.93397, -5.80775,-5.68193,-5.55563,-5.3663, -5.2402,-5.11562,-4.99083,-4.86863, -4.74339,-4.62065,-4.49568,-4.37409, -4.18559,-4.0546,-3.92009,-3.77881)
FOOTPRINT_POINT_LONGITUDE = (312.352,312.202,312.002,311.74,311.541 ,311.341,311.164,311.166,311.168, 311.169,311.17,311.172,311.174,311.175, 311.177,311.178,311.179,311.18,311.182, 311.183,311.184,311.185,311.185,311.182 ,311.183,311.182,311.183,311.184, 311.189,311.193,311.194,311.192,311.191 ,311.191,311.192,311.192,311.193, 311.195,311.196,311.198,311.205,311.209 ,311.21,311.212,311.213,311.214,311.214 ,311.215,311.217,311.218,311.317, 311.517,311.793,311.948,312.191,312.361 ,312.362,312.363,312.365,312.366, 312.368,312.371,312.372,312.375,312.383 ,312.387,312.39,312.392,312.393,312.395 ,312.396,312.397,312.399,312.402, 312.403,312.406,312.409,312.412,312.413 ,312.409,312.411,312.412,312.413, 312.414,312.416,312.418,312.42,312.424, 312.426,312.428,312.431,312.434,312.437 ,312.44,312.442,312.446,312.449,312.45, 312.449,312.352)
ORBIT_NUMBER = 2942
ORBITAL_ECCENTRICITY = 0.572
ORBITAL_INCLINATION = 86.63
ORBITAL_SEMIMAJOR_AXIS = 8609.32
PERIAPSIS_ALTITUDE = 288.52
PERIAPSIS_ARGUMENT_ANGLE = 201.5
PERIAPSIS_TIME = 2006-04-26T11:24:30.000Z
SPACECRAFT_ORIENTATION = (0.0,-1.0,0.0)
^MEX_ORIENTATION_DESC = "MEX_ORIENTATION_DESC.TXT"
SPACECRAFT_POINTING_MODE = NADIR
^MEX_POINTING_DESC = "MEX_POINTING_DESC.TXT"
RIGHT_ASCENSION = -1e+32
DECLINATION = -1e+32
OFFSET_ANGLE = -1e+32
SPACECRAFT_SOLAR_DISTANCE = 2.46538e+08
TARGET_NAME = MARS
/* CAMERA DATA ELEMENTS */
DETECTOR_TEMPERATURE = 18.9822
FOCAL_PLANE_TEMPERATURE = 8.3794
INST_CMPRS_NAME = "DISCRETE COSINE TRANSFORMATION (DCT)"
INST_CMPRS_RATIO = 13.9292
INST_CMPRS_QUALITY = 0
INST_CMPRS_QUANTZ_TBL_ID = 0
INSTRUMENT_TEMPERATURE = 13.0691
LENS_TEMPERATURE = 9.8067
MACROPIXEL_SIZE = 2
MISSING_FRAMES = 0
PIXEL_SUBSAMPLING_FLAG = N
SIGNAL_CHAIN_ID = 1
/* RADIOMETRIC DATA ELEMENTS */
BANDWIDTH = 180.0
CENTER_FILTER_WAVELENGTH = 677.0
RADIANCE_OFFSET = 0.497278
RADIANCE_SCALING_FACTOR = 0.00338019
REFLECTANCE_SCALING_FACTOR = 0.000107189
MEX:REFLECTANCE_OFFSET = 0.0157692
/* IMAGE OBJECT DEFINITIONS */
OBJECT = IMAGE
  INTERCHANGE_FORMAT = BINARY
  LINES = 14939
  LINE_SAMPLES = 3086
  SAMPLE_TYPE = UNSIGNED_INTEGER
  SAMPLE_BITS = 8
  BANDS = 1
  BAND_STORAGE_TYPE = BAND_SEQUENTIAL
  MAXIMUM = 255
  MEAN = 118.404
  MINIMUM = 2
  STANDARD_DEVIATION = 34.896
END_OBJECT = IMAGE
/* MAP OBJECT DEFINITIONS */
OBJECT = IMAGE_MAP_PROJECTION
  ^DATA_SET_MAP_PROJECTION_CATALOG= "DSMAP.CAT"
  A_AXIS_RADIUS = 3396.0
  B_AXIS_RADIUS = 3396.0
  C_AXIS_RADIUS = 3396.0
  CENTER_LATITUDE = 0.0
  CENTER_LONGITUDE = 312.0
  COORDINATE_SYSTEM_NAME = PLANETOGRAPHIC
  COORDINATE_SYSTEM_TYPE = "BODY-FIXED ROTATING"
  EASTERNMOST_LONGITUDE = 312.45
  FIRST_STANDARD_PARALLEL = "N/A"
  LINE_FIRST_PIXEL = 1
  LINE_LAST_PIXEL = 14939
  LINE_PROJECTION_OFFSET = -8946.25
  MAP_PROJECTION_ROTATION = 0.0
  MAP_PROJECTION_TYPE = SINUSOIDAL
  MAP_RESOLUTION = 2370.85521546667
  MAP_SCALE = 0.025
  MAXIMUM_LATITUDE = -3.77333
  MINIMUM_LATITUDE = -10.0708
  POSITIVE_LONGITUDE_DIRECTION = EAST
  REFERENCE_LATITUDE = "N/A"
  REFERENCE_LONGITUDE = "N/A"
  SAMPLE_FIRST_PIXEL = 1
  SAMPLE_LAST_PIXEL = 3086
  SAMPLE_PROJECTION_OFFSET = 1999.75
  SECOND_STANDARD_PARALLEL = "N/A"
  WESTERNMOST_LONGITUDE = 311.164
END_OBJECT = IMAGE_MAP_PROJECTION
/* The JPEG2000 image data file associated with this label. */
OBJECT = COMPRESSED_FILE
  FILE_NAME = "H2942_0001_S13.JP2"
  RECORD_TYPE = UNDEFINED
  FILE_RECORDS = UNK
  ENCODING_TYPE = "JP2"
  INTERCHANGE_FORMAT = BINARY
  UNCOMPRESSED_FILE_NAME = "H2942_0001_S13.IMG"
  REQUIRED_STORAGE_BYTES = "46126442"
  ^DESCRIPTION = "JP2INFO.TXT"
END_OBJECT = COMPRESSED_FILE
END
