PDS_VERSION_ID = PDS3
/* FILE DATA ELEMENTS */
RECORD_TYPE = STREAM
/* POINTERS TO DATA OBJECTS */
^COMPRESSED_FILE = "H2942_0001_S23.JP2"
/* IDENTIFICATION DATA ELEMENTS */
DATA_SET_ID = "MEX-M-HRSC-5-REFDR-MAPPROJECTED-V3.0"
DATA_SET_NAME = "MARS EXPRESS HRSC MAP PROJECTED REFDR V3.0"
DETECTOR_ID = MEX_HRSC_S2
EVENT_TYPE = "MARS-REGIONAL-MAPPING-Te-Fl-La"
INSTRUMENT_HOST_ID = MEX
INSTRUMENT_HOST_NAME = "MARS EXPRESS"
INSTRUMENT_ID = HRSC
INSTRUMENT_NAME = "HIGH RESOLUTION STEREO CAMERA"
MISSION_NAME = "MARS EXPRESS"
MISSION_PHASE_NAME = ME_Phase_2
PROCESSING_LEVEL_ID = 3
PRODUCT_CREATION_TIME = 2016-04-08T13:52:43.000Z
PRODUCT_ID = "H2942_0001_S23.JP2"
RELEASE_ID = 0036
REVISION_ID = 0000
/* QUALITY DATA ELEMENTS */
DATA_QUALITY_ID = 1
DATA_QUALITY_DESC = "Data calculated based on original SPICE kernels"
/* TIME DATA ELEMENTS */
SPACECRAFT_CLOCK_START_COUNT = "1/0094130362.09062"
SPACECRAFT_CLOCK_STOP_COUNT = "1/0094130521.50717"
START_TIME = 2006-04-26T11:20:31.488Z
STOP_TIME = 2006-04-26T11:22:05.221Z
/* ORBITAL DATA ELEMENTS */
ASCENDING_NODE_LONGITUDE = 166.53
MAXIMUM_RESOLUTION = 26
FOOTPRINT_POINT_LATITUDE = (-3.77681,-3.77679,-3.77654,-3.77616, -3.77537,-3.77431,-3.84265,-4.0389, -4.16983,-4.36605,-4.49697,-4.62838, -4.75938,-4.88998,-5.02067,-5.15128, -5.28159,-5.41218,-5.54221,-5.66858, -5.79515,-5.92188,-6.10942,-6.34203, -6.46467,-6.58739,-6.77583,-6.97987, -7.11509,-7.24239,-7.36236,-7.4823, -7.66322,-7.84293,-7.9639,-8.08595, -8.26838,-8.39018,-8.51248,-8.71836, -8.91241,-9.09629,-9.21893,-9.34196, -9.46422,-9.58647,-9.77035,-9.89286, -10.0151,-10.0866,-10.0866,-10.0869, -10.0872,-10.0873,-10.0866,-10.0856, -9.96574,-9.8436,-9.72129,-9.59915, -9.47715,-9.29026,-9.16564,-9.04831, -8.85926,-8.72533,-8.58752,-8.46479, -8.28025,-8.15858,-8.03629,-7.85488, -7.73345,-7.61092,-7.48636,-7.36063, -7.23399,-7.10707,-6.91655,-6.79032, -6.66966,-6.49288,-6.36466,-6.17075, -5.93405,-5.80898,-5.68143,-5.55464, -5.42416,-5.22736,-5.09553,-4.8941, -4.69569,-4.56288,-4.36435,-4.23238, -4.10416,-3.91741,-3.79057,-3.77681)
FOOTPRINT_POINT_LONGITUDE = (312.25,312.135,311.951,311.813,311.629 ,311.445,311.213,311.214,311.215, 311.216,311.217,311.218,311.219,311.22, 311.22,311.221,311.222,311.222,311.223, 311.223,311.224,311.225,311.225,311.22, 311.22,311.219,311.22,311.225,311.228, 311.229,311.228,311.226,311.226,311.226 ,311.226,311.226,311.227,311.227, 311.228,311.235,311.239,311.24,311.241, 311.242,311.242,311.243,311.243,311.244 ,311.244,311.36,311.57,311.707,311.875, 311.991,312.17,312.331,312.332,312.333, 312.334,312.335,312.335,312.338,312.339 ,312.339,312.342,312.347,312.352, 312.353,312.355,312.356,312.357,312.358 ,312.359,312.361,312.362,312.363, 312.364,312.366,312.368,312.369,312.369 ,312.367,312.369,312.372,312.371, 312.372,312.373,312.375,312.377,312.379 ,312.381,312.386,312.389,312.391, 312.395,312.397,312.398,312.398,312.399 ,312.25)
ORBIT_NUMBER = 2942
ORBITAL_ECCENTRICITY = 0.572
ORBITAL_INCLINATION = 86.63
ORBITAL_SEMIMAJOR_AXIS = 8609.32
PERIAPSIS_ALTITUDE = 288.52
PERIAPSIS_ARGUMENT_ANGLE = 201.5
PERIAPSIS_TIME = 2006-04-26T11:24:30.000Z
SPACECRAFT_ORIENTATION = (0.0,-1.0,0.0)
^MEX_ORIENTATION_DESC = "MEX_ORIENTATION_DESC.TXT"
SPACECRAFT_POINTING_MODE = NADIR
^MEX_POINTING_DESC = "MEX_POINTING_DESC.TXT"
RIGHT_ASCENSION = -1e+32
DECLINATION = -1e+32
OFFSET_ANGLE = -1e+32
SPACECRAFT_SOLAR_DISTANCE = 2.46538e+08
TARGET_NAME = MARS
/* CAMERA DATA ELEMENTS */
DETECTOR_TEMPERATURE = 20.8173
FOCAL_PLANE_TEMPERATURE = 8.3794
INST_CMPRS_NAME = "DISCRETE COSINE TRANSFORMATION (DCT)"
INST_CMPRS_RATIO = 16.0581
INST_CMPRS_QUALITY = 0
INST_CMPRS_QUANTZ_TBL_ID = 0
INSTRUMENT_TEMPERATURE = 13.0691
LENS_TEMPERATURE = 9.8067
MACROPIXEL_SIZE = 2
MISSING_FRAMES = 0
PIXEL_SUBSAMPLING_FLAG = N
SIGNAL_CHAIN_ID = 1
/* RADIOMETRIC DATA ELEMENTS */
BANDWIDTH = 178.0
CENTER_FILTER_WAVELENGTH = 679.0
RADIANCE_OFFSET = 0.388265
RADIANCE_SCALING_FACTOR = 0.00359889
REFLECTANCE_SCALING_FACTOR = 0.000115842
MEX:REFLECTANCE_OFFSET = 0.0124975
/* IMAGE OBJECT DEFINITIONS */
OBJECT = IMAGE
  INTERCHANGE_FORMAT = BINARY
  LINES = 14939
  LINE_SAMPLES = 3086
  SAMPLE_TYPE = UNSIGNED_INTEGER
  SAMPLE_BITS = 8
  BANDS = 1
  BAND_STORAGE_TYPE = BAND_SEQUENTIAL
  MAXIMUM = 255
  MEAN = 123.449
  MINIMUM = 2
  STANDARD_DEVIATION = 33.8102
END_OBJECT = IMAGE
/* MAP OBJECT DEFINITIONS */
OBJECT = IMAGE_MAP_PROJECTION
  ^DATA_SET_MAP_PROJECTION_CATALOG= "DSMAP.CAT"
  A_AXIS_RADIUS = 3396.0
  B_AXIS_RADIUS = 3396.0
  C_AXIS_RADIUS = 3396.0
  CENTER_LATITUDE = 0.0
  CENTER_LONGITUDE = 312.0
  COORDINATE_SYSTEM_NAME = PLANETOGRAPHIC
  COORDINATE_SYSTEM_TYPE = "BODY-FIXED ROTATING"
  EASTERNMOST_LONGITUDE = 312.399
  FIRST_STANDARD_PARALLEL = "N/A"
  LINE_FIRST_PIXEL = 1
  LINE_LAST_PIXEL = 14939
  LINE_PROJECTION_OFFSET = -8946.25
  MAP_PROJECTION_ROTATION = 0.0
  MAP_PROJECTION_TYPE = SINUSOIDAL
  MAP_RESOLUTION = 2370.85521546667
  MAP_SCALE = 0.025
  MAXIMUM_LATITUDE = -3.77431
  MINIMUM_LATITUDE = -10.0873
  POSITIVE_LONGITUDE_DIRECTION = EAST
  REFERENCE_LATITUDE = "N/A"
  REFERENCE_LONGITUDE = "N/A"
  SAMPLE_FIRST_PIXEL = 1
  SAMPLE_LAST_PIXEL = 3086
  SAMPLE_PROJECTION_OFFSET = 1999.75
  SECOND_STANDARD_PARALLEL = "N/A"
  WESTERNMOST_LONGITUDE = 311.213
END_OBJECT = IMAGE_MAP_PROJECTION
/* The JPEG2000 image data file associated with this label. */
OBJECT = COMPRESSED_FILE
  FILE_NAME = "H2942_0001_S23.JP2"
  RECORD_TYPE = UNDEFINED
  FILE_RECORDS = UNK
  ENCODING_TYPE = "JP2"
  INTERCHANGE_FORMAT = BINARY
  UNCOMPRESSED_FILE_NAME = "H2942_0001_S23.IMG"
  REQUIRED_STORAGE_BYTES = "46126442"
  ^DESCRIPTION = "JP2INFO.TXT"
END_OBJECT = COMPRESSED_FILE
END
