PDS_VERSION_ID = PDS3
/* FILE DATA ELEMENTS */
RECORD_TYPE = STREAM
/* POINTERS TO DATA OBJECTS */
^COMPRESSED_FILE = "H2951_0000_S23.JP2"
/* IDENTIFICATION DATA ELEMENTS */
DATA_SET_ID = "MEX-M-HRSC-5-REFDR-MAPPROJECTED-V3.0"
DATA_SET_NAME = "MARS EXPRESS HRSC MAP PROJECTED REFDR V3.0"
DETECTOR_ID = MEX_HRSC_S2
EVENT_TYPE = "MARS-REGIONAL-MAPPING-Vo-Gl"
INSTRUMENT_HOST_ID = MEX
INSTRUMENT_HOST_NAME = "MARS EXPRESS"
INSTRUMENT_ID = HRSC
INSTRUMENT_NAME = "HIGH RESOLUTION STEREO CAMERA"
MISSION_NAME = "MARS EXPRESS"
MISSION_PHASE_NAME = ME_Phase_3
PROCESSING_LEVEL_ID = 3
PRODUCT_CREATION_TIME = 2016-04-08T13:52:43.000Z
PRODUCT_ID = "H2951_0000_S23.JP2"
RELEASE_ID = 0036
REVISION_ID = 0000
/* QUALITY DATA ELEMENTS */
DATA_QUALITY_ID = 1
DATA_QUALITY_DESC = "Data calculated based on original SPICE kernels"
/* TIME DATA ELEMENTS */
SPACECRAFT_CLOCK_START_COUNT = "1/0094347472.08278"
SPACECRAFT_CLOCK_STOP_COUNT = "1/0094347968.56849"
START_TIME = 2006-04-28T23:41:03.297Z
STOP_TIME = 2006-04-28T23:46:12.368Z
/* ORBITAL DATA ELEMENTS */
ASCENDING_NODE_LONGITUDE = 166.34
MAXIMUM_RESOLUTION = 36.5
FOOTPRINT_POINT_LATITUDE = (27.7729,27.7818,27.7906,27.7992, 27.8076,27.8159,27.3355,26.8406,26.3517 ,25.8656,25.386,24.9041,24.4411,23.9896 ,23.5444,23.1037,22.4415,22.0059,21.574 ,21.1447,20.7217,20.3035,19.8886, 19.4788,19.0739,18.6712,18.2739,17.6842 ,17.1023,16.7177,16.3407,15.9641, 15.5937,15.2237,14.8598,14.4969,14.1406 ,13.6083,13.2577,12.9088,12.5648, 12.2205,11.8828,11.5455,11.211,10.881, 10.3867,10.063,9.73898,9.25941,8.47038, 8.28396,8.26369,8.23928,8.86593,9.49897 ,10.1461,10.4713,10.802,11.2979,11.6355 ,11.9724,12.4863,12.8298,13.1785,13.529 ,14.0613,14.4185,14.7816,15.1457, 15.5143,15.8848,16.2607,16.6375,17.0211 ,17.4058,17.7975,18.1926,18.5911, 18.9941,19.3991,19.8089,20.2228,20.64, 21.0619,21.4889,21.9178,22.3517,23.0126 ,23.4555,23.9023,24.354,24.8195,25.2964 ,25.7767,26.2619,26.7524,27.2498, 27.7515,27.7729)
FOOTPRINT_POINT_LONGITUDE = (147.866,147.436,147.003,146.57,146.134 ,145.695,145.484,145.511,145.536, 145.562,145.587,145.614,145.634,145.65, 145.664,145.678,145.703,145.719,145.735 ,145.75,145.765,145.779,145.793,145.806 ,145.819,145.831,145.843,145.86,145.876 ,145.887,145.896,145.906,145.915, 145.923,145.932,145.94,145.947,145.958, 145.965,145.972,145.979,145.986,145.993 ,145.999,146.005,146.011,146.019, 146.025,146.03,146.039,146.051,146.371, 146.894,147.59,147.606,147.622,147.639, 147.648,147.657,147.671,147.68,147.69, 147.704,147.714,147.725,147.735,147.751 ,147.762,147.773,147.785,147.796, 147.808,147.82,147.832,147.845,147.858, 147.871,147.885,147.899,147.913,147.928 ,147.943,147.958,147.973,147.989, 148.005,148.021,148.038,148.064,148.081 ,148.098,148.116,148.136,148.157, 148.178,148.2,148.223,148.246,148.269, 147.866)
ORBIT_NUMBER = 2951
ORBITAL_ECCENTRICITY = 0.572
ORBITAL_INCLINATION = 86.62
ORBITAL_SEMIMAJOR_AXIS = 8612.83
PERIAPSIS_ALTITUDE = 289.24
PERIAPSIS_ARGUMENT_ANGLE = 199.91
PERIAPSIS_TIME = 2006-04-28T23:52:47.000Z
SPACECRAFT_ORIENTATION = (0.0,-1.0,0.0)
^MEX_ORIENTATION_DESC = "MEX_ORIENTATION_DESC.TXT"
SPACECRAFT_POINTING_MODE = ACROSSTRACK
^MEX_POINTING_DESC = "MEX_POINTING_DESC.TXT"
RIGHT_ASCENSION = -1e+32
DECLINATION = -1e+32
OFFSET_ANGLE = -0.6
SPACECRAFT_SOLAR_DISTANCE = 2.46754e+08
TARGET_NAME = MARS
/* CAMERA DATA ELEMENTS */
DETECTOR_TEMPERATURE = 18.7783
FOCAL_PLANE_TEMPERATURE = 8.3794
INST_CMPRS_NAME = "DISCRETE COSINE TRANSFORMATION (DCT)"
INST_CMPRS_RATIO = 12.3752
INST_CMPRS_QUALITY = 0
INST_CMPRS_QUANTZ_TBL_ID = 0
INSTRUMENT_TEMPERATURE = 11.4379
LENS_TEMPERATURE = 8.7872
MACROPIXEL_SIZE = 2
MISSING_FRAMES = 0
PIXEL_SUBSAMPLING_FLAG = N
SIGNAL_CHAIN_ID = 1
/* RADIOMETRIC DATA ELEMENTS */
BANDWIDTH = 178.0
CENTER_FILTER_WAVELENGTH = 679.0
RADIANCE_OFFSET = 1.54286
RADIANCE_SCALING_FACTOR = 0.0187416
REFLECTANCE_SCALING_FACTOR = 0.000604316
MEX:REFLECTANCE_OFFSET = 0.049749
/* IMAGE OBJECT DEFINITIONS */
OBJECT = IMAGE
  INTERCHANGE_FORMAT = BINARY
  LINES = 46447
  LINE_SAMPLES = 6675
  SAMPLE_TYPE = UNSIGNED_INTEGER
  SAMPLE_BITS = 8
  BANDS = 1
  BAND_STORAGE_TYPE = BAND_SEQUENTIAL
  MAXIMUM = 255
  MEAN = 90.2207
  MINIMUM = 1
  STANDARD_DEVIATION = 30.6662
END_OBJECT = IMAGE
/* MAP OBJECT DEFINITIONS */
OBJECT = IMAGE_MAP_PROJECTION
  ^DATA_SET_MAP_PROJECTION_CATALOG= "DSMAP.CAT"
  A_AXIS_RADIUS = 3396.0
  B_AXIS_RADIUS = 3396.0
  C_AXIS_RADIUS = 3396.0
  CENTER_LATITUDE = 0.0
  CENTER_LONGITUDE = 147.0
  COORDINATE_SYSTEM_NAME = PLANETOGRAPHIC
  COORDINATE_SYSTEM_TYPE = "BODY-FIXED ROTATING"
  EASTERNMOST_LONGITUDE = 148.269
  FIRST_STANDARD_PARALLEL = "N/A"
  LINE_FIRST_PIXEL = 1
  LINE_LAST_PIXEL = 46447
  LINE_PROJECTION_OFFSET = 65963.75
  MAP_PROJECTION_ROTATION = 0.0
  MAP_PROJECTION_TYPE = SINUSOIDAL
  MAP_RESOLUTION = 2370.85521546667
  MAP_SCALE = 0.025
  MAXIMUM_LATITUDE = 27.8159
  MINIMUM_LATITUDE = 8.239280000000001
  POSITIVE_LONGITUDE_DIRECTION = EAST
  REFERENCE_LATITUDE = "N/A"
  REFERENCE_LONGITUDE = "N/A"
  SAMPLE_FIRST_PIXEL = 1
  SAMPLE_LAST_PIXEL = 6675
  SAMPLE_PROJECTION_OFFSET = 3645.25
  SECOND_STANDARD_PARALLEL = "N/A"
  WESTERNMOST_LONGITUDE = 145.484
END_OBJECT = IMAGE_MAP_PROJECTION
/* The JPEG2000 image data file associated with this label. */
OBJECT = COMPRESSED_FILE
  FILE_NAME = "H2951_0000_S23.JP2"
  RECORD_TYPE = UNDEFINED
  FILE_RECORDS = UNK
  ENCODING_TYPE = "JP2"
  INTERCHANGE_FORMAT = BINARY
  UNCOMPRESSED_FILE_NAME = "H2951_0000_S23.IMG"
  REQUIRED_STORAGE_BYTES = "310067100"
  ^DESCRIPTION = "JP2INFO.TXT"
END_OBJECT = COMPRESSED_FILE
END
