PDS_VERSION_ID = PDS3
/* FILE DATA ELEMENTS */
RECORD_TYPE = STREAM
/* POINTERS TO DATA OBJECTS */
^COMPRESSED_FILE = "H2965_0000_IR3.JP2"
/* IDENTIFICATION DATA ELEMENTS */
DATA_SET_ID = "MEX-M-HRSC-5-REFDR-MAPPROJECTED-V3.0"
DATA_SET_NAME = "MARS EXPRESS HRSC MAP PROJECTED REFDR V3.0"
DETECTOR_ID = MEX_HRSC_IR
EVENT_TYPE = "MARS-REGIONAL-MAPPING-Vo-Fl-Eo"
INSTRUMENT_HOST_ID = MEX
INSTRUMENT_HOST_NAME = "MARS EXPRESS"
INSTRUMENT_ID = HRSC
INSTRUMENT_NAME = "HIGH RESOLUTION STEREO CAMERA"
MISSION_NAME = "MARS EXPRESS"
MISSION_PHASE_NAME = ME_Phase_3
PROCESSING_LEVEL_ID = 3
PRODUCT_CREATION_TIME = 2016-04-08T13:52:43.000Z
PRODUCT_ID = "H2965_0000_IR3.JP2"
RELEASE_ID = 0036
REVISION_ID = 0000
/* QUALITY DATA ELEMENTS */
DATA_QUALITY_ID = 2
DATA_QUALITY_DESC = "Data calculated based on photogrammetrically improved orbit and attitude data"
/* TIME DATA ELEMENTS */
SPACECRAFT_CLOCK_START_COUNT = "1/0094686415.08400"
SPACECRAFT_CLOCK_STOP_COUNT = "1/0094686740.33503"
START_TIME = 2006-05-02T21:47:11.569Z
STOP_TIME = 2006-05-02T21:51:22.570Z
/* ORBITAL DATA ELEMENTS */
ASCENDING_NODE_LONGITUDE = 166.05
MAXIMUM_RESOLUTION = 63.9
FOOTPRINT_POINT_LATITUDE = (15.8649,15.8519,15.8377,15.8225, 15.8061,15.7575,15.4246,15.096,14.768, 14.4437,13.9608,13.6408,13.3248,13.0091 ,12.6974,12.3861,12.0787,11.7712, 11.4681,11.1644,10.8659,10.4182,10.1242 ,9.68364,9.39398,8.96015,8.5322,8.24706 ,7.96675,7.68568,7.40622,7.13061, 6.85406,6.57933,6.30838,6.03683,5.76584 ,5.49968,5.23328,4.83475,4.57362, 4.31194,3.91953,3.40657,2.89159,2.63342 ,2.37476,2.11566,1.85617,1.59695, 1.45876,1.48715,1.50599,1.65984,1.92026 ,2.18039,2.44001,2.69866,2.95686, 3.21469,3.47204,3.98517,4.37711,4.63902 ,4.90035,5.29842,5.56508,5.83137, 6.23791,6.50994,6.92027,7.19727,7.47365 ,7.75308,8.03457,8.31526,8.74319, 9.02837,9.31625,9.60644,9.89745,10.1917 ,10.4853,10.7844,11.2321,11.5363, 11.8395,12.1467,12.4548,12.7662,13.0785 ,13.3942,13.7108,14.031,14.5145,14.8397 ,15.1682,15.4982,15.8338,15.8649)
FOOTPRINT_POINT_LONGITUDE = (210.909,210.6,210.288,209.973,209.654, 209.32,209.333,209.345,209.357,209.368, 209.385,209.396,209.406,209.416,209.426 ,209.435,209.445,209.454,209.462, 209.471,209.479,209.491,209.498,209.509 ,209.517,209.527,209.537,209.543, 209.549,209.555,209.561,209.566,209.572 ,209.577,209.582,209.587,209.592, 209.597,209.602,209.609,209.613,209.617 ,209.623,209.631,209.638,209.641, 209.645,209.648,209.652,209.656,209.887 ,210.339,210.661,211.057,211.062, 211.068,211.073,211.078,211.084,211.089 ,211.094,211.105,211.114,211.12,211.126 ,211.135,211.141,211.147,211.157, 211.163,211.174,211.181,211.188,211.195 ,211.202,211.209,211.221,211.228, 211.236,211.244,211.252,211.26,211.268, 211.277,211.29,211.299,211.307,211.317, 211.326,211.336,211.345,211.355,211.366 ,211.376,211.392,211.403,211.414, 211.425,211.437,210.909)
ORBIT_NUMBER = 2965
ORBITAL_ECCENTRICITY = 0.572
ORBITAL_INCLINATION = 86.61
ORBITAL_SEMIMAJOR_AXIS = 8616.86
PERIAPSIS_ALTITUDE = 290.18
PERIAPSIS_ARGUMENT_ANGLE = 197.39
PERIAPSIS_TIME = 2006-05-02T21:56:39.000Z
SPACECRAFT_ORIENTATION = (0.0,-1.0,0.0)
^MEX_ORIENTATION_DESC = "MEX_ORIENTATION_DESC.TXT"
SPACECRAFT_POINTING_MODE = ACROSSTRACK
^MEX_POINTING_DESC = "MEX_POINTING_DESC.TXT"
RIGHT_ASCENSION = -1e+32
DECLINATION = -1e+32
OFFSET_ANGLE = -1.3
SPACECRAFT_SOLAR_DISTANCE = 2.47074e+08
TARGET_NAME = MARS
/* CAMERA DATA ELEMENTS */
DETECTOR_TEMPERATURE = 17.5549
FOCAL_PLANE_TEMPERATURE = 7.7677
INST_CMPRS_NAME = "DISCRETE COSINE TRANSFORMATION (DCT)"
INST_CMPRS_RATIO = 9.56785
INST_CMPRS_QUALITY = 0
INST_CMPRS_QUANTZ_TBL_ID = 0
INSTRUMENT_TEMPERATURE = 11.0301
LENS_TEMPERATURE = 7.9716
MACROPIXEL_SIZE = 4
MISSING_FRAMES = 0
PIXEL_SUBSAMPLING_FLAG = N
SIGNAL_CHAIN_ID = 2
/* RADIOMETRIC DATA ELEMENTS */
BANDWIDTH = 81.0
CENTER_FILTER_WAVELENGTH = 955.5
RADIANCE_OFFSET = 0.470659
RADIANCE_SCALING_FACTOR = 0.00276858
REFLECTANCE_SCALING_FACTOR = 0.000364619
MEX:REFLECTANCE_OFFSET = 0.0619853
/* IMAGE OBJECT DEFINITIONS */
OBJECT = IMAGE
  INTERCHANGE_FORMAT = BINARY
  LINES = 16991
  LINE_SAMPLES = 2332
  SAMPLE_TYPE = UNSIGNED_INTEGER
  SAMPLE_BITS = 8
  BANDS = 1
  BAND_STORAGE_TYPE = BAND_SEQUENTIAL
  MAXIMUM = 255
  MEAN = 128.462
  MINIMUM = 1
  STANDARD_DEVIATION = 43.7534
END_OBJECT = IMAGE
/* MAP OBJECT DEFINITIONS */
OBJECT = IMAGE_MAP_PROJECTION
  ^DATA_SET_MAP_PROJECTION_CATALOG= "DSMAP.CAT"
  A_AXIS_RADIUS = 3396.0
  B_AXIS_RADIUS = 3396.0
  C_AXIS_RADIUS = 3396.0
  CENTER_LATITUDE = 0.0
  CENTER_LONGITUDE = 210.0
  COORDINATE_SYSTEM_NAME = PLANETOGRAPHIC
  COORDINATE_SYSTEM_TYPE = "BODY-FIXED ROTATING"
  EASTERNMOST_LONGITUDE = 211.437
  FIRST_STANDARD_PARALLEL = "N/A"
  LINE_FIRST_PIXEL = 1
  LINE_LAST_PIXEL = 16991
  LINE_PROJECTION_OFFSET = 18783.625
  MAP_PROJECTION_ROTATION = 0.0
  MAP_PROJECTION_TYPE = SINUSOIDAL
  MAP_RESOLUTION = 1185.42760773333
  MAP_SCALE = 0.05
  MAXIMUM_LATITUDE = 15.8649
  MINIMUM_LATITUDE = 1.45876
  POSITIVE_LONGITUDE_DIRECTION = EAST
  REFERENCE_LATITUDE = "N/A"
  REFERENCE_LONGITUDE = "N/A"
  SAMPLE_FIRST_PIXEL = 1
  SAMPLE_LAST_PIXEL = 2332
  SAMPLE_PROJECTION_OFFSET = 768.375
  SECOND_STANDARD_PARALLEL = "N/A"
  WESTERNMOST_LONGITUDE = 209.32
END_OBJECT = IMAGE_MAP_PROJECTION
/* The JPEG2000 image data file associated with this label. */
OBJECT = COMPRESSED_FILE
  FILE_NAME = "H2965_0000_IR3.JP2"
  RECORD_TYPE = UNDEFINED
  FILE_RECORDS = UNK
  ENCODING_TYPE = "JP2"
  INTERCHANGE_FORMAT = BINARY
  UNCOMPRESSED_FILE_NAME = "H2965_0000_IR3.IMG"
  REQUIRED_STORAGE_BYTES = "39644000"
  ^DESCRIPTION = "JP2INFO.TXT"
END_OBJECT = COMPRESSED_FILE
END
