PDS_VERSION_ID = PDS3
/* FILE DATA ELEMENTS */
RECORD_TYPE = STREAM
/* POINTERS TO DATA OBJECTS */
^COMPRESSED_FILE = "H2965_0000_S13.JP2"
/* IDENTIFICATION DATA ELEMENTS */
DATA_SET_ID = "MEX-M-HRSC-5-REFDR-MAPPROJECTED-V3.0"
DATA_SET_NAME = "MARS EXPRESS HRSC MAP PROJECTED REFDR V3.0"
DETECTOR_ID = MEX_HRSC_S1
EVENT_TYPE = "MARS-REGIONAL-MAPPING-Vo-Fl-Eo"
INSTRUMENT_HOST_ID = MEX
INSTRUMENT_HOST_NAME = "MARS EXPRESS"
INSTRUMENT_ID = HRSC
INSTRUMENT_NAME = "HIGH RESOLUTION STEREO CAMERA"
MISSION_NAME = "MARS EXPRESS"
MISSION_PHASE_NAME = ME_Phase_3
PROCESSING_LEVEL_ID = 3
PRODUCT_CREATION_TIME = 2016-04-08T13:52:43.000Z
PRODUCT_ID = "H2965_0000_S13.JP2"
RELEASE_ID = 0036
REVISION_ID = 0000
/* QUALITY DATA ELEMENTS */
DATA_QUALITY_ID = 2
DATA_QUALITY_DESC = "Data calculated based on photogrammetrically improved orbit and attitude data"
/* TIME DATA ELEMENTS */
SPACECRAFT_CLOCK_START_COUNT = "1/0094686415.08400"
SPACECRAFT_CLOCK_STOP_COUNT = "1/0094686740.33503"
START_TIME = 2006-05-02T21:47:00.563Z
STOP_TIME = 2006-05-02T21:51:16.204Z
/* ORBITAL DATA ELEMENTS */
ASCENDING_NODE_LONGITUDE = 166.05
MAXIMUM_RESOLUTION = 32.8
FOOTPRINT_POINT_LATITUDE = (15.8937,15.8785,15.8621,15.8443, 15.8251,15.8045,15.7454,15.4135,15.0853 ,14.7578,14.4339,13.9516,13.632,13.3158 ,12.8452,12.5326,12.2248,11.9161, 11.6123,11.3076,11.0083,10.5593,10.2638 ,9.96808,9.67711,9.24034,8.80997,8.5232 ,8.24082,7.95775,7.53839,7.26003, 6.98229,6.70887,6.43486,6.16185,5.89318 ,5.62386,5.35418,5.09062,4.82618, 4.42989,4.17068,3.78064,3.52054,3.01097 ,2.7555,2.49947,2.1146,1.85746,1.60071, 1.45695,1.47704,1.49939,1.52053,1.79399 ,2.05212,2.30976,2.56649,2.82255, 3.07822,3.33342,3.588,3.97743,4.23743, 4.49689,4.89239,5.15687,5.42087,5.69004 ,6.09371,6.50137,6.776,7.04994,7.32731, 7.60665,7.8849,8.16781,8.59227,9.02217, 9.30853,9.5986,10.0351,10.3302,10.6262, 10.9263,11.2252,11.6796,11.9838,12.2921 ,12.6008,12.9132,13.2257,13.5425, 14.0206,14.3413,14.6659,15.1563,15.4855 ,15.8937)
FOOTPRINT_POINT_LONGITUDE = (211.298,210.974,210.647,210.317, 209.983,209.644,209.289,209.303,209.315 ,209.328,209.34,209.358,209.369,209.38, 209.395,209.405,209.415,209.425,209.434 ,209.443,209.452,209.464,209.472,209.48 ,209.488,209.499,209.51,209.517,209.523 ,209.53,209.539,209.545,209.551,209.556 ,209.562,209.567,209.572,209.577, 209.582,209.587,209.592,209.599,209.603 ,209.61,209.614,209.621,209.625,209.629 ,209.634,209.638,209.642,209.984, 210.249,210.55,210.857,211.064,211.07, 211.075,211.08,211.086,211.091,211.097, 211.102,211.111,211.117,211.122,211.132 ,211.138,211.144,211.15,211.16,211.17, 211.177,211.184,211.192,211.199,211.206 ,211.214,211.225,211.237,211.245, 211.253,211.265,211.274,211.283,211.292 ,211.301,211.314,211.324,211.334, 211.343,211.353,211.364,211.374,211.39, 211.401,211.412,211.429,211.441, 211.298)
ORBIT_NUMBER = 2965
ORBITAL_ECCENTRICITY = 0.572
ORBITAL_INCLINATION = 86.61
ORBITAL_SEMIMAJOR_AXIS = 8616.86
PERIAPSIS_ALTITUDE = 290.18
PERIAPSIS_ARGUMENT_ANGLE = 197.39
PERIAPSIS_TIME = 2006-05-02T21:56:39.000Z
SPACECRAFT_ORIENTATION = (0.0,-1.0,0.0)
^MEX_ORIENTATION_DESC = "MEX_ORIENTATION_DESC.TXT"
SPACECRAFT_POINTING_MODE = ACROSSTRACK
^MEX_POINTING_DESC = "MEX_POINTING_DESC.TXT"
RIGHT_ASCENSION = -1e+32
DECLINATION = -1e+32
OFFSET_ANGLE = -1.3
SPACECRAFT_SOLAR_DISTANCE = 2.47074e+08
TARGET_NAME = MARS
/* CAMERA DATA ELEMENTS */
DETECTOR_TEMPERATURE = 17.5549
FOCAL_PLANE_TEMPERATURE = 7.7677
INST_CMPRS_NAME = "DISCRETE COSINE TRANSFORMATION (DCT)"
INST_CMPRS_RATIO = 8.52461
INST_CMPRS_QUALITY = 0
INST_CMPRS_QUANTZ_TBL_ID = 0
INSTRUMENT_TEMPERATURE = 11.0301
LENS_TEMPERATURE = 7.9716
MACROPIXEL_SIZE = 2
MISSING_FRAMES = 0
PIXEL_SUBSAMPLING_FLAG = N
SIGNAL_CHAIN_ID = 1
/* RADIOMETRIC DATA ELEMENTS */
BANDWIDTH = 180.0
CENTER_FILTER_WAVELENGTH = 677.0
RADIANCE_OFFSET = 2.12783
RADIANCE_SCALING_FACTOR = 0.0105862
REFLECTANCE_SCALING_FACTOR = 0.00033716
MEX:REFLECTANCE_OFFSET = 0.0677692
/* IMAGE OBJECT DEFINITIONS */
OBJECT = IMAGE
  INTERCHANGE_FORMAT = BINARY
  LINES = 33982
  LINE_SAMPLES = 4663
  SAMPLE_TYPE = UNSIGNED_INTEGER
  SAMPLE_BITS = 8
  BANDS = 1
  BAND_STORAGE_TYPE = BAND_SEQUENTIAL
  MAXIMUM = 255
  MEAN = 129.597
  MINIMUM = 1
  STANDARD_DEVIATION = 43.3028
END_OBJECT = IMAGE
/* MAP OBJECT DEFINITIONS */
OBJECT = IMAGE_MAP_PROJECTION
  ^DATA_SET_MAP_PROJECTION_CATALOG= "DSMAP.CAT"
  A_AXIS_RADIUS = 3396.0
  B_AXIS_RADIUS = 3396.0
  C_AXIS_RADIUS = 3396.0
  CENTER_LATITUDE = 0.0
  CENTER_LONGITUDE = 210.0
  COORDINATE_SYSTEM_NAME = PLANETOGRAPHIC
  COORDINATE_SYSTEM_TYPE = "BODY-FIXED ROTATING"
  EASTERNMOST_LONGITUDE = 211.441
  FIRST_STANDARD_PARALLEL = "N/A"
  LINE_FIRST_PIXEL = 1
  LINE_LAST_PIXEL = 33982
  LINE_PROJECTION_OFFSET = 37567.75
  MAP_PROJECTION_ROTATION = 0.0
  MAP_PROJECTION_TYPE = SINUSOIDAL
  MAP_RESOLUTION = 2370.85521546667
  MAP_SCALE = 0.025
  MAXIMUM_LATITUDE = 15.8937
  MINIMUM_LATITUDE = 1.45695
  POSITIVE_LONGITUDE_DIRECTION = EAST
  REFERENCE_LATITUDE = "N/A"
  REFERENCE_LONGITUDE = "N/A"
  SAMPLE_FIRST_PIXEL = 1
  SAMPLE_LAST_PIXEL = 4663
  SAMPLE_PROJECTION_OFFSET = 1537.25
  SECOND_STANDARD_PARALLEL = "N/A"
  WESTERNMOST_LONGITUDE = 209.289
END_OBJECT = IMAGE_MAP_PROJECTION
/* The JPEG2000 image data file associated with this label. */
OBJECT = COMPRESSED_FILE
  FILE_NAME = "H2965_0000_S13.JP2"
  RECORD_TYPE = UNDEFINED
  FILE_RECORDS = UNK
  ENCODING_TYPE = "JP2"
  INTERCHANGE_FORMAT = BINARY
  UNCOMPRESSED_FILE_NAME = "H2965_0000_S13.IMG"
  REQUIRED_STORAGE_BYTES = "158481381"
  ^DESCRIPTION = "JP2INFO.TXT"
END_OBJECT = COMPRESSED_FILE
END
