PDS_VERSION_ID = PDS3
/* FILE DATA ELEMENTS */
RECORD_TYPE = STREAM
/* POINTERS TO DATA OBJECTS */
^COMPRESSED_FILE = "H2969_0000_ND3.JP2"
/* IDENTIFICATION DATA ELEMENTS */
DATA_SET_ID = "MEX-M-HRSC-5-REFDR-MAPPROJECTED-V3.0"
DATA_SET_NAME = "MARS EXPRESS HRSC MAP PROJECTED REFDR V3.0"
DETECTOR_ID = MEX_HRSC_NADIR
EVENT_TYPE = "MARS-REGIONAL-MAPPING-Vo-Pf-Eo"
INSTRUMENT_HOST_ID = MEX
INSTRUMENT_HOST_NAME = "MARS EXPRESS"
INSTRUMENT_ID = HRSC
INSTRUMENT_NAME = "HIGH RESOLUTION STEREO CAMERA"
MISSION_NAME = "MARS EXPRESS"
MISSION_PHASE_NAME = ME_Phase_3
PROCESSING_LEVEL_ID = 3
PRODUCT_CREATION_TIME = 2016-04-08T13:52:43.000Z
PRODUCT_ID = "H2969_0000_ND3.JP2"
RELEASE_ID = 0036
REVISION_ID = 0000
/* QUALITY DATA ELEMENTS */
DATA_QUALITY_ID = 2
DATA_QUALITY_DESC = "Data calculated based on photogrammetrically improved orbit and attitude data"
/* TIME DATA ELEMENTS */
SPACECRAFT_CLOCK_START_COUNT = "1/0094783297.07308"
SPACECRAFT_CLOCK_STOP_COUNT = "1/0094783529.07673"
START_TIME = 2006-05-04T00:42:27.449Z
STOP_TIME = 2006-05-04T00:45:02.436Z
/* ORBITAL DATA ELEMENTS */
ASCENDING_NODE_LONGITUDE = 165.96
MAXIMUM_RESOLUTION = 14
FOOTPRINT_POINT_LATITUDE = (9.98986,9.99129,9.99314,9.9941,9.99477 ,9.88862,9.67463,9.46038,9.14082, 8.93127,8.72148,8.51144,8.30137,8.09624 ,7.89088,7.68528,7.47946,7.27565, 7.07481,6.87376,6.67249,6.47102,6.26933 ,6.06744,5.86535,5.66304,5.46054, 5.25784,5.05494,4.85183,4.64854,4.44504 ,4.24136,4.03748,3.83341,3.62915, 3.42471,3.22008,2.91904,2.57528,2.23101 ,1.88625,1.541,1.3682,1.19528,1.02222, 0.849059,0.675786,0.5024,0.238498, 0.237592,0.235865,0.234735,0.233869, 0.493878,0.667227,0.840467,1.0136, 1.18659,1.35947,1.53223,1.8774,2.22209, 2.56628,2.90996,3.21041,3.41499,3.6194, 3.82361,4.02764,4.23148,4.43513,4.63859 ,4.84185,5.04492,5.24779,5.45046, 5.65293,5.8552,6.05726,6.25913,6.46078, 6.66223,6.86347,7.0645,7.26532,7.46902, 7.67482,7.8804,8.08574,8.29086,8.50082, 8.71085,8.92063,9.13016,9.3424,9.55678, 9.7709,9.98475,9.98986)
FOOTPRINT_POINT_LONGITUDE = (178.82,178.576,178.194,177.948,177.748 ,177.545,177.548,177.552,177.558, 177.561,177.565,177.568,177.572,177.575 ,177.578,177.581,177.584,177.587,177.59 ,177.593,177.596,177.599,177.602, 177.604,177.607,177.61,177.613,177.615, 177.618,177.62,177.623,177.625,177.627, 177.63,177.632,177.634,177.636,177.639, 177.642,177.645,177.649,177.652,177.655 ,177.657,177.658,177.661,177.662, 177.664,177.665,177.802,177.998,178.375 ,178.617,178.809,178.904,178.907,178.91 ,178.913,178.916,178.919,178.922, 178.928,178.935,178.942,178.948,178.954 ,178.958,178.962,178.967,178.971, 178.975,178.979,178.984,178.988,178.993 ,178.997,179.001,179.006,179.011, 179.015,179.02,179.025,179.029,179.034, 179.039,179.044,179.049,179.054,179.059 ,179.064,179.069,179.075,179.08,179.086 ,179.091,179.097,179.102,179.108, 179.114,178.82)
ORBIT_NUMBER = 2969
ORBITAL_ECCENTRICITY = 0.572
ORBITAL_INCLINATION = 86.63
ORBITAL_SEMIMAJOR_AXIS = 8612.71
PERIAPSIS_ALTITUDE = 290.72
PERIAPSIS_ARGUMENT_ANGLE = 196.68
PERIAPSIS_TIME = 2006-05-04T00:49:19.000Z
SPACECRAFT_ORIENTATION = (0.0,-1.0,0.0)
^MEX_ORIENTATION_DESC = "MEX_ORIENTATION_DESC.TXT"
SPACECRAFT_POINTING_MODE = ACROSSTRACK
^MEX_POINTING_DESC = "MEX_POINTING_DESC.TXT"
RIGHT_ASCENSION = -1e+32
DECLINATION = -1e+32
OFFSET_ANGLE = -0.3
SPACECRAFT_SOLAR_DISTANCE = 2.47162e+08
TARGET_NAME = MARS
/* CAMERA DATA ELEMENTS */
DETECTOR_TEMPERATURE = 18.1666
FOCAL_PLANE_TEMPERATURE = 8.5833
INST_CMPRS_NAME = "DISCRETE COSINE TRANSFORMATION (DCT)"
INST_CMPRS_RATIO = 6.3526
INST_CMPRS_QUALITY = 0
INST_CMPRS_QUANTZ_TBL_ID = 0
INSTRUMENT_TEMPERATURE = 11.0301
LENS_TEMPERATURE = 8.5833
MACROPIXEL_SIZE = 1
MISSING_FRAMES = 0
PIXEL_SUBSAMPLING_FLAG = N
SIGNAL_CHAIN_ID = 0
/* RADIOMETRIC DATA ELEMENTS */
BANDWIDTH = 177.0
CENTER_FILTER_WAVELENGTH = 677.5
RADIANCE_OFFSET = 1.47411
RADIANCE_SCALING_FACTOR = 0.00938021
REFLECTANCE_SCALING_FACTOR = 0.000304409
MEX:REFLECTANCE_OFFSET = 0.0478382
/* IMAGE OBJECT DEFINITIONS */
OBJECT = IMAGE
  INTERCHANGE_FORMAT = BINARY
  LINES = 46302
  LINE_SAMPLES = 7657
  SAMPLE_TYPE = UNSIGNED_INTEGER
  SAMPLE_BITS = 8
  BANDS = 1
  BAND_STORAGE_TYPE = BAND_SEQUENTIAL
  MAXIMUM = 255
  MEAN = 95.2959
  MINIMUM = 1
  STANDARD_DEVIATION = 24.3751
END_OBJECT = IMAGE
/* MAP OBJECT DEFINITIONS */
OBJECT = IMAGE_MAP_PROJECTION
  ^DATA_SET_MAP_PROJECTION_CATALOG= "DSMAP.CAT"
  A_AXIS_RADIUS = 3396.0
  B_AXIS_RADIUS = 3396.0
  C_AXIS_RADIUS = 3396.0
  CENTER_LATITUDE = 0.0
  CENTER_LONGITUDE = 178.0
  COORDINATE_SYSTEM_NAME = PLANETOGRAPHIC
  COORDINATE_SYSTEM_TYPE = "BODY-FIXED ROTATING"
  EASTERNMOST_LONGITUDE = 179.114
  FIRST_STANDARD_PARALLEL = "N/A"
  LINE_FIRST_PIXEL = 1
  LINE_LAST_PIXEL = 46302
  LINE_PROJECTION_OFFSET = 47416.0
  MAP_PROJECTION_ROTATION = 0.0
  MAP_PROJECTION_TYPE = SINUSOIDAL
  MAP_RESOLUTION = 4741.71043093333
  MAP_SCALE = 0.0125
  MAXIMUM_LATITUDE = 9.994770000000001
  MINIMUM_LATITUDE = 0.233869
  POSITIVE_LONGITUDE_DIRECTION = EAST
  REFERENCE_LATITUDE = "N/A"
  REFERENCE_LONGITUDE = "N/A"
  SAMPLE_FIRST_PIXEL = 1
  SAMPLE_LAST_PIXEL = 7657
  SAMPLE_PROJECTION_OFFSET = 2353.0
  SECOND_STANDARD_PARALLEL = "N/A"
  WESTERNMOST_LONGITUDE = 177.545
END_OBJECT = IMAGE_MAP_PROJECTION
/* The JPEG2000 image data file associated with this label. */
OBJECT = COMPRESSED_FILE
  FILE_NAME = "H2969_0000_ND3.JP2"
  RECORD_TYPE = UNDEFINED
  FILE_RECORDS = UNK
  ENCODING_TYPE = "JP2"
  INTERCHANGE_FORMAT = BINARY
  UNCOMPRESSED_FILE_NAME = "H2969_0000_ND3.IMG"
  REQUIRED_STORAGE_BYTES = "354565042"
  ^DESCRIPTION = "JP2INFO.TXT"
END_OBJECT = COMPRESSED_FILE
END
