PDS_VERSION_ID = PDS3
/* FILE DATA ELEMENTS */
RECORD_TYPE = STREAM
/* POINTERS TO DATA OBJECTS */
^COMPRESSED_FILE = "H2970_0000_GR3.JP2"
/* IDENTIFICATION DATA ELEMENTS */
DATA_SET_ID = "MEX-M-HRSC-5-REFDR-MAPPROJECTED-V3.0"
DATA_SET_NAME = "MARS EXPRESS HRSC MAP PROJECTED REFDR V3.0"
DETECTOR_ID = MEX_HRSC_GREEN
EVENT_TYPE = "MARS-REGIONAL-MAPPING-Te-Im-Fl"
INSTRUMENT_HOST_ID = MEX
INSTRUMENT_HOST_NAME = "MARS EXPRESS"
INSTRUMENT_ID = HRSC
INSTRUMENT_NAME = "HIGH RESOLUTION STEREO CAMERA"
MISSION_NAME = "MARS EXPRESS"
MISSION_PHASE_NAME = ME_Phase_3
PROCESSING_LEVEL_ID = 3
PRODUCT_CREATION_TIME = 2016-04-08T13:52:43.000Z
PRODUCT_ID = "H2970_0000_GR3.JP2"
RELEASE_ID = 0036
REVISION_ID = 0000
/* QUALITY DATA ELEMENTS */
DATA_QUALITY_ID = 2
DATA_QUALITY_DESC = "Data calculated based on photogrammetrically improved orbit and attitude data"
/* TIME DATA ELEMENTS */
SPACECRAFT_CLOCK_START_COUNT = "1/0094807106.09413"
SPACECRAFT_CLOCK_STOP_COUNT = "1/0094807455.14375"
START_TIME = 2006-05-04T07:19:53.949Z
STOP_TIME = 2006-05-04T07:23:20.875Z
/* ORBITAL DATA ELEMENTS */
ASCENDING_NODE_LONGITUDE = 165.95
MAXIMUM_RESOLUTION = 87.6
FOOTPRINT_POINT_LATITUDE = (28.8229,28.826,28.8278,28.8276,28.8268 ,28.8241,28.8121,28.593,28.3731,28.1531 ,27.823,27.6013,27.3787,27.1562,26.9332 ,26.7093,26.4847,26.2597,26.034,25.6953 ,25.4689,25.1272,24.8988,24.5552, 24.3261,23.9794,23.7487,23.5176,23.2854 ,23.053,22.8199,22.4709,22.2405,21.8956 ,21.5541,21.2165,20.9915,20.6583,20.436 ,20.2165,19.8882,19.6717,19.348,19.1349 ,18.9207,18.7087,18.4981,18.2868, 17.8713,17.566,17.566,17.5656,17.5632, 17.5604,17.5581,17.5566,18.0748,18.388, 18.8095,19.0233,19.3433,19.6681,19.8844 ,20.213,20.4325,20.7652,20.9874,21.3255 ,21.5516,21.779,22.0064,22.237,22.4677, 22.7003,22.9338,23.1667,23.399,23.6309, 23.8623,24.093,24.3233,24.5531,24.7822, 25.0107,25.3529,25.5802,25.9212,26.1465 ,26.4844,26.7089,26.9331,27.1567, 27.3797,27.6022,27.8244,28.0456,28.2666 ,28.4869,28.7067,28.8229)
FOOTPRINT_POINT_LONGITUDE = (81.4875,81.072,80.5454,80.1027,79.8535 ,79.41,78.9724,78.9854,78.9978,79.011, 79.0322,79.0444,79.0555,79.0677,79.0802 ,79.0915,79.1024,79.1136,79.1243, 79.1418,79.1535,79.1686,79.1786,79.1933 ,79.2044,79.2166,79.2268,79.237,79.2461 ,79.2558,79.265,79.2786,79.2877,79.2993 ,79.313,79.3246,79.3323,79.3441,79.3498 ,79.3568,79.3675,79.3745,79.3856, 79.3931,79.399,79.4053,79.4119,79.4177, 79.4296,79.4383,79.7721,80.0882,80.4964 ,80.9055,81.1657,81.4325,81.4528, 81.4653,81.4823,81.4909,81.5049,81.5173 ,81.5266,81.5401,81.5492,81.5639, 81.5735,81.5874,81.5952,81.6072,81.6182 ,81.629,81.6394,81.6503,81.661,81.6722, 81.6833,81.6944,81.7056,81.7172,81.7285 ,81.7399,81.7516,81.7636,81.7808, 81.7928,81.8087,81.8223,81.8408,81.8532 ,81.8656,81.878,81.8904,81.9032,81.9153 ,81.9285,81.9413,81.9543,81.9674, 81.4875)
ORBIT_NUMBER = 2970
ORBITAL_ECCENTRICITY = 0.573
ORBITAL_INCLINATION = 86.63
ORBITAL_SEMIMAJOR_AXIS = 8621.51
PERIAPSIS_ALTITUDE = 290.01
PERIAPSIS_ARGUMENT_ANGLE = 196.5
PERIAPSIS_TIME = 2006-05-04T07:32:25.000Z
SPACECRAFT_ORIENTATION = (0.0,-1.0,0.0)
^MEX_ORIENTATION_DESC = "MEX_ORIENTATION_DESC.TXT"
SPACECRAFT_POINTING_MODE = NADIR
^MEX_POINTING_DESC = "MEX_POINTING_DESC.TXT"
RIGHT_ASCENSION = -1e+32
DECLINATION = -1e+32
OFFSET_ANGLE = -1e+32
SPACECRAFT_SOLAR_DISTANCE = 2.47183e+08
TARGET_NAME = MARS
/* CAMERA DATA ELEMENTS */
DETECTOR_TEMPERATURE = 18.1666
FOCAL_PLANE_TEMPERATURE = 8.3794
INST_CMPRS_NAME = "DISCRETE COSINE TRANSFORMATION (DCT)"
INST_CMPRS_RATIO = 6.44686
INST_CMPRS_QUALITY = 0
INST_CMPRS_QUANTZ_TBL_ID = 0
INSTRUMENT_TEMPERATURE = 11.234
LENS_TEMPERATURE = 8.7872
MACROPIXEL_SIZE = 4
MISSING_FRAMES = 0
PIXEL_SUBSAMPLING_FLAG = N
SIGNAL_CHAIN_ID = 2
/* RADIOMETRIC DATA ELEMENTS */
BANDWIDTH = 88.0
CENTER_FILTER_WAVELENGTH = 538.0
RADIANCE_OFFSET = 0.624002
RADIANCE_SCALING_FACTOR = 0.00398167
REFLECTANCE_SCALING_FACTOR = 0.000209454
MEX:REFLECTANCE_OFFSET = 0.0328254
/* IMAGE OBJECT DEFINITIONS */
OBJECT = IMAGE
  INTERCHANGE_FORMAT = BINARY
  LINES = 6677
  LINE_SAMPLES = 1560
  SAMPLE_TYPE = UNSIGNED_INTEGER
  SAMPLE_BITS = 8
  BANDS = 1
  BAND_STORAGE_TYPE = BAND_SEQUENTIAL
  MAXIMUM = 255
  MEAN = 102.91
  MINIMUM = 1
  STANDARD_DEVIATION = 23.7832
END_OBJECT = IMAGE
/* MAP OBJECT DEFINITIONS */
OBJECT = IMAGE_MAP_PROJECTION
  ^DATA_SET_MAP_PROJECTION_CATALOG= "DSMAP.CAT"
  A_AXIS_RADIUS = 3396.0
  B_AXIS_RADIUS = 3396.0
  C_AXIS_RADIUS = 3396.0
  CENTER_LATITUDE = 0.0
  CENTER_LONGITUDE = 80.0
  COORDINATE_SYSTEM_NAME = PLANETOGRAPHIC
  COORDINATE_SYSTEM_TYPE = "BODY-FIXED ROTATING"
  EASTERNMOST_LONGITUDE = 81.9674
  FIRST_STANDARD_PARALLEL = "N/A"
  LINE_FIRST_PIXEL = 1
  LINE_LAST_PIXEL = 6677
  LINE_PROJECTION_OFFSET = 17086.875
  MAP_PROJECTION_ROTATION = 0.0
  MAP_PROJECTION_TYPE = SINUSOIDAL
  MAP_RESOLUTION = 592.713803866667
  MAP_SCALE = 0.1
  MAXIMUM_LATITUDE = 28.8278
  MINIMUM_LATITUDE = 17.5566
  POSITIVE_LONGITUDE_DIRECTION = EAST
  REFERENCE_LATITUDE = "N/A"
  REFERENCE_LONGITUDE = "N/A"
  SAMPLE_FIRST_PIXEL = 1
  SAMPLE_LAST_PIXEL = 1560
  SAMPLE_PROJECTION_OFFSET = 536.875
  SECOND_STANDARD_PARALLEL = "N/A"
  WESTERNMOST_LONGITUDE = 78.97239999999999
END_OBJECT = IMAGE_MAP_PROJECTION
/* The JPEG2000 image data file associated with this label. */
OBJECT = COMPRESSED_FILE
  FILE_NAME = "H2970_0000_GR3.JP2"
  RECORD_TYPE = UNDEFINED
  FILE_RECORDS = UNK
  ENCODING_TYPE = "JP2"
  INTERCHANGE_FORMAT = BINARY
  UNCOMPRESSED_FILE_NAME = "H2970_0000_GR3.IMG"
  REQUIRED_STORAGE_BYTES = "10434840"
  ^DESCRIPTION = "JP2INFO.TXT"
END_OBJECT = COMPRESSED_FILE
END
