PDS_VERSION_ID = PDS3
/* FILE DATA ELEMENTS */
RECORD_TYPE = STREAM
/* POINTERS TO DATA OBJECTS */
^COMPRESSED_FILE = "H2979_0000_IR3.JP2"
/* IDENTIFICATION DATA ELEMENTS */
DATA_SET_ID = "MEX-M-HRSC-5-REFDR-MAPPROJECTED-V3.0"
DATA_SET_NAME = "MARS EXPRESS HRSC MAP PROJECTED REFDR V3.0"
DETECTOR_ID = MEX_HRSC_IR
EVENT_TYPE = "MARS-REGIONAL-STEREO-Vo-Te-Fl"
INSTRUMENT_HOST_ID = MEX
INSTRUMENT_HOST_NAME = "MARS EXPRESS"
INSTRUMENT_ID = HRSC
INSTRUMENT_NAME = "HIGH RESOLUTION STEREO CAMERA"
MISSION_NAME = "MARS EXPRESS"
MISSION_PHASE_NAME = ME_Phase_3
PROCESSING_LEVEL_ID = 3
PRODUCT_CREATION_TIME = 2016-04-08T13:52:43.000Z
PRODUCT_ID = "H2979_0000_IR3.JP2"
RELEASE_ID = 0036
REVISION_ID = 0000
/* QUALITY DATA ELEMENTS */
DATA_QUALITY_ID = 2
DATA_QUALITY_DESC = "Data calculated based on photogrammetrically improved orbit and attitude data"
/* TIME DATA ELEMENTS */
SPACECRAFT_CLOCK_START_COUNT = "1/0095025321.07283"
SPACECRAFT_CLOCK_STOP_COUNT = "1/0095025604.16003"
START_TIME = 2006-05-06T19:55:32.681Z
STOP_TIME = 2006-05-06T19:59:20.646Z
/* ORBITAL DATA ELEMENTS */
ASCENDING_NODE_LONGITUDE = 165.75
MAXIMUM_RESOLUTION = 97.3
FOOTPRINT_POINT_LATITUDE = (3.59372,3.60101,3.6071,3.27116,2.75906 ,2.468,2.17604,1.88341,1.59034,1.29655, 1.00189,0.707778,0.411811,0.116194, -0.180387,-0.47753,-0.774999,-1.07165, -1.36689,-1.65518,-1.9445,-2.2342, -2.52499,-2.81542,-3.1028,-3.38496, -3.66705,-3.95797,-4.2561,-4.54259, -4.8258,-5.22154,-5.49583,-5.91031, -6.18685,-6.46446,-6.76029,-7.19632, -7.45923,-7.84616,-8.24474,-8.52615, -9.05341,-9.32204,-9.59225,-9.86287, -10.1337,-10.4049,-10.8202,-10.8252, -10.8317,-10.4262,-10.1553,-9.88462, -9.61419,-9.34392,-9.07396,-8.80441, -8.53808,-8.27064,-7.76672,-7.487, -7.22243,-6.92301,-6.62658,-6.34898, -6.0719,-5.79544,-5.38134,-5.10575, -4.83788,-4.54051,-4.25638,-3.97317, -3.69047,-3.40839,-3.12758,-2.83994, -2.54955,-2.25943,-1.96995,-1.68095, -1.39258,-1.09856,-0.802184,-0.505223, -0.208325,0.0879212,0.383562,0.678598, 0.973097,1.26732,1.56119,1.8548,2.14677 ,2.43896,2.73017,3.06788,3.41382, 3.59372)
FOOTPRINT_POINT_LONGITUDE = (276.514,276.122,275.744,275.55,275.555 ,275.559,275.562,275.565,275.568,275.57 ,275.573,275.576,275.578,275.581, 275.584,275.586,275.588,275.591,275.594 ,275.596,275.598,275.6,275.602,275.604, 275.606,275.608,275.61,275.61,275.609, 275.61,275.612,275.619,275.62,275.622, 275.624,275.625,275.622,275.62,275.624, 275.629,275.632,275.63,275.634,275.636, 275.636,275.637,275.638,275.639,275.782 ,276.099,276.497,276.67,276.671,276.672 ,276.672,276.673,276.674,276.676, 276.678,276.681,276.702,276.698,276.707 ,276.697,276.689,276.691,276.692, 276.695,276.698,276.701,276.71,276.706, 276.709,276.713,276.716,276.72,276.724, 276.728,276.732,276.736,276.74,276.745, 276.75,276.755,276.761,276.766,276.77, 276.775,276.781,276.786,276.791,276.797 ,276.802,276.807,276.813,276.819, 276.825,276.832,276.839,276.514)
ORBIT_NUMBER = 2979
ORBITAL_ECCENTRICITY = 0.573
ORBITAL_INCLINATION = 86.63
ORBITAL_SEMIMAJOR_AXIS = 8625.48
PERIAPSIS_ALTITUDE = 290.68
PERIAPSIS_ARGUMENT_ANGLE = 194.93
PERIAPSIS_TIME = 2006-05-06T20:00:43.000Z
SPACECRAFT_ORIENTATION = (0.0,-1.0,0.0)
^MEX_ORIENTATION_DESC = "MEX_ORIENTATION_DESC.TXT"
SPACECRAFT_POINTING_MODE = ACROSSTRACK
^MEX_POINTING_DESC = "MEX_POINTING_DESC.TXT"
RIGHT_ASCENSION = -1e+32
DECLINATION = -1e+32
OFFSET_ANGLE = 0.25
SPACECRAFT_SOLAR_DISTANCE = 2.47373e+08
TARGET_NAME = MARS
/* CAMERA DATA ELEMENTS */
DETECTOR_TEMPERATURE = 17.5549
FOCAL_PLANE_TEMPERATURE = 8.1755
INST_CMPRS_NAME = "DISCRETE COSINE TRANSFORMATION (DCT)"
INST_CMPRS_RATIO = 19.6593
INST_CMPRS_QUALITY = 0
INST_CMPRS_QUANTZ_TBL_ID = 0
INSTRUMENT_TEMPERATURE = 11.0301
LENS_TEMPERATURE = 8.3794
MACROPIXEL_SIZE = 8
MISSING_FRAMES = 0
PIXEL_SUBSAMPLING_FLAG = N
SIGNAL_CHAIN_ID = 2
/* RADIOMETRIC DATA ELEMENTS */
BANDWIDTH = 81.0
CENTER_FILTER_WAVELENGTH = 955.5
RADIANCE_OFFSET = 0.141887
RADIANCE_SCALING_FACTOR = 0.00386017
REFLECTANCE_SCALING_FACTOR = 0.000509608
MEX:REFLECTANCE_OFFSET = 0.0187315
/* IMAGE OBJECT DEFINITIONS */
OBJECT = IMAGE
  INTERCHANGE_FORMAT = BINARY
  LINES = 8560
  LINE_SAMPLES = 795
  SAMPLE_TYPE = UNSIGNED_INTEGER
  SAMPLE_BITS = 8
  BANDS = 1
  BAND_STORAGE_TYPE = BAND_SEQUENTIAL
  MAXIMUM = 254
  MEAN = 96.8119
  MINIMUM = 1
  STANDARD_DEVIATION = 39.1098
END_OBJECT = IMAGE
/* MAP OBJECT DEFINITIONS */
OBJECT = IMAGE_MAP_PROJECTION
  ^DATA_SET_MAP_PROJECTION_CATALOG= "DSMAP.CAT"
  A_AXIS_RADIUS = 3396.0
  B_AXIS_RADIUS = 3396.0
  C_AXIS_RADIUS = 3396.0
  CENTER_LATITUDE = 0.0
  CENTER_LONGITUDE = 276.0
  COORDINATE_SYSTEM_NAME = PLANETOGRAPHIC
  COORDINATE_SYSTEM_TYPE = "BODY-FIXED ROTATING"
  EASTERNMOST_LONGITUDE = 276.839
  FIRST_STANDARD_PARALLEL = "N/A"
  LINE_FIRST_PIXEL = 1
  LINE_LAST_PIXEL = 8560
  LINE_PROJECTION_OFFSET = 2136.3125
  MAP_PROJECTION_ROTATION = 0.0
  MAP_PROJECTION_TYPE = SINUSOIDAL
  MAP_RESOLUTION = 592.713803866667
  MAP_SCALE = 0.1
  MAXIMUM_LATITUDE = 3.6071
  MINIMUM_LATITUDE = -10.8317
  POSITIVE_LONGITUDE_DIRECTION = EAST
  REFERENCE_LATITUDE = "N/A"
  REFERENCE_LONGITUDE = "N/A"
  SAMPLE_FIRST_PIXEL = 1
  SAMPLE_LAST_PIXEL = 795
  SAMPLE_PROJECTION_OFFSET = 276.5625
  SECOND_STANDARD_PARALLEL = "N/A"
  WESTERNMOST_LONGITUDE = 275.55
END_OBJECT = IMAGE_MAP_PROJECTION
/* The JPEG2000 image data file associated with this label. */
OBJECT = COMPRESSED_FILE
  FILE_NAME = "H2979_0000_IR3.JP2"
  RECORD_TYPE = UNDEFINED
  FILE_RECORDS = UNK
  ENCODING_TYPE = "JP2"
  INTERCHANGE_FORMAT = BINARY
  UNCOMPRESSED_FILE_NAME = "H2979_0000_IR3.IMG"
  REQUIRED_STORAGE_BYTES = "6822690"
  ^DESCRIPTION = "JP2INFO.TXT"
END_OBJECT = COMPRESSED_FILE
END
