PDS_VERSION_ID = PDS3
/* FILE DATA ELEMENTS */
RECORD_TYPE = STREAM
/* POINTERS TO DATA OBJECTS */
^COMPRESSED_FILE = "H2979_0000_S13.JP2"
/* IDENTIFICATION DATA ELEMENTS */
DATA_SET_ID = "MEX-M-HRSC-5-REFDR-MAPPROJECTED-V3.0"
DATA_SET_NAME = "MARS EXPRESS HRSC MAP PROJECTED REFDR V3.0"
DETECTOR_ID = MEX_HRSC_S1
EVENT_TYPE = "MARS-REGIONAL-STEREO-Vo-Te-Fl"
INSTRUMENT_HOST_ID = MEX
INSTRUMENT_HOST_NAME = "MARS EXPRESS"
INSTRUMENT_ID = HRSC
INSTRUMENT_NAME = "HIGH RESOLUTION STEREO CAMERA"
MISSION_NAME = "MARS EXPRESS"
MISSION_PHASE_NAME = ME_Phase_3
PROCESSING_LEVEL_ID = 3
PRODUCT_CREATION_TIME = 2016-04-08T13:52:43.000Z
PRODUCT_ID = "H2979_0000_S13.JP2"
RELEASE_ID = 0036
REVISION_ID = 0000
/* QUALITY DATA ELEMENTS */
DATA_QUALITY_ID = 2
DATA_QUALITY_DESC = "Data calculated based on photogrammetrically improved orbit and attitude data"
/* TIME DATA ELEMENTS */
SPACECRAFT_CLOCK_START_COUNT = "1/0095025321.07283"
SPACECRAFT_CLOCK_STOP_COUNT = "1/0095025604.16003"
START_TIME = 2006-05-06T19:55:26.568Z
STOP_TIME = 2006-05-06T19:59:15.925Z
/* ORBITAL DATA ELEMENTS */
ASCENDING_NODE_LONGITUDE = 165.75
MAXIMUM_RESOLUTION = 24.8
FOOTPRINT_POINT_LATITUDE = (3.58508,3.5899,3.59865,3.60614,3.44712 ,3.10213,2.75598,2.41491,1.97776, 1.68563,1.39251,1.09885,0.805179, 0.36252,0.0672381,-0.229076,-0.526071, -0.970899,-1.41633,-1.71168,-2.00074, -2.29064,-2.5813,-2.87212,-3.16361, -3.45071,-3.73316,-4.03174,-4.32714, -4.61669,-4.89281,-5.30051,-5.57357, -5.85064,-6.1279,-6.40615,-6.85714, -7.14812,-7.40885,-7.68911,-7.93472, -8.20359,-8.48985,-8.88484,-9.15077, -9.42174,-9.69325,-9.96527,-10.2376, -10.5102,-10.7829,-10.8014,-10.8062, -10.8138,-10.543,-10.2708,-9.8627, -9.45531,-9.04849,-8.77793,-8.51119, -8.24312,-8.00562,-7.7401,-7.4543, -7.18936,-6.86954,-6.5804,-6.30235, -5.88587,-5.47091,-5.19036,-4.77997, -4.47714,-4.19289,-3.90964,-3.6268, -3.34487,-2.90873,-2.61769,-2.32787, -1.89394,-1.45515,-1.15849,-0.862837, -0.566346,-0.269672,0.0263322,0.321614, 0.61627,0.910276,1.20399,1.49736, 1.79089,2.08183,2.37322,2.71202,3.05777 ,3.40265,3.58508)
FOOTPRINT_POINT_LONGITUDE = (276.725,276.518,276.105,275.696,275.53 ,275.534,275.538,275.542,275.547,275.55 ,275.553,275.556,275.559,275.563, 275.566,275.569,275.571,275.575,275.579 ,275.582,275.584,275.586,275.589, 275.591,275.593,275.595,275.597,275.596 ,275.596,275.597,275.6,275.606,275.608, 275.609,275.611,275.612,275.608,275.608 ,275.612,275.613,275.619,275.62,275.618 ,275.622,275.624,275.625,275.626, 275.626,275.627,275.628,275.629,275.939 ,276.18,276.566,276.672,276.673,276.674 ,276.676,276.677,276.679,276.682, 276.684,276.7,276.705,276.704,276.712, 276.695,276.692,276.694,276.698,276.701 ,276.704,276.716,276.711,276.714, 276.718,276.721,276.725,276.731,276.736 ,276.74,276.747,276.754,276.76,276.765, 276.77,276.775,276.78,276.786,276.791, 276.797,276.802,276.808,276.813,276.819 ,276.825,276.832,276.839,276.847, 276.725)
ORBIT_NUMBER = 2979
ORBITAL_ECCENTRICITY = 0.573
ORBITAL_INCLINATION = 86.63
ORBITAL_SEMIMAJOR_AXIS = 8625.48
PERIAPSIS_ALTITUDE = 290.68
PERIAPSIS_ARGUMENT_ANGLE = 194.93
PERIAPSIS_TIME = 2006-05-06T20:00:43.000Z
SPACECRAFT_ORIENTATION = (0.0,-1.0,0.0)
^MEX_ORIENTATION_DESC = "MEX_ORIENTATION_DESC.TXT"
SPACECRAFT_POINTING_MODE = ACROSSTRACK
^MEX_POINTING_DESC = "MEX_POINTING_DESC.TXT"
RIGHT_ASCENSION = -1e+32
DECLINATION = -1e+32
OFFSET_ANGLE = 0.25
SPACECRAFT_SOLAR_DISTANCE = 2.47373e+08
TARGET_NAME = MARS
/* CAMERA DATA ELEMENTS */
DETECTOR_TEMPERATURE = 17.5549
FOCAL_PLANE_TEMPERATURE = 8.1755
INST_CMPRS_NAME = "DISCRETE COSINE TRANSFORMATION (DCT)"
INST_CMPRS_RATIO = 13.0449
INST_CMPRS_QUALITY = 0
INST_CMPRS_QUANTZ_TBL_ID = 0
INSTRUMENT_TEMPERATURE = 11.0301
LENS_TEMPERATURE = 8.3794
MACROPIXEL_SIZE = 2
MISSING_FRAMES = 0
PIXEL_SUBSAMPLING_FLAG = N
SIGNAL_CHAIN_ID = 1
/* RADIOMETRIC DATA ELEMENTS */
BANDWIDTH = 180.0
CENTER_FILTER_WAVELENGTH = 677.0
RADIANCE_OFFSET = 0.795648
RADIANCE_SCALING_FACTOR = 0.0144309
REFLECTANCE_SCALING_FACTOR = 0.00046072
MEX:REFLECTANCE_OFFSET = 0.0254018
/* IMAGE OBJECT DEFINITIONS */
OBJECT = IMAGE
  INTERCHANGE_FORMAT = BINARY
  LINES = 34238
  LINE_SAMPLES = 3177
  SAMPLE_TYPE = UNSIGNED_INTEGER
  SAMPLE_BITS = 8
  BANDS = 1
  BAND_STORAGE_TYPE = BAND_SEQUENTIAL
  MAXIMUM = 255
  MEAN = 100.974
  MINIMUM = 1
  STANDARD_DEVIATION = 39.7924
END_OBJECT = IMAGE
/* MAP OBJECT DEFINITIONS */
OBJECT = IMAGE_MAP_PROJECTION
  ^DATA_SET_MAP_PROJECTION_CATALOG= "DSMAP.CAT"
  A_AXIS_RADIUS = 3396.0
  B_AXIS_RADIUS = 3396.0
  C_AXIS_RADIUS = 3396.0
  CENTER_LATITUDE = 0.0
  CENTER_LONGITUDE = 276.0
  COORDINATE_SYSTEM_NAME = PLANETOGRAPHIC
  COORDINATE_SYSTEM_TYPE = "BODY-FIXED ROTATING"
  EASTERNMOST_LONGITUDE = 276.847
  FIRST_STANDARD_PARALLEL = "N/A"
  LINE_FIRST_PIXEL = 1
  LINE_LAST_PIXEL = 34238
  LINE_PROJECTION_OFFSET = 8546.75
  MAP_PROJECTION_ROTATION = 0.0
  MAP_PROJECTION_TYPE = SINUSOIDAL
  MAP_RESOLUTION = 2370.85521546667
  MAP_SCALE = 0.025
  MAXIMUM_LATITUDE = 3.60614
  MINIMUM_LATITUDE = -10.8138
  POSITIVE_LONGITUDE_DIRECTION = EAST
  REFERENCE_LATITUDE = "N/A"
  REFERENCE_LONGITUDE = "N/A"
  SAMPLE_FIRST_PIXEL = 1
  SAMPLE_LAST_PIXEL = 3177
  SAMPLE_PROJECTION_OFFSET = 1107.75
  SECOND_STANDARD_PARALLEL = "N/A"
  WESTERNMOST_LONGITUDE = 275.53
END_OBJECT = IMAGE_MAP_PROJECTION
/* The JPEG2000 image data file associated with this label. */
OBJECT = COMPRESSED_FILE
  FILE_NAME = "H2979_0000_S13.JP2"
  RECORD_TYPE = UNDEFINED
  FILE_RECORDS = UNK
  ENCODING_TYPE = "JP2"
  INTERCHANGE_FORMAT = BINARY
  UNCOMPRESSED_FILE_NAME = "H2979_0000_S13.IMG"
  REQUIRED_STORAGE_BYTES = "108796365"
  ^DESCRIPTION = "JP2INFO.TXT"
END_OBJECT = COMPRESSED_FILE
END
