PDS_VERSION_ID = PDS3
/* FILE DATA ELEMENTS */
RECORD_TYPE = STREAM
/* POINTERS TO DATA OBJECTS */
^COMPRESSED_FILE = "H2980_0000_P23.JP2"
/* IDENTIFICATION DATA ELEMENTS */
DATA_SET_ID = "MEX-M-HRSC-5-REFDR-MAPPROJECTED-V3.0"
DATA_SET_NAME = "MARS EXPRESS HRSC MAP PROJECTED REFDR V3.0"
DETECTOR_ID = MEX_HRSC_P2
EVENT_TYPE = "MARS-REGIONAL-MAPPING-Vo-Eo"
INSTRUMENT_HOST_ID = MEX
INSTRUMENT_HOST_NAME = "MARS EXPRESS"
INSTRUMENT_ID = HRSC
INSTRUMENT_NAME = "HIGH RESOLUTION STEREO CAMERA"
MISSION_NAME = "MARS EXPRESS"
MISSION_PHASE_NAME = ME_Phase_3
PROCESSING_LEVEL_ID = 3
PRODUCT_CREATION_TIME = 2016-04-08T13:52:43.000Z
PRODUCT_ID = "H2980_0000_P23.JP2"
RELEASE_ID = 0036
REVISION_ID = 0000
/* QUALITY DATA ELEMENTS */
DATA_QUALITY_ID = 2
DATA_QUALITY_DESC = "Data calculated based on photogrammetrically improved orbit and attitude data"
/* TIME DATA ELEMENTS */
SPACECRAFT_CLOCK_START_COUNT = "1/0095049409.07281"
SPACECRAFT_CLOCK_STOP_COUNT = "1/0095049635.56384"
START_TIME = 2006-05-07T02:38:00.752Z
STOP_TIME = 2006-05-07T02:40:29.614Z
/* ORBITAL DATA ELEMENTS */
ASCENDING_NODE_LONGITUDE = 165.73
MAXIMUM_RESOLUTION = 54.3
FOOTPRINT_POINT_LATITUDE = (9.479,9.48286,9.48682,9.49092,9.49511, 9.5187,9.19193,8.97394,8.75576,8.53743, 8.31901,8.1004,7.88167,7.66281,7.4438, 7.22469,7.00542,6.78603,6.56654,6.34689 ,6.12715,5.91983,5.7355,5.55109,5.36661 ,5.18202,4.99736,4.81265,4.62784, 4.44298,4.25802,4.07302,3.88795,3.70279 ,3.51755,3.33225,3.14689,2.96147, 2.77598,2.59043,2.40482,2.21907,2.03303 ,1.75386,1.56794,1.20794,0.757722, 0.307296,0.0367225,-0.144019,-0.29048, -0.299673,-0.30562,-0.31197,0.0478188, 0.408676,0.679197,0.859819,1.13033, 1.49016,1.67428,1.86026,2.13909,2.41795 ,2.60353,2.78905,2.97449,3.15988, 3.34521,3.53051,3.71567,3.90078,4.08581 ,4.27077,4.45566,4.64048,4.82524, 5.00994,5.19455,5.37906,5.56348,5.74783 ,5.93214,6.14697,6.3667,6.58626,6.80571 ,7.02508,7.24425,7.46333,7.68226, 7.90109,8.1198,8.33834,8.55678,8.77502, 8.99318,9.21112,9.42897,9.479)
FOOTPRINT_POINT_LONGITUDE = (177.685,177.476,177.266,177.055, 176.843,176.572,176.577,176.58,176.583, 176.586,176.589,176.592,176.595,176.598 ,176.601,176.603,176.606,176.609, 176.611,176.614,176.616,176.618,176.62, 176.622,176.624,176.626,176.628,176.63, 176.632,176.633,176.635,176.637,176.639 ,176.64,176.642,176.643,176.645,176.646 ,176.648,176.649,176.651,176.652, 176.654,176.656,176.657,176.66,176.663, 176.665,176.667,176.668,176.833,177.224 ,177.493,177.827,177.832,177.837, 177.841,177.844,177.848,177.853,177.856 ,177.858,177.863,177.867,177.87,177.873 ,177.876,177.879,177.882,177.885, 177.888,177.892,177.895,177.898,177.901 ,177.904,177.908,177.911,177.914, 177.918,177.921,177.925,177.928,177.932 ,177.937,177.941,177.945,177.949, 177.954,177.958,177.963,177.967,177.972 ,177.977,177.981,177.986,177.991, 177.995,178.0,177.685)
ORBIT_NUMBER = 2980
ORBITAL_ECCENTRICITY = 0.572
ORBITAL_INCLINATION = 86.63
ORBITAL_SEMIMAJOR_AXIS = 8614.29
PERIAPSIS_ALTITUDE = 291.48
PERIAPSIS_ARGUMENT_ANGLE = 194.72
PERIAPSIS_TIME = 2006-05-07T02:43:48.000Z
SPACECRAFT_ORIENTATION = (0.0,-1.0,0.0)
^MEX_ORIENTATION_DESC = "MEX_ORIENTATION_DESC.TXT"
SPACECRAFT_POINTING_MODE = ACROSSTRACK
^MEX_POINTING_DESC = "MEX_POINTING_DESC.TXT"
RIGHT_ASCENSION = -1e+32
DECLINATION = -1e+32
OFFSET_ANGLE = -0.4
SPACECRAFT_SOLAR_DISTANCE = 2.47393e+08
TARGET_NAME = MARS
/* CAMERA DATA ELEMENTS */
DETECTOR_TEMPERATURE = 18.9822
FOCAL_PLANE_TEMPERATURE = 8.5833
INST_CMPRS_NAME = "DISCRETE COSINE TRANSFORMATION (DCT)"
INST_CMPRS_RATIO = 8.59349
INST_CMPRS_QUALITY = 0
INST_CMPRS_QUANTZ_TBL_ID = 0
INSTRUMENT_TEMPERATURE = 11.4379
LENS_TEMPERATURE = 8.9911
MACROPIXEL_SIZE = 4
MISSING_FRAMES = 0
PIXEL_SUBSAMPLING_FLAG = N
SIGNAL_CHAIN_ID = 3
/* RADIOMETRIC DATA ELEMENTS */
BANDWIDTH = 177.0
CENTER_FILTER_WAVELENGTH = 676.5
RADIANCE_OFFSET = 1.8795
RADIANCE_SCALING_FACTOR = 0.0103562
REFLECTANCE_SCALING_FACTOR = 0.000336071
MEX:REFLECTANCE_OFFSET = 0.0609923
/* IMAGE OBJECT DEFINITIONS */
OBJECT = IMAGE
  INTERCHANGE_FORMAT = BINARY
  LINES = 11629
  LINE_SAMPLES = 1816
  SAMPLE_TYPE = UNSIGNED_INTEGER
  SAMPLE_BITS = 8
  BANDS = 1
  BAND_STORAGE_TYPE = BAND_SEQUENTIAL
  MAXIMUM = 255
  MEAN = 95.7227
  MINIMUM = 1
  STANDARD_DEVIATION = 22.1332
END_OBJECT = IMAGE
/* MAP OBJECT DEFINITIONS */
OBJECT = IMAGE_MAP_PROJECTION
  ^DATA_SET_MAP_PROJECTION_CATALOG= "DSMAP.CAT"
  A_AXIS_RADIUS = 3396.0
  B_AXIS_RADIUS = 3396.0
  C_AXIS_RADIUS = 3396.0
  CENTER_LATITUDE = 0.0
  CENTER_LONGITUDE = 177.0
  COORDINATE_SYSTEM_NAME = PLANETOGRAPHIC
  COORDINATE_SYSTEM_TYPE = "BODY-FIXED ROTATING"
  EASTERNMOST_LONGITUDE = 178.0
  FIRST_STANDARD_PARALLEL = "N/A"
  LINE_FIRST_PIXEL = 1
  LINE_LAST_PIXEL = 11629
  LINE_PROJECTION_OFFSET = 11266.875
  MAP_PROJECTION_ROTATION = 0.0
  MAP_PROJECTION_TYPE = SINUSOIDAL
  MAP_RESOLUTION = 1185.42760773333
  MAP_SCALE = 0.05
  MAXIMUM_LATITUDE = 9.518700000000001
  MINIMUM_LATITUDE = -0.31197
  POSITIVE_LONGITUDE_DIRECTION = EAST
  REFERENCE_LATITUDE = "N/A"
  REFERENCE_LONGITUDE = "N/A"
  SAMPLE_FIRST_PIXEL = 1
  SAMPLE_LAST_PIXEL = 1816
  SAMPLE_PROJECTION_OFFSET = 595.625
  SECOND_STANDARD_PARALLEL = "N/A"
  WESTERNMOST_LONGITUDE = 176.572
END_OBJECT = IMAGE_MAP_PROJECTION
/* The JPEG2000 image data file associated with this label. */
OBJECT = COMPRESSED_FILE
  FILE_NAME = "H2980_0000_P23.JP2"
  RECORD_TYPE = UNDEFINED
  FILE_RECORDS = UNK
  ENCODING_TYPE = "JP2"
  INTERCHANGE_FORMAT = BINARY
  UNCOMPRESSED_FILE_NAME = "H2980_0000_P23.IMG"
  REQUIRED_STORAGE_BYTES = "21138240"
  ^DESCRIPTION = "JP2INFO.TXT"
END_OBJECT = COMPRESSED_FILE
END
