PDS_VERSION_ID = PDS3
/* FILE DATA ELEMENTS */
RECORD_TYPE = STREAM
/* POINTERS TO DATA OBJECTS */
^COMPRESSED_FILE = "H2983_0000_P13.JP2"
/* IDENTIFICATION DATA ELEMENTS */
DATA_SET_ID = "MEX-M-HRSC-5-REFDR-MAPPROJECTED-V3.0"
DATA_SET_NAME = "MARS EXPRESS HRSC MAP PROJECTED REFDR V3.0"
DETECTOR_ID = MEX_HRSC_P1
EVENT_TYPE = "MARS-REGIONAL-MAPPING-Vo-Te-Eo"
INSTRUMENT_HOST_ID = MEX
INSTRUMENT_HOST_NAME = "MARS EXPRESS"
INSTRUMENT_ID = HRSC
INSTRUMENT_NAME = "HIGH RESOLUTION STEREO CAMERA"
MISSION_NAME = "MARS EXPRESS"
MISSION_PHASE_NAME = ME_Phase_3
PROCESSING_LEVEL_ID = 3
PRODUCT_CREATION_TIME = 2016-04-08T13:52:43.000Z
PRODUCT_ID = "H2983_0000_P13.JP2"
RELEASE_ID = 0036
REVISION_ID = 0000
/* QUALITY DATA ELEMENTS */
DATA_QUALITY_ID = 1
DATA_QUALITY_DESC = "Data calculated based on original SPICE kernels"
/* TIME DATA ELEMENTS */
SPACECRAFT_CLOCK_START_COUNT = "1/0095121493.07281"
SPACECRAFT_CLOCK_STOP_COUNT = "1/0095121951.06970"
START_TIME = 2006-05-07T22:39:00.880Z
STOP_TIME = 2006-05-07T22:44:37.354Z
/* ORBITAL DATA ELEMENTS */
ASCENDING_NODE_LONGITUDE = 165.67
MAXIMUM_RESOLUTION = 42.1
FOOTPRINT_POINT_LATITUDE = (33.4322,33.4366,33.4372,33.431,33.4224 ,33.188,32.7792,32.3736,31.9729,31.5746 ,31.1801,30.7889,30.4009,30.0169, 29.6357,29.2578,28.8831,28.5114,28.1429 ,27.7771,27.4145,27.0547,26.6979, 26.3439,25.9934,25.6454,25.3,24.9569, 24.6163,24.2791,23.9448,23.6124,23.2823 ,22.9555,22.631,22.3083,21.9885,21.6715 ,21.3556,21.0432,20.5788,20.1197,19.812 ,19.5144,19.2148,18.9174,18.4754, 17.8929,17.3179,16.7508,16.4334,16.4344 ,16.4334,16.4309,16.4281,16.9913, 17.5625,18.1417,18.7278,19.0254,19.4737 ,19.7749,20.079,20.539,20.8478,21.1601, 21.4733,21.7896,22.1083,22.4286,22.7523 ,23.0786,23.4066,23.9043,24.2388, 24.5767,24.9172,25.2603,25.6058,25.9538 ,26.3049,26.6592,27.0163,27.3764, 27.7393,28.1051,28.4741,28.8463,29.2217 ,29.6002,29.9823,30.3672,30.755,31.1474 ,31.5429,31.942,32.3441,32.7507,33.161, 33.4322)
FOOTPRINT_POINT_LONGITUDE = (244.504,243.943,243.242,242.438, 241.877,241.175,241.209,241.241,241.272 ,241.302,241.331,241.359,241.386, 241.412,241.437,241.462,241.486,241.509 ,241.532,241.553,241.574,241.595, 241.615,241.634,241.653,241.671,241.688 ,241.705,241.722,241.738,241.753, 241.769,241.783,241.798,241.811,241.825 ,241.838,241.851,241.864,241.876, 241.893,241.911,241.92,241.932,241.943, 241.953,241.968,241.987,242.005,242.022 ,242.139,242.482,243.113,243.528, 243.895,243.916,243.938,243.96,243.984, 243.996,244.014,244.027,244.04,244.059, 244.073,244.086,244.101,244.115,244.13, 244.144,244.16,244.175,244.191,244.215, 244.232,244.249,244.266,244.284,244.302 ,244.321,244.34,244.359,244.379,244.399 ,244.42,244.441,244.463,244.486,244.508 ,244.532,244.556,244.58,244.606,244.631 ,244.658,244.685,244.713,244.741,244.77 ,244.504)
ORBIT_NUMBER = 2983
ORBITAL_ECCENTRICITY = 0.573
ORBITAL_INCLINATION = 86.62
ORBITAL_SEMIMAJOR_AXIS = 8630.93
PERIAPSIS_ALTITUDE = 291.06
PERIAPSIS_ARGUMENT_ANGLE = 194.22
PERIAPSIS_TIME = 2006-05-07T22:53:07.000Z
SPACECRAFT_ORIENTATION = (0.0,-1.0,0.0)
^MEX_ORIENTATION_DESC = "MEX_ORIENTATION_DESC.TXT"
SPACECRAFT_POINTING_MODE = NADIR
^MEX_POINTING_DESC = "MEX_POINTING_DESC.TXT"
RIGHT_ASCENSION = -1e+32
DECLINATION = -1e+32
OFFSET_ANGLE = -1e+32
SPACECRAFT_SOLAR_DISTANCE = 2.47454e+08
TARGET_NAME = MARS
/* CAMERA DATA ELEMENTS */
DETECTOR_TEMPERATURE = 17.5549
FOCAL_PLANE_TEMPERATURE = 8.1755
INST_CMPRS_NAME = "DISCRETE COSINE TRANSFORMATION (DCT)"
INST_CMPRS_RATIO = 7.76633
INST_CMPRS_QUALITY = 0
INST_CMPRS_QUANTZ_TBL_ID = 0
INSTRUMENT_TEMPERATURE = 11.0301
LENS_TEMPERATURE = 8.5833
MACROPIXEL_SIZE = 2
MISSING_FRAMES = 0
PIXEL_SUBSAMPLING_FLAG = N
SIGNAL_CHAIN_ID = 3
/* RADIOMETRIC DATA ELEMENTS */
BANDWIDTH = 174.0
CENTER_FILTER_WAVELENGTH = 675.0
RADIANCE_OFFSET = 2.08303
RADIANCE_SCALING_FACTOR = 0.0208617
REFLECTANCE_SCALING_FACTOR = 0.000687103
MEX:REFLECTANCE_OFFSET = 0.0686068
/* IMAGE OBJECT DEFINITIONS */
OBJECT = IMAGE
  INTERCHANGE_FORMAT = BINARY
  LINES = 20147
  LINE_SAMPLES = 3318
  SAMPLE_TYPE = UNSIGNED_INTEGER
  SAMPLE_BITS = 8
  BANDS = 1
  BAND_STORAGE_TYPE = BAND_SEQUENTIAL
  MAXIMUM = 255
  MEAN = 108.001
  MINIMUM = 1
  STANDARD_DEVIATION = 14.0282
END_OBJECT = IMAGE
/* MAP OBJECT DEFINITIONS */
OBJECT = IMAGE_MAP_PROJECTION
  ^DATA_SET_MAP_PROJECTION_CATALOG= "DSMAP.CAT"
  A_AXIS_RADIUS = 3396.0
  B_AXIS_RADIUS = 3396.0
  C_AXIS_RADIUS = 3396.0
  CENTER_LATITUDE = 0.0
  CENTER_LONGITUDE = 243.0
  COORDINATE_SYSTEM_NAME = PLANETOGRAPHIC
  COORDINATE_SYSTEM_TYPE = "BODY-FIXED ROTATING"
  EASTERNMOST_LONGITUDE = 244.77
  FIRST_STANDARD_PARALLEL = "N/A"
  LINE_FIRST_PIXEL = 1
  LINE_LAST_PIXEL = 20147
  LINE_PROJECTION_OFFSET = 39597.75
  MAP_PROJECTION_ROTATION = 0.0
  MAP_PROJECTION_TYPE = SINUSOIDAL
  MAP_RESOLUTION = 1185.42760773333
  MAP_SCALE = 0.05
  MAXIMUM_LATITUDE = 33.4372
  MINIMUM_LATITUDE = 16.4281
  POSITIVE_LONGITUDE_DIRECTION = EAST
  REFERENCE_LATITUDE = "N/A"
  REFERENCE_LONGITUDE = "N/A"
  SAMPLE_FIRST_PIXEL = 1
  SAMPLE_LAST_PIXEL = 3318
  SAMPLE_PROJECTION_OFFSET = 1691.25
  SECOND_STANDARD_PARALLEL = "N/A"
  WESTERNMOST_LONGITUDE = 241.175
END_OBJECT = IMAGE_MAP_PROJECTION
/* The JPEG2000 image data file associated with this label. */
OBJECT = COMPRESSED_FILE
  FILE_NAME = "H2983_0000_P13.JP2"
  RECORD_TYPE = UNDEFINED
  FILE_RECORDS = UNK
  ENCODING_TYPE = "JP2"
  INTERCHANGE_FORMAT = BINARY
  UNCOMPRESSED_FILE_NAME = "H2983_0000_P13.IMG"
  REQUIRED_STORAGE_BYTES = "66870972"
  ^DESCRIPTION = "JP2INFO.TXT"
END_OBJECT = COMPRESSED_FILE
END
