PDS_VERSION_ID = PDS3
/* FILE DATA ELEMENTS */
RECORD_TYPE = STREAM
/* POINTERS TO DATA OBJECTS */
^COMPRESSED_FILE = "H2985_0000_GR3.JP2"
/* IDENTIFICATION DATA ELEMENTS */
DATA_SET_ID = "MEX-M-HRSC-5-REFDR-MAPPROJECTED-V3.0"
DATA_SET_NAME = "MARS EXPRESS HRSC MAP PROJECTED REFDR V3.0"
DETECTOR_ID = MEX_HRSC_GREEN
EVENT_TYPE = "MARS-REGIONAL-MAPPING-Te-Im-Fl"
INSTRUMENT_HOST_ID = MEX
INSTRUMENT_HOST_NAME = "MARS EXPRESS"
INSTRUMENT_ID = HRSC
INSTRUMENT_NAME = "HIGH RESOLUTION STEREO CAMERA"
MISSION_NAME = "MARS EXPRESS"
MISSION_PHASE_NAME = ME_Phase_3
PROCESSING_LEVEL_ID = 3
PRODUCT_CREATION_TIME = 2016-04-08T13:52:43.000Z
PRODUCT_ID = "H2985_0000_GR3.JP2"
RELEASE_ID = 0036
REVISION_ID = 0000
/* QUALITY DATA ELEMENTS */
DATA_QUALITY_ID = 2
DATA_QUALITY_DESC = "Data calculated based on photogrammetrically improved orbit and attitude data"
/* TIME DATA ELEMENTS */
SPACECRAFT_CLOCK_START_COUNT = "1/0095169756.08254"
SPACECRAFT_CLOCK_STOP_COUNT = "1/0095170228.22147"
START_TIME = 2006-05-08T12:04:36.836Z
STOP_TIME = 2006-05-08T12:09:26.938Z
/* ORBITAL DATA ELEMENTS */
ASCENDING_NODE_LONGITUDE = 165.63
MAXIMUM_RESOLUTION = 95.4
FOOTPRINT_POINT_LATITUDE = (38.2378,38.2429,38.244,38.2419,38.2362 ,38.2252,38.214,38.0215,37.6708,37.3226 ,36.9774,36.6349,36.2948,35.9575, 35.6228,35.2905,34.9602,34.6322,34.3068 ,33.9831,33.663,33.3446,33.0282,32.715, 32.4036,32.0938,31.7863,31.4809,31.1784 ,30.8779,30.5792,30.282,29.9879,29.6948 ,29.4044,29.1156,28.8298,28.5447, 28.2622,27.9814,27.7016,27.4245,27.0121 ,26.604,26.333,26.0649,25.6654,25.1386, 24.6185,24.1043,23.5965,23.2603,23.262, 23.2631,23.2622,23.2594,23.2579,23.7601 ,24.1427,24.6578,25.179,25.5744,26.1078 ,26.513,26.7841,27.058,27.4709,27.8885, 28.3104,28.5938,28.8799,29.167,29.6021, 29.8939,30.189,30.4861,30.7842,31.0844, 31.3876,31.693,32.0003,32.3098,32.6211, 32.9353,33.2518,33.5707,33.8914,34.215, 34.5406,34.8687,35.1993,35.5322,35.8674 ,36.2054,36.5461,36.8892,37.2351, 37.5835,37.9344,38.2378)
FOOTPRINT_POINT_LONGITUDE = (48.4106,47.7693,46.9785,46.4891, 45.8875,45.1728,44.6447,44.3707,44.4047 ,44.4374,44.4696,44.5007,44.531,44.5605 ,44.5891,44.6172,44.6436,44.6696,44.695 ,44.719,44.7439,44.7673,44.7889,44.8121 ,44.8337,44.8546,44.8754,44.8953, 44.9149,44.9338,44.9522,44.9705,44.9887 ,45.0045,45.0226,45.0388,45.0553,45.071 ,45.0872,45.1023,45.1168,45.1311,45.152 ,45.1728,45.1854,45.1983,45.2167, 45.2408,45.2642,45.2859,45.3071,45.3203 ,45.6552,46.1169,46.7457,47.2277, 47.5703,47.5966,47.6131,47.6364,47.6607 ,47.6789,47.7038,47.721,47.7352,47.7486 ,47.7707,47.7923,47.8143,47.8288, 47.8439,47.8591,47.8822,47.8982,47.9143 ,47.9307,47.9478,47.9649,47.9821, 47.9995,48.0176,48.0359,48.0544,48.073, 48.092,48.1112,48.131,48.151,48.172, 48.193,48.2146,48.2367,48.2593,48.282, 48.3057,48.3302,48.3551,48.3805,48.4067 ,48.4106)
ORBIT_NUMBER = 2985
ORBITAL_ECCENTRICITY = 0.573
ORBITAL_INCLINATION = 86.62
ORBITAL_SEMIMAJOR_AXIS = 8623.78
PERIAPSIS_ALTITUDE = 291.08
PERIAPSIS_ARGUMENT_ANGLE = 193.88
PERIAPSIS_TIME = 2006-05-08T12:19:25.000Z
SPACECRAFT_ORIENTATION = (0.0,-1.0,0.0)
^MEX_ORIENTATION_DESC = "MEX_ORIENTATION_DESC.TXT"
SPACECRAFT_POINTING_MODE = NADIR
^MEX_POINTING_DESC = "MEX_POINTING_DESC.TXT"
RIGHT_ASCENSION = -1e+32
DECLINATION = -1e+32
OFFSET_ANGLE = -1e+32
SPACECRAFT_SOLAR_DISTANCE = 2.47494e+08
TARGET_NAME = MARS
/* CAMERA DATA ELEMENTS */
DETECTOR_TEMPERATURE = 18.3705
FOCAL_PLANE_TEMPERATURE = 8.5833
INST_CMPRS_NAME = "DISCRETE COSINE TRANSFORMATION (DCT)"
INST_CMPRS_RATIO = 8.59827
INST_CMPRS_QUALITY = 0
INST_CMPRS_QUANTZ_TBL_ID = 0
INSTRUMENT_TEMPERATURE = 11.4379
LENS_TEMPERATURE = 8.7872
MACROPIXEL_SIZE = 4
MISSING_FRAMES = 0
PIXEL_SUBSAMPLING_FLAG = N
SIGNAL_CHAIN_ID = 2
/* RADIOMETRIC DATA ELEMENTS */
BANDWIDTH = 88.0
CENTER_FILTER_WAVELENGTH = 538.0
RADIANCE_OFFSET = 0.665632
RADIANCE_SCALING_FACTOR = 0.00506001
REFLECTANCE_SCALING_FACTOR = 0.000266851
MEX:REFLECTANCE_OFFSET = 0.0351036
/* IMAGE OBJECT DEFINITIONS */
OBJECT = IMAGE
  INTERCHANGE_FORMAT = BINARY
  LINES = 8885
  LINE_SAMPLES = 1887
  SAMPLE_TYPE = UNSIGNED_INTEGER
  SAMPLE_BITS = 8
  BANDS = 1
  BAND_STORAGE_TYPE = BAND_SEQUENTIAL
  MAXIMUM = 255
  MEAN = 127.883
  MINIMUM = 1
  STANDARD_DEVIATION = 18.5633
END_OBJECT = IMAGE
/* MAP OBJECT DEFINITIONS */
OBJECT = IMAGE_MAP_PROJECTION
  ^DATA_SET_MAP_PROJECTION_CATALOG= "DSMAP.CAT"
  A_AXIS_RADIUS = 3396.0
  B_AXIS_RADIUS = 3396.0
  C_AXIS_RADIUS = 3396.0
  CENTER_LATITUDE = 0.0
  CENTER_LONGITUDE = 46.0
  COORDINATE_SYSTEM_NAME = PLANETOGRAPHIC
  COORDINATE_SYSTEM_TYPE = "BODY-FIXED ROTATING"
  EASTERNMOST_LONGITUDE = 48.4106
  FIRST_STANDARD_PARALLEL = "N/A"
  LINE_FIRST_PIXEL = 1
  LINE_LAST_PIXEL = 8885
  LINE_PROJECTION_OFFSET = 22670.125
  MAP_PROJECTION_ROTATION = 0.0
  MAP_PROJECTION_TYPE = SINUSOIDAL
  MAP_RESOLUTION = 592.713803866667
  MAP_SCALE = 0.1
  MAXIMUM_LATITUDE = 38.244
  MINIMUM_LATITUDE = 23.2579
  POSITIVE_LONGITUDE_DIRECTION = EAST
  REFERENCE_LATITUDE = "N/A"
  REFERENCE_LONGITUDE = "N/A"
  SAMPLE_FIRST_PIXEL = 1
  SAMPLE_LAST_PIXEL = 1887
  SAMPLE_PROJECTION_OFFSET = 765.875
  SECOND_STANDARD_PARALLEL = "N/A"
  WESTERNMOST_LONGITUDE = 44.3707
END_OBJECT = IMAGE_MAP_PROJECTION
/* The JPEG2000 image data file associated with this label. */
OBJECT = COMPRESSED_FILE
  FILE_NAME = "H2985_0000_GR3.JP2"
  RECORD_TYPE = UNDEFINED
  FILE_RECORDS = UNK
  ENCODING_TYPE = "JP2"
  INTERCHANGE_FORMAT = BINARY
  UNCOMPRESSED_FILE_NAME = "H2985_0000_GR3.IMG"
  REQUIRED_STORAGE_BYTES = "16784865"
  ^DESCRIPTION = "JP2INFO.TXT"
END_OBJECT = COMPRESSED_FILE
END
