PDS_VERSION_ID = PDS3
/* FILE DATA ELEMENTS */
RECORD_TYPE = STREAM
/* POINTERS TO DATA OBJECTS */
^COMPRESSED_FILE = "H2985_0000_IR3.JP2"
/* IDENTIFICATION DATA ELEMENTS */
DATA_SET_ID = "MEX-M-HRSC-5-REFDR-MAPPROJECTED-V3.0"
DATA_SET_NAME = "MARS EXPRESS HRSC MAP PROJECTED REFDR V3.0"
DETECTOR_ID = MEX_HRSC_IR
EVENT_TYPE = "MARS-REGIONAL-MAPPING-Te-Im-Fl"
INSTRUMENT_HOST_ID = MEX
INSTRUMENT_HOST_NAME = "MARS EXPRESS"
INSTRUMENT_ID = HRSC
INSTRUMENT_NAME = "HIGH RESOLUTION STEREO CAMERA"
MISSION_NAME = "MARS EXPRESS"
MISSION_PHASE_NAME = ME_Phase_3
PROCESSING_LEVEL_ID = 3
PRODUCT_CREATION_TIME = 2016-04-08T13:52:43.000Z
PRODUCT_ID = "H2985_0000_IR3.JP2"
RELEASE_ID = 0036
REVISION_ID = 0000
/* QUALITY DATA ELEMENTS */
DATA_QUALITY_ID = 2
DATA_QUALITY_DESC = "Data calculated based on photogrammetrically improved orbit and attitude data"
/* TIME DATA ELEMENTS */
SPACECRAFT_CLOCK_START_COUNT = "1/0095169756.08254"
SPACECRAFT_CLOCK_STOP_COUNT = "1/0095170228.22147"
START_TIME = 2006-05-08T12:03:09.562Z
STOP_TIME = 2006-05-08T12:08:42.190Z
/* ORBITAL DATA ELEMENTS */
ASCENDING_NODE_LONGITUDE = 165.63
MAXIMUM_RESOLUTION = 106.9
FOOTPRINT_POINT_LATITUDE = (38.303,38.3069,38.306,38.2997,38.2903, 38.2735,38.2629,38.199,37.8595,37.5159, 37.1712,36.8291,36.4882,36.1502,35.8152 ,35.482,35.1505,34.6563,34.3303,34.0054 ,33.6841,33.365,32.8871,32.5758,32.1079 ,31.7992,31.4898,31.1871,30.8716, 30.5699,30.2725,29.976,29.6811,29.3877, 29.0973,28.8082,28.5209,28.2367,27.9534 ,27.5305,27.1116,26.8355,26.5619, 26.1511,25.8813,25.3469,24.6849,24.1642 ,23.6496,23.2659,23.2676,23.2703, 23.2734,23.2731,23.2702,23.2679,23.7685 ,24.1601,24.5504,25.0749,25.7453, 26.0147,26.2898,26.703,27.1164,27.3923, 27.8138,28.0962,28.3812,28.6685,28.9579 ,29.2498,29.5428,29.8377,30.1343, 30.4325,30.7328,31.0481,31.3532,31.6605 ,31.9699,32.28,32.5934,32.9098,33.2285, 33.5461,33.8726,34.1963,34.5242,34.8527 ,35.1844,35.5175,36.0238,36.362,36.7033 ,37.0457,37.3921,37.909,38.2507,38.303)
FOOTPRINT_POINT_LONGITUDE = (48.1431,47.3299,46.9448,46.2606, 45.7051,45.0212,44.6787,44.094,44.1338, 44.1723,44.2106,44.2481,44.2842,44.3194 ,44.354,44.3875,44.4198,44.4662,44.4962 ,44.525,44.5536,44.5816,44.6207,44.6478 ,44.6852,44.7096,44.7323,44.7563, 44.7798,44.8014,44.8232,44.8442,44.8645 ,44.8841,44.9038,44.923,44.9417,44.9602 ,44.9777,45.0031,45.0278,45.0439,45.06, 45.082,45.0973,45.1265,45.1605,45.1865, 45.2117,45.2292,45.5234,45.9321,46.4991 ,46.93,47.2701,47.6632,47.6935,47.7122, 47.7332,47.7624,47.7986,47.8139,47.828, 47.8505,47.8754,47.8933,47.9188,47.9366 ,47.9542,47.9721,47.9902,48.0084, 48.0274,48.0466,48.0664,48.0868,48.1072 ,48.1292,48.1504,48.172,48.194,48.217, 48.2399,48.263,48.2866,48.3121,48.3352, 48.3612,48.3869,48.4138,48.441,48.4691, 48.5115,48.5419,48.5724,48.6043,48.6363 ,48.6858,48.7193,48.1431)
ORBIT_NUMBER = 2985
ORBITAL_ECCENTRICITY = 0.573
ORBITAL_INCLINATION = 86.62
ORBITAL_SEMIMAJOR_AXIS = 8623.78
PERIAPSIS_ALTITUDE = 291.08
PERIAPSIS_ARGUMENT_ANGLE = 193.88
PERIAPSIS_TIME = 2006-05-08T12:19:25.000Z
SPACECRAFT_ORIENTATION = (0.0,-1.0,0.0)
^MEX_ORIENTATION_DESC = "MEX_ORIENTATION_DESC.TXT"
SPACECRAFT_POINTING_MODE = NADIR
^MEX_POINTING_DESC = "MEX_POINTING_DESC.TXT"
RIGHT_ASCENSION = -1e+32
DECLINATION = -1e+32
OFFSET_ANGLE = -1e+32
SPACECRAFT_SOLAR_DISTANCE = 2.47494e+08
TARGET_NAME = MARS
/* CAMERA DATA ELEMENTS */
DETECTOR_TEMPERATURE = 17.5549
FOCAL_PLANE_TEMPERATURE = 8.5833
INST_CMPRS_NAME = "DISCRETE COSINE TRANSFORMATION (DCT)"
INST_CMPRS_RATIO = 8.48728
INST_CMPRS_QUALITY = 0
INST_CMPRS_QUANTZ_TBL_ID = 0
INSTRUMENT_TEMPERATURE = 11.4379
LENS_TEMPERATURE = 8.7872
MACROPIXEL_SIZE = 4
MISSING_FRAMES = 1
PIXEL_SUBSAMPLING_FLAG = N
SIGNAL_CHAIN_ID = 2
/* RADIOMETRIC DATA ELEMENTS */
BANDWIDTH = 81.0
CENTER_FILTER_WAVELENGTH = 955.5
RADIANCE_OFFSET = 0.549849
RADIANCE_SCALING_FACTOR = 0.00564737
REFLECTANCE_SCALING_FACTOR = 0.000746279
MEX:REFLECTANCE_OFFSET = 0.0726604
/* IMAGE OBJECT DEFINITIONS */
OBJECT = IMAGE
  INTERCHANGE_FORMAT = BINARY
  LINES = 8885
  LINE_SAMPLES = 1887
  SAMPLE_TYPE = UNSIGNED_INTEGER
  SAMPLE_BITS = 8
  BANDS = 1
  BAND_STORAGE_TYPE = BAND_SEQUENTIAL
  MAXIMUM = 255
  MEAN = 114.847
  MINIMUM = 1
  STANDARD_DEVIATION = 21.7206
END_OBJECT = IMAGE
/* MAP OBJECT DEFINITIONS */
OBJECT = IMAGE_MAP_PROJECTION
  ^DATA_SET_MAP_PROJECTION_CATALOG= "DSMAP.CAT"
  A_AXIS_RADIUS = 3396.0
  B_AXIS_RADIUS = 3396.0
  C_AXIS_RADIUS = 3396.0
  CENTER_LATITUDE = 0.0
  CENTER_LONGITUDE = 46.0
  COORDINATE_SYSTEM_NAME = PLANETOGRAPHIC
  COORDINATE_SYSTEM_TYPE = "BODY-FIXED ROTATING"
  EASTERNMOST_LONGITUDE = 48.7193
  FIRST_STANDARD_PARALLEL = "N/A"
  LINE_FIRST_PIXEL = 1
  LINE_LAST_PIXEL = 8885
  LINE_PROJECTION_OFFSET = 22670.125
  MAP_PROJECTION_ROTATION = 0.0
  MAP_PROJECTION_TYPE = SINUSOIDAL
  MAP_RESOLUTION = 592.713803866667
  MAP_SCALE = 0.1
  MAXIMUM_LATITUDE = 38.3069
  MINIMUM_LATITUDE = 23.2659
  POSITIVE_LONGITUDE_DIRECTION = EAST
  REFERENCE_LATITUDE = "N/A"
  REFERENCE_LONGITUDE = "N/A"
  SAMPLE_FIRST_PIXEL = 1
  SAMPLE_LAST_PIXEL = 1887
  SAMPLE_PROJECTION_OFFSET = 765.875
  SECOND_STANDARD_PARALLEL = "N/A"
  WESTERNMOST_LONGITUDE = 44.094
END_OBJECT = IMAGE_MAP_PROJECTION
/* The JPEG2000 image data file associated with this label. */
OBJECT = COMPRESSED_FILE
  FILE_NAME = "H2985_0000_IR3.JP2"
  RECORD_TYPE = UNDEFINED
  FILE_RECORDS = UNK
  ENCODING_TYPE = "JP2"
  INTERCHANGE_FORMAT = BINARY
  UNCOMPRESSED_FILE_NAME = "H2985_0000_IR3.IMG"
  REQUIRED_STORAGE_BYTES = "16784865"
  ^DESCRIPTION = "JP2INFO.TXT"
END_OBJECT = COMPRESSED_FILE
END
