PDS_VERSION_ID = PDS3
/* FILE DATA ELEMENTS */
RECORD_TYPE = STREAM
/* POINTERS TO DATA OBJECTS */
^COMPRESSED_FILE = "H2987_0000_GR3.JP2"
/* IDENTIFICATION DATA ELEMENTS */
DATA_SET_ID = "MEX-M-HRSC-5-REFDR-MAPPROJECTED-V3.0"
DATA_SET_NAME = "MARS EXPRESS HRSC MAP PROJECTED REFDR V3.0"
DETECTOR_ID = MEX_HRSC_GREEN
EVENT_TYPE = "MARS-REGIONAL-MAPPING-Vo-Mw"
INSTRUMENT_HOST_ID = MEX
INSTRUMENT_HOST_NAME = "MARS EXPRESS"
INSTRUMENT_ID = HRSC
INSTRUMENT_NAME = "HIGH RESOLUTION STEREO CAMERA"
MISSION_NAME = "MARS EXPRESS"
MISSION_PHASE_NAME = ME_Phase_3
PROCESSING_LEVEL_ID = 3
PRODUCT_CREATION_TIME = 2016-04-08T13:52:43.000Z
PRODUCT_ID = "H2987_0000_GR3.JP2"
RELEASE_ID = 0036
REVISION_ID = 0000
/* QUALITY DATA ELEMENTS */
DATA_QUALITY_ID = 1
DATA_QUALITY_DESC = "Data calculated based on original SPICE kernels"
/* TIME DATA ELEMENTS */
SPACECRAFT_CLOCK_START_COUNT = "1/0095218392.08250"
SPACECRAFT_CLOCK_STOP_COUNT = "1/0095218736.41547"
START_TIME = 2006-05-09T01:34:26.633Z
STOP_TIME = 2006-05-09T01:38:11.225Z
/* ORBITAL DATA ELEMENTS */
ASCENDING_NODE_LONGITUDE = 165.59
MAXIMUM_RESOLUTION = 150.5
FOOTPRINT_POINT_LATITUDE = (27.6528,27.652,27.6478,27.6437,27.6383 ,27.6316,27.3694,27.1215,26.873,26.6238 ,26.374,26.1235,25.8725,25.6208,25.3685 ,25.1156,24.8621,24.6079,24.3532, 24.0978,23.8418,23.5853,23.199,22.9414, 22.6824,22.423,22.1631,21.9026,21.6415, 21.3797,21.1174,20.8545,20.591,20.327, 20.0623,19.6642,19.2726,19.0112,18.6255 ,18.3681,18.115,17.8614,17.6097,17.3604 ,16.9868,16.7417,16.4962,16.2516,15.769 ,15.2915,14.8776,14.8799,14.8821,14.883 ,14.8838,15.1238,15.8403,16.323,16.569, 16.8147,17.1852,17.435,17.6844,18.0645, 18.318,18.7034,18.9609,19.3525,19.6139, 19.8789,20.1443,20.4093,20.6734,20.937, 21.2002,21.4628,21.7249,21.9862,22.2469 ,22.5071,22.7667,23.0257,23.2841, 23.5418,23.7992,24.0557,24.3117,24.567, 24.8216,25.0759,25.3294,25.5824,25.8347 ,26.0863,26.3374,26.5878,26.8377,27.087 ,27.3357,27.6528)
FOOTPRINT_POINT_LONGITUDE = (210.219,209.856,209.199,208.807, 208.413,208.017,207.814,207.828,207.842 ,207.856,207.87,207.883,207.896,207.909 ,207.922,207.935,207.947,207.96,207.972 ,207.984,207.996,208.008,208.024, 208.038,208.048,208.059,208.07,208.08, 208.091,208.101,208.112,208.122,208.132 ,208.142,208.152,208.166,208.18,208.189 ,208.202,208.21,208.218,208.226,208.234 ,208.242,208.253,208.261,208.268, 208.275,208.288,208.301,208.391,208.699 ,209.131,209.384,209.887,210.013, 210.033,210.047,210.054,210.061,210.072 ,210.079,210.087,210.098,210.106, 210.118,210.126,210.138,210.147,210.155 ,210.164,210.172,210.181,210.19,210.199 ,210.208,210.217,210.226,210.235, 210.244,210.253,210.263,210.272,210.281 ,210.291,210.3,210.31,210.32,210.33, 210.339,210.349,210.359,210.369,210.379 ,210.389,210.4,210.41,210.42,210.431, 210.219)
ORBIT_NUMBER = 2987
ORBITAL_ECCENTRICITY = 0.572
ORBITAL_INCLINATION = 86.62
ORBITAL_SEMIMAJOR_AXIS = 8619.75
PERIAPSIS_ALTITUDE = 291.78
PERIAPSIS_ARGUMENT_ANGLE = 193.48
PERIAPSIS_TIME = 2006-05-09T01:45:38.000Z
SPACECRAFT_ORIENTATION = (0.0,-1.0,0.0)
^MEX_ORIENTATION_DESC = "MEX_ORIENTATION_DESC.TXT"
SPACECRAFT_POINTING_MODE = ACROSSTRACK
^MEX_POINTING_DESC = "MEX_POINTING_DESC.TXT"
RIGHT_ASCENSION = -1e+32
DECLINATION = -1e+32
OFFSET_ANGLE = -0.7
SPACECRAFT_SOLAR_DISTANCE = 2.47534e+08
TARGET_NAME = MARS
/* CAMERA DATA ELEMENTS */
DETECTOR_TEMPERATURE = 18.3705
FOCAL_PLANE_TEMPERATURE = 7.9716
INST_CMPRS_NAME = "DISCRETE COSINE TRANSFORMATION (DCT)"
INST_CMPRS_RATIO = 12.9485
INST_CMPRS_QUALITY = 0
INST_CMPRS_QUANTZ_TBL_ID = 0
INSTRUMENT_TEMPERATURE = 11.0301
LENS_TEMPERATURE = 8.1755
MACROPIXEL_SIZE = 8
MISSING_FRAMES = 0
PIXEL_SUBSAMPLING_FLAG = N
SIGNAL_CHAIN_ID = 2
/* RADIOMETRIC DATA ELEMENTS */
BANDWIDTH = 88.0
CENTER_FILTER_WAVELENGTH = 538.0
RADIANCE_OFFSET = 0.915012
RADIANCE_SCALING_FACTOR = 0.00383747
REFLECTANCE_SCALING_FACTOR = 0.000202442
MEX:REFLECTANCE_OFFSET = 0.0482706
/* IMAGE OBJECT DEFINITIONS */
OBJECT = IMAGE
  INTERCHANGE_FORMAT = BINARY
  LINES = 7560
  LINE_SAMPLES = 1411
  SAMPLE_TYPE = UNSIGNED_INTEGER
  SAMPLE_BITS = 8
  BANDS = 1
  BAND_STORAGE_TYPE = BAND_SEQUENTIAL
  MAXIMUM = 255
  MEAN = 130.562
  MINIMUM = 1
  STANDARD_DEVIATION = 20.7222
END_OBJECT = IMAGE
/* MAP OBJECT DEFINITIONS */
OBJECT = IMAGE_MAP_PROJECTION
  ^DATA_SET_MAP_PROJECTION_CATALOG= "DSMAP.CAT"
  A_AXIS_RADIUS = 3396.0
  B_AXIS_RADIUS = 3396.0
  C_AXIS_RADIUS = 3396.0
  CENTER_LATITUDE = 0.0
  CENTER_LONGITUDE = 209.0
  COORDINATE_SYSTEM_NAME = PLANETOGRAPHIC
  COORDINATE_SYSTEM_TYPE = "BODY-FIXED ROTATING"
  EASTERNMOST_LONGITUDE = 210.431
  FIRST_STANDARD_PARALLEL = "N/A"
  LINE_FIRST_PIXEL = 1
  LINE_LAST_PIXEL = 7560
  LINE_PROJECTION_OFFSET = 16384.9375
  MAP_PROJECTION_ROTATION = 0.0
  MAP_PROJECTION_TYPE = SINUSOIDAL
  MAP_RESOLUTION = 592.713803866667
  MAP_SCALE = 0.1
  MAXIMUM_LATITUDE = 27.6528
  MINIMUM_LATITUDE = 14.8776
  POSITIVE_LONGITUDE_DIRECTION = EAST
  REFERENCE_LATITUDE = "N/A"
  REFERENCE_LONGITUDE = "N/A"
  SAMPLE_FIRST_PIXEL = 1
  SAMPLE_LAST_PIXEL = 1411
  SAMPLE_PROJECTION_OFFSET = 658.9375
  SECOND_STANDARD_PARALLEL = "N/A"
  WESTERNMOST_LONGITUDE = 207.814
END_OBJECT = IMAGE_MAP_PROJECTION
/* The JPEG2000 image data file associated with this label. */
OBJECT = COMPRESSED_FILE
  FILE_NAME = "H2987_0000_GR3.JP2"
  RECORD_TYPE = UNDEFINED
  FILE_RECORDS = UNK
  ENCODING_TYPE = "JP2"
  INTERCHANGE_FORMAT = BINARY
  UNCOMPRESSED_FILE_NAME = "H2987_0000_GR3.IMG"
  REQUIRED_STORAGE_BYTES = "10685503"
  ^DESCRIPTION = "JP2INFO.TXT"
END_OBJECT = COMPRESSED_FILE
END
