PDS_VERSION_ID = PDS3
/* FILE DATA ELEMENTS */
RECORD_TYPE = STREAM
/* POINTERS TO DATA OBJECTS */
^COMPRESSED_FILE = "H2989_0000_BL3.JP2"
/* IDENTIFICATION DATA ELEMENTS */
DATA_SET_ID = "MEX-M-HRSC-5-REFDR-MAPPROJECTED-V3.0"
DATA_SET_NAME = "MARS EXPRESS HRSC MAP PROJECTED REFDR V3.0"
DETECTOR_ID = MEX_HRSC_BLUE
EVENT_TYPE = "MARS-REGIONAL-STEREO-Im-La"
INSTRUMENT_HOST_ID = MEX
INSTRUMENT_HOST_NAME = "MARS EXPRESS"
INSTRUMENT_ID = HRSC
INSTRUMENT_NAME = "HIGH RESOLUTION STEREO CAMERA"
MISSION_NAME = "MARS EXPRESS"
MISSION_PHASE_NAME = ME_Phase_3
PROCESSING_LEVEL_ID = 3
PRODUCT_CREATION_TIME = 2016-04-08T13:52:43.000Z
PRODUCT_ID = "H2989_0000_BL3.JP2"
RELEASE_ID = 0036
REVISION_ID = 0000
/* QUALITY DATA ELEMENTS */
DATA_QUALITY_ID = 2
DATA_QUALITY_DESC = "Data calculated based on photogrammetrically improved orbit and attitude data"
/* TIME DATA ELEMENTS */
SPACECRAFT_CLOCK_START_COUNT = "1/0095267058.09054"
SPACECRAFT_CLOCK_STOP_COUNT = "1/0095267284.01123"
START_TIME = 2006-05-09T15:05:15.871Z
STOP_TIME = 2006-05-09T15:07:42.228Z
/* ORBITAL DATA ELEMENTS */
ASCENDING_NODE_LONGITUDE = 165.55
MAXIMUM_RESOLUTION = 56.2
FOOTPRINT_POINT_LATITUDE = (13.4177,13.4194,13.421,13.422,13.4229, 13.4236,13.2214,13.0172,12.8139,12.6144 ,12.4148,12.2145,11.9142,11.719,11.5234 ,11.328,11.1332,10.8425,10.6514,10.4597 ,10.2671,10.0753,9.88363,9.69154, 9.50102,9.30894,9.11777,8.92502,8.73115 ,8.53636,8.34284,8.14973,7.95629, 7.76268,7.56896,7.37517,7.18131,6.98722 ,6.79289,6.50258,6.09448,5.76802, 5.60451,5.44087,5.19521,5.03141,4.8675, 4.70345,4.53918,4.29293,4.1286,4.12238, 4.12073,4.11973,4.11803,4.11793,4.36432 ,4.52852,4.69262,4.8566,5.02052,5.18442 ,5.34823,5.5119,5.7572,5.92055,6.16568, 6.49254,6.68465,6.87828,7.07236,7.36333 ,7.5572,7.751,7.94459,8.13801,8.33122, 8.52434,8.71725,8.91001,9.1026,9.29499, 9.48718,9.67981,9.96888,10.1604,10.4474 ,10.6389,10.8295,11.1217,11.3178, 11.5133,11.708,11.9017,12.1018,12.402, 12.6019,12.8014,13.1069,13.4177)
FOOTPRINT_POINT_LONGITUDE = (13.9106,13.623,13.3062,13.0756,12.8449 ,12.5845,12.4644,12.4683,12.4721, 12.4757,12.4792,12.4834,12.4892,12.4925 ,12.4961,12.499,12.5003,12.5048,12.5078 ,12.5115,12.5167,12.5197,12.5225, 12.5256,12.5254,12.5278,12.5282,12.5311 ,12.5358,12.5417,12.5451,12.5474, 12.5499,12.5525,12.5549,12.5572,12.5592 ,12.5614,12.5638,12.5671,12.572,12.5749 ,12.5766,12.5783,12.5809,12.5824, 12.5839,12.5855,12.5873,12.5893,12.5907 ,12.7846,13.104,13.2975,13.6159,13.8128 ,13.8168,13.8196,13.8225,13.8253, 13.8281,13.8311,13.8342,13.8372,13.8417 ,13.8446,13.8495,13.8565,13.8601, 13.8629,13.8665,13.8722,13.8762,13.8803 ,13.8844,13.8884,13.8925,13.8966, 13.9007,13.9049,13.9091,13.9133,13.9174 ,13.9224,13.9306,13.9347,13.9411, 13.9458,13.9496,13.9586,13.9638,13.9683 ,13.972,13.9746,13.98,13.9879,13.9932, 13.9983,14.0065,13.9106)
ORBIT_NUMBER = 2989
ORBITAL_ECCENTRICITY = 0.572
ORBITAL_INCLINATION = 86.61
ORBITAL_SEMIMAJOR_AXIS = 8621.71
PERIAPSIS_ALTITUDE = 292.11
PERIAPSIS_ARGUMENT_ANGLE = 193.13
PERIAPSIS_TIME = 2006-05-09T15:11:59.000Z
SPACECRAFT_ORIENTATION = (0.0,-1.0,0.0)
^MEX_ORIENTATION_DESC = "MEX_ORIENTATION_DESC.TXT"
SPACECRAFT_POINTING_MODE = ACROSSTRACK
^MEX_POINTING_DESC = "MEX_POINTING_DESC.TXT"
RIGHT_ASCENSION = -1e+32
DECLINATION = -1e+32
OFFSET_ANGLE = -0.1
SPACECRAFT_SOLAR_DISTANCE = 2.47573e+08
TARGET_NAME = MARS
/* CAMERA DATA ELEMENTS */
DETECTOR_TEMPERATURE = 18.1666
FOCAL_PLANE_TEMPERATURE = 7.7677
INST_CMPRS_NAME = "DISCRETE COSINE TRANSFORMATION (DCT)"
INST_CMPRS_RATIO = 9.72225
INST_CMPRS_QUALITY = 0
INST_CMPRS_QUANTZ_TBL_ID = 0
INSTRUMENT_TEMPERATURE = 11.0301
LENS_TEMPERATURE = 8.3794
MACROPIXEL_SIZE = 4
MISSING_FRAMES = 0
PIXEL_SUBSAMPLING_FLAG = N
SIGNAL_CHAIN_ID = 2
/* RADIOMETRIC DATA ELEMENTS */
BANDWIDTH = 76.0
CENTER_FILTER_WAVELENGTH = 444.0
RADIANCE_OFFSET = 0.300255
RADIANCE_SCALING_FACTOR = 0.00165718
REFLECTANCE_SCALING_FACTOR = 0.000104359
MEX:REFLECTANCE_OFFSET = 0.0189083
/* IMAGE OBJECT DEFINITIONS */
OBJECT = IMAGE
  INTERCHANGE_FORMAT = BINARY
  LINES = 11036
  LINE_SAMPLES = 1893
  SAMPLE_TYPE = UNSIGNED_INTEGER
  SAMPLE_BITS = 8
  BANDS = 1
  BAND_STORAGE_TYPE = BAND_SEQUENTIAL
  MAXIMUM = 255
  MEAN = 102.108
  MINIMUM = 1
  STANDARD_DEVIATION = 28.9659
END_OBJECT = IMAGE
/* MAP OBJECT DEFINITIONS */
OBJECT = IMAGE_MAP_PROJECTION
  ^DATA_SET_MAP_PROJECTION_CATALOG= "DSMAP.CAT"
  A_AXIS_RADIUS = 3396.0
  B_AXIS_RADIUS = 3396.0
  C_AXIS_RADIUS = 3396.0
  CENTER_LATITUDE = 0.0
  CENTER_LONGITUDE = 13.0
  COORDINATE_SYSTEM_NAME = PLANETOGRAPHIC
  COORDINATE_SYSTEM_TYPE = "BODY-FIXED ROTATING"
  EASTERNMOST_LONGITUDE = 14.0065
  FIRST_STANDARD_PARALLEL = "N/A"
  LINE_FIRST_PIXEL = 1
  LINE_LAST_PIXEL = 11036
  LINE_PROJECTION_OFFSET = 15920.375
  MAP_PROJECTION_ROTATION = 0.0
  MAP_PROJECTION_TYPE = SINUSOIDAL
  MAP_RESOLUTION = 1185.42760773333
  MAP_SCALE = 0.05
  MAXIMUM_LATITUDE = 13.4236
  MINIMUM_LATITUDE = 4.11793
  POSITIVE_LONGITUDE_DIRECTION = EAST
  REFERENCE_LATITUDE = "N/A"
  REFERENCE_LONGITUDE = "N/A"
  SAMPLE_FIRST_PIXEL = 1
  SAMPLE_LAST_PIXEL = 1893
  SAMPLE_PROJECTION_OFFSET = 682.375
  SECOND_STANDARD_PARALLEL = "N/A"
  WESTERNMOST_LONGITUDE = 12.4644
END_OBJECT = IMAGE_MAP_PROJECTION
/* The JPEG2000 image data file associated with this label. */
OBJECT = COMPRESSED_FILE
  FILE_NAME = "H2989_0000_BL3.JP2"
  RECORD_TYPE = UNDEFINED
  FILE_RECORDS = UNK
  ENCODING_TYPE = "JP2"
  INTERCHANGE_FORMAT = BINARY
  UNCOMPRESSED_FILE_NAME = "H2989_0000_BL3.IMG"
  REQUIRED_STORAGE_BYTES = "20910078"
  ^DESCRIPTION = "JP2INFO.TXT"
END_OBJECT = COMPRESSED_FILE
END
